- Раздел: Тесты фототехники
- Дата съёмки: 30.10.2011 12:15
- Дата загрузки фото: 02.11.2011 14:22
- Оригинальная фотография: 3456 x 3456 (18,9 Мб)
- Технические характеристики:
- Фотоаппарат: Canon EOS 7D
- Выдержка: 1/250
- Гиперфокальное расстояние: inf m
- Диафрагма: 4,0
- Светочувствительность: 200
- Фокусное расстояние: 35,0 mm (35 mm equivalent: 70,0 mm)
- Экспокоррекция: +2/3
- Полный EXIF
- Adobe
- ColorTransform: YCbCr
- CanonVRD
- AngleAdj: 0
- AutoLightingOptimizer: n/a
- AutoLightingOptimizerOn: No
- BlueCurveLimits: 255 0 255 0
- BlueCurvePoints: (0,0) (255,255)
- BrightnessAdj: 0
- CheckMark: Clear
- ChromaticAberration: 100%
- ChromaticAberrationBlue: 0
- ChromaticAberrationOn: No
- ChromaticAberrationRed: 0
- ChrominanceNR_TIFF_JPEG: 0
- ChrominanceNoiseReduction: 0
- ColorBlur: No
- ColorToneAdj: 0
- ConstrainedCropHeight: 0
- ConstrainedCropWidth: 0
- ContrastAdj: 0
- CropActive: No
- CropAspectRatio: Free
- CropHeight: 0
- CropLeft: 0
- CropTop: 0
- CropWidth: 0
- CustomContrast: 0
- CustomLinear: No
- CustomOutputHighlightPoint: 0
- CustomOutputShadowPoint: 0
- CustomRawHighlight: 0
- CustomRawHighlightPoint: 0
- CustomRawShadow: 0
- CustomRawShadowPoint: 0
- CustomSharpness: 0
- DistortionCorrection: 100%
- DistortionCorrectionOn: No
- DynamicRangeMax: 4095
- DynamicRangeMin: 0
- FaithfulOutputHighlightPoint: 0
- FaithfulOutputShadowPoint: 0
- FaithfulRawColorTone: 0
- FaithfulRawContrast: 0
- FaithfulRawHighlight: 0
- FaithfulRawHighlightPoint: 0
- FaithfulRawLinear: No
- FaithfulRawSaturation: 0
- FaithfulRawShadow: 0
- FaithfulRawShadowPoint: 0
- FaithfulRawSharpness: 0
- GreenCurveLimits: 255 0 255 0
- GreenCurvePoints: (0,0) (255,255)
- IsCustomPictureStyle: No
- LandscapeOutputHighlightPoint: 0
- LandscapeOutputShadowPoint: 0
- LandscapeRawColorTone: 0
- LandscapeRawContrast: 0
- LandscapeRawHighlight: 0
- LandscapeRawHighlightPoint: 0
- LandscapeRawLinear: No
- LandscapeRawSaturation: 0
- LandscapeRawShadow: 0
- LandscapeRawShadowPoint: 0
- LandscapeRawSharpness: 0
- LuminanceCurveLimits: 255 0 255 0
- LuminanceCurvePoints: (0,0) (255,255)
- LuminanceNR_TIFF_JPEG: 4
- LuminanceNoiseReduction: 2
- MonochromeContrast: 0
- MonochromeFilterEffect: None
- MonochromeLinear: No
- MonochromeOutputHighlightPoint: 0
- MonochromeOutputShadowPoint: 0
- MonochromeRawHighlight: 0
- MonochromeRawHighlightPoint: 0
- MonochromeRawShadow: 0
- MonochromeRawShadowPoint: 0
- MonochromeSharpness: 0
- MonochromeToningEffect: None
- NeutralOutputHighlightPoint: 0
- NeutralOutputShadowPoint: 0
- NeutralRawColorTone: 0
- NeutralRawContrast: 0
- NeutralRawHighlight: 0
- NeutralRawHighlightPoint: 0
- NeutralRawLinear: No
- NeutralRawSaturation: 0
- NeutralRawShadow: 0
- NeutralRawShadowPoint: 0
- NeutralRawSharpness: 0
- PeripheralIllumination: 100%
- PeripheralIlluminationOn: No
- PictureStyle: Standard
- PortraitOutputHighlightPoint: 0
- PortraitOutputShadowPoint: 0
- PortraitRawColorTone: 0
- PortraitRawContrast: 0
- PortraitRawHighlight: 0
- PortraitRawHighlightPoint: 0
- PortraitRawLinear: No
- PortraitRawSaturation: 0
- PortraitRawShadow: 0
- PortraitRawShadowPoint: 0
- PortraitRawSharpness: 0
- RGBCurveLimits: 255 0 255 0
- RGBCurvePoints: (0,0) (255,255)
- RawBrightnessAdj: 0,00
- RawColorAdj: Shot Settings
- RawCustomSaturation: 0
- RawCustomTone: 0
- RedCurveLimits: 255 0 255 0
- RedCurvePoints: (0,0) (255,255)
- Rotation: 0
- SaturationAdj: 100
- SharpnessAdj: 0
- StandardOutputHighlightPoint: 0
- StandardOutputShadowPoint: 0
- StandardRawColorTone: 0
- StandardRawContrast: 0
- StandardRawHighlight: 0
- StandardRawHighlightPoint: 0
- StandardRawLinear: No
- StandardRawSaturation: 0
- StandardRawShadow: 0
- StandardRawShadowPoint: 0
- StandardRawSharpness: 0
- ToneCurveActive: Yes
- ToneCurveInterpolation: Curve
- ToneCurveMode: RGB
- ToneCurveProperty: Shot Settings
- VRDVersion: 3,91
- WBAdjColorTemp: 5200
- WBAdjRGBLevels: 0 0 0
- WBFineTuneActive: No
- WBFineTuneSaturation: 0
- WBFineTuneTone: 0
- WhiteBalanceAdj: Shot Settings
- WorkColorSpace: sRGB
- Composite
- Aperture: 4,0
- CircleOfConfusion: 0,015 mm
- DOF: inf (0,00 m - inf)
- FOV: 28,0 deg
- FocalLength35efl: 35,0 mm (35 mm equivalent: 70,0 mm)
- HyperfocalDistance: inf m
- ScaleFactor35efl: 2,0
- ShutterSpeed: 1/250
- ExifIFD
- ApertureValue: 4,0
- ColorSpace: sRGB
- CreateDate: 2011:10:30 12:15:10
- CustomRendered: Normal
- DateTimeOriginal: 2011:10:30 12:15:10
- ExifImageHeight: 3456
- ExifImageWidth: 3456
- ExposureCompensation: +2/3
- ExposureMode: Auto
- ExposureProgram: Aperture-priority AE
- ExposureTime: 1/250
- FNumber: 4,0
- Flash: Off, Did not fire
- FocalLength: 35,0 mm
- ISO: 200
- MaxApertureValue: 1,4
- MeteringMode: Multi-segment
- SceneCaptureType: Standard
- ShutterSpeedValue: 1/250
- SubjectDistance: 4294967295 m
- WhiteBalance: Auto
- ICC-header
- ICC-meas
- ICC-view
- IFD0
- Artist: Max Glushkov
- Make: Canon
- Model: Canon EOS 7D
- ModifyDate: 2011:11:02 13:18:23
- Orientation: Horizontal (normal)
- IFD1
- IPTC
- By-line: Max Glushkov
- DateCreated: 2011:10:30
- System
- XMP-aux
- Firmware: 1.2.2
- FlashCompensation: 0
- ImageNumber: 0
- Lens: EF35mm f/1.4L USM
- LensID: 180
- LensInfo: 35mm f/?
- SerialNumber: 880501249
- XMP-crs
- AlreadyApplied: True
- BlueHue: 0
- BlueSaturation: 0
- Brightness: +54
- ChromaticAberrationB: 0
- ChromaticAberrationR: 0
- Clarity: 0
- ColorNoiseReduction: 25
- ColorNoiseReductionDetail: 50
- Contrast: +55
- ConvertToGrayscale: False
- CropAngle: 0
- CropBottom: 1
- CropHeight: 1
- CropLeft: 0.169529
- CropRight: 0.836196
- CropUnit: Unknown (3)
- CropWidth: 1
- Defringe: 0
- Exposure: 0.00
- FillLight: 0
- GrainAmount: 0
- GreenHue: 0
- GreenSaturation: 0
- HasCrop: True
- HasSettings: True
- HighlightRecovery: 25
- HueAdjustmentAqua: 0
- HueAdjustmentBlue: 0
- HueAdjustmentGreen: 0
- HueAdjustmentMagenta: 0
- HueAdjustmentOrange: 0
- HueAdjustmentPurple: 0
- HueAdjustmentRed: 0
- HueAdjustmentYellow: 0
- LuminanceAdjustmentAqua: 0
- LuminanceAdjustmentBlue: 0
- LuminanceAdjustmentGreen: 0
- LuminanceAdjustmentMagenta: 0
- LuminanceAdjustmentOrange: 0
- LuminanceAdjustmentPurple: 0
- LuminanceAdjustmentRed: 0
- LuminanceAdjustmentYellow: 0
- LuminanceSmoothing: 0
- ParametricDarks: 0
- ParametricHighlightSplit: 75
- ParametricHighlights: 0
- ParametricLights: 0
- ParametricMidtoneSplit: 50
- ParametricShadowSplit: 25
- ParametricShadows: 0
- PostCropVignetteAmount: 0
- ProcessVersion: 5.7
- RawFileName: IMG_8046.CR2
- RedHue: 0
- RedSaturation: 0
- Saturation: 0
- SaturationAdjustmentAqua: 0
- SaturationAdjustmentBlue: 0
- SaturationAdjustmentGreen: 0
- SaturationAdjustmentMagenta: 0
- SaturationAdjustmentOrange: 0
- SaturationAdjustmentPurple: 0
- SaturationAdjustmentRed: 0
- SaturationAdjustmentYellow: 0
- ShadowTint: 0
- Shadows: 16
- SharpenDetail: 25
- SharpenEdgeMasking: 0
- SharpenRadius: +1.0
- Sharpness: 25
- SplitToningBalance: 0
- SplitToningHighlightHue: 0
- SplitToningHighlightSaturation: 0
- SplitToningShadowHue: 0
- SplitToningShadowSaturation: 0
- Temperature: 5500
- Tint: +10
- ToneCurve: 0, 0, 32, 22, 64, 56, 128, 128, 192, 196, 255, 255
- ToneCurveName: Medium Contrast
- Version: 6.0
- Vibrance: +21
- VignetteAmount: 0
- WhiteBalance: Daylight
- XMP-dc
- Creator: Max Glushkov
- Format: image/jpeg
- XMP-xmp
- CreateDate: 2011:10:30 12:15:10.78+04:00
- ModifyDate: 2011:11:02 13:18:23+04:00
- Rating: 0
- XMP-xmpMM