- Раздел: Семья, личное
- Дата съёмки: 11.11.2011 15:23
- Дата загрузки фото: 17.01.2012 22:57
- Оригинальная фотография: 2152 x 2690 (2,3 Мб)
- Технические характеристики:
- Фотоаппарат: Nikon D700
- Выдержка: 1/320
- Гиперфокальное расстояние: inf m
- Диафрагма: 2,8
- Светочувствительность: 200
- Фокусное расстояние: 100,0 mm (35 mm equivalent: 100,0 mm)
- Полный EXIF
- Adobe
- ColorTransform: YCbCr
- Composite
- Aperture: 2,8
- CircleOfConfusion: 0,030 mm
- DOF: inf (0,00 m - inf)
- FOV: 20,0 deg
- FocalLength35efl: 100,0 mm (35 mm equivalent: 100,0 mm)
- HyperfocalDistance: inf m
- ScaleFactor35efl: 1,0
- ShutterSpeed: 1/320
- ExifIFD
- ApertureValue: 2,8
- CFAPattern: [Red,Green][Green,Blue]
- ColorSpace: Uncalibrated
- Contrast: Normal
- CreateDate: 2011:11:11 15:23:17
- CustomRendered: Normal
- DateTimeOriginal: 2011:11:11 15:23:17
- DigitalZoomRatio: 1
- ExifImageHeight: 2690
- ExifImageWidth: 2152
- ExposureCompensation: 0
- ExposureMode: Auto
- ExposureProgram: Aperture-priority AE
- ExposureTime: 1/320
- FNumber: 2,8
- Flash: No Flash
- FocalLength: 100,0 mm
- FocalLengthIn35mmFormat: 100 mm
- GainControl: None
- ISO: 200
- LensInfo: 80-200mm f/2.8
- LensModel: 80.0-200.0 mm f/2.8
- LightSource: Unknown
- MaxApertureValue: 2,8
- MeteringMode: Multi-segment
- Saturation: Normal
- SceneCaptureType: Standard
- SceneType: Directly photographed
- SensingMethod: One-chip color area
- SerialNumber: 2329436
- Sharpness: Normal
- ShutterSpeedValue: 1/320
- SubjectDistance: 2,99 m
- SubjectDistanceRange: Unknown
- WhiteBalance: Auto
- ICC-header
- IFD0
- Artist: Andrey Mikhalenkov
- BitsPerSample: 8 8 8
- Copyright: mikha_a
- ImageHeight: 2690
- ImageWidth: 2152
- Make: NIKON CORPORATION
- Model: NIKON D700
- ModifyDate: 2012:01:17 20:56:46
- Orientation: Horizontal (normal)
- PhotometricInterpretation: RGB
- SamplesPerPixel: 3
- IFD1
- IPTC
- By-line: Andrey Mikhalenkov
- CopyrightNotice: mikha_a
- DateCreated: 2011:11:11
- System
- XMP-aux
- ApproximateFocusDistance: 2,99
- ImageNumber: 17385
- Lens: 80.0-200.0 mm f/2.8
- LensID: 83
- XMP-crs
- AlreadyApplied: True
- BlueHue: 0
- BlueSaturation: 0
- Brightness: +56
- CameraProfile: Camera D2X Mode 1 v4
- ChromaticAberrationB: 0
- ChromaticAberrationR: 0
- Clarity: -9
- ColorNoiseReduction: 25
- ColorNoiseReductionDetail: 50
- Contrast: +59
- ConvertToGrayscale: False
- CropAngle: 0.064337
- CropBottom: 0.965602
- CropConstrainToWarp: 1
- CropHeight: 5
- CropLeft: 0.028458
- CropRight: 0.660054
- CropTop: 0.204511
- CropUnit: Unknown (3)
- CropWidth: 4
- Defringe: 0
- Exposure: 0.00
- FillLight: 30
- GrainAmount: 0
- GreenHue: 0
- GreenSaturation: 0
- HasCrop: True
- HasSettings: True
- HighlightRecovery: 0
- HueAdjustmentAqua: 0
- HueAdjustmentBlue: 0
- HueAdjustmentGreen: 0
- HueAdjustmentMagenta: 0
- HueAdjustmentOrange: 0
- HueAdjustmentPurple: 0
- HueAdjustmentRed: 0
- HueAdjustmentYellow: 0
- LensManualDistortionAmount: 0
- LensProfileChromaticAberrationScale: 100
- LensProfileDistortionScale: 100
- LensProfileEnable: 1
- LensProfileFilename: a9c7c170c9c743b2b24e80a84cb558e8.lcp
- LensProfileName: NIKON D3 - 80.0-200.0 mm f/2.8
- LensProfileSetup: Auto
- LensProfileVignettingScale: 100
- LuminanceAdjustmentAqua: 0
- LuminanceAdjustmentBlue: 0
- LuminanceAdjustmentGreen: 0
- LuminanceAdjustmentMagenta: 0
- LuminanceAdjustmentOrange: 0
- LuminanceAdjustmentPurple: 0
- LuminanceAdjustmentRed: 0
- LuminanceAdjustmentYellow: 0
- LuminanceNoiseReductionContrast: 0
- LuminanceNoiseReductionDetail: 50
- LuminanceSmoothing: 17
- ParametricDarks: +13
- ParametricHighlightSplit: 75
- ParametricHighlights: -18
- ParametricLights: +7
- ParametricMidtoneSplit: 50
- ParametricShadowSplit: 25
- ParametricShadows: +26
- PerspectiveHorizontal: 0
- PerspectiveRotate: 0.0
- PerspectiveScale: 100
- PerspectiveVertical: 0
- PostCropVignetteAmount: 0
- ProcessVersion: 5.7
- RawFileName: DSC_7320.NEF
- RedHue: 0
- RedSaturation: 0
- Saturation: +13
- SaturationAdjustmentAqua: 0
- SaturationAdjustmentBlue: 0
- SaturationAdjustmentGreen: 0
- SaturationAdjustmentMagenta: 0
- SaturationAdjustmentOrange: 0
- SaturationAdjustmentPurple: 0
- SaturationAdjustmentRed: 0
- SaturationAdjustmentYellow: 0
- ShadowTint: 0
- Shadows: 5
- SharpenDetail: 38
- SharpenEdgeMasking: 0
- SharpenRadius: +1.3
- Sharpness: 81
- SplitToningBalance: 0
- SplitToningHighlightHue: 0
- SplitToningHighlightSaturation: 0
- SplitToningShadowHue: 0
- SplitToningShadowSaturation: 0
- Temperature: 5200
- Tint: +10
- ToneCurve: 0, 0, 32, 22, 64, 56, 128, 128, 192, 196, 255, 255
- ToneCurveName: Medium Contrast
- Version: 6.6
- Vibrance: +8
- VignetteAmount: 0
- WhiteBalance: Custom
- XMP-dc
- Creator: Andrey Mikhalenkov
- Format: image/jpeg
- Rights: mikha_a
- XMP-microsoft
- XMP-xmp
- CreateDate: 2011:11:11 15:23:17.92
- ModifyDate: 2012:01:17 20:56:46+02:00
- XMP-xmpMM
- Просмотров: 693
- Рейтинг: голосов еще нет
- Отзывов: отключены