- Раздел: Тесты фототехники
- Дата съёмки: 10.11.2011 08:16
- Дата загрузки фото: 14.11.2011 23:55
- Оригинальная фотография: 4000 x 3000 (4,6 Мб)
- Технические характеристики:
- Фотоаппарат: Canon PowerShot S100
- Выдержка: 1/125
- Гиперфокальное расстояние: inf m
- Диафрагма: 5,9
- Светочувствительность: 800
- Фокусное расстояние: 26,0 mm (35 mm equivalent: 104,0 mm)
- Полный EXIF
- Adobe
- ColorTransform: YCbCr
- Composite
- Aperture: 5,9
- CircleOfConfusion: 0,006 mm
- DOF: inf (0,00 m - inf)
- FOV: 19,0 deg
- FocalLength35efl: 26,0 mm (35 mm equivalent: 104,0 mm)
- HyperfocalDistance: inf m
- ScaleFactor35efl: 4,6
- ShutterSpeed: 1/125
- ExifIFD
- ApertureValue: 5,9
- CreateDate: 2011:11:10 08:16:09
- CustomRendered: Normal
- DateTimeOriginal: 2011:11:10 08:16:09
- DigitalZoomRatio: 1
- ExposureCompensation: 0
- ExposureMode: Manual
- ExposureTime: 1/125
- FNumber: 5,9
- Flash: Off, Did not fire
- FocalLength: 26,0 mm
- ISO: 800
- LensInfo: 5.2-26mm f/?
- LensModel: 5.2-26.0 mm
- MaxApertureValue: 5,9
- MeteringMode: Multi-segment
- SceneCaptureType: Standard
- SensingMethod: One-chip color area
- SensitivityType: Standard Output Sensitivity and Recommended Exposure Index
- ShutterSpeedValue: 1/125
- SubjectDistance: 2,73 m
- WhiteBalance: Manual
- ICC-header
- ICC-meas
- ICC-view
- IFD0
- Make: Canon
- Model: Canon PowerShot S100
- ModifyDate: 2011:11:12 10:17:36
- IFD1
- IPTC
- DateCreated: 2011:11:10
- System
- XMP-aux
- ApproximateFocusDistance: 2,73
- Firmware: 1.00
- FlashCompensation: 0
- Lens: 5.2-26.0 mm
- XMP-crs
- AlreadyApplied: True
- BlueHue: 0
- BlueSaturation: 0
- Brightness: +50
- ChromaticAberrationB: 0
- ChromaticAberrationR: -15
- Clarity: +20
- ColorNoiseReduction: 15
- ColorNoiseReductionDetail: 30
- Contrast: +40
- ConvertToGrayscale: False
- Defringe: 0
- Exposure: 0.00
- FillLight: 0
- GrainAmount: 0
- GreenHue: 0
- GreenSaturation: 0
- HasCrop: False
- HasSettings: True
- HighlightRecovery: 10
- HueAdjustmentAqua: 0
- HueAdjustmentBlue: 0
- HueAdjustmentGreen: 0
- HueAdjustmentMagenta: 0
- HueAdjustmentOrange: 0
- HueAdjustmentPurple: 0
- HueAdjustmentRed: 0
- HueAdjustmentYellow: 0
- LensManualDistortionAmount: 0
- LensProfileEnable: 0
- LensProfileSetup: LensDefaults
- LuminanceAdjustmentAqua: 0
- LuminanceAdjustmentBlue: 0
- LuminanceAdjustmentGreen: 0
- LuminanceAdjustmentMagenta: 0
- LuminanceAdjustmentOrange: -14
- LuminanceAdjustmentPurple: 0
- LuminanceAdjustmentRed: +3
- LuminanceAdjustmentYellow: 0
- LuminanceNoiseReductionContrast: 0
- LuminanceNoiseReductionDetail: 50
- LuminanceSmoothing: 35
- ParametricDarks: 0
- ParametricHighlightSplit: 75
- ParametricHighlights: 0
- ParametricLights: 0
- ParametricMidtoneSplit: 50
- ParametricShadowSplit: 25
- ParametricShadows: 0
- PerspectiveHorizontal: 0
- PerspectiveRotate: 0.0
- PerspectiveScale: 100
- PerspectiveVertical: 0
- PostCropVignetteAmount: 0
- ProcessVersion: 5.7
- RawFileName: PS100hSLI0800.CR2
- RedHue: 0
- RedSaturation: 0
- Saturation: 0
- SaturationAdjustmentAqua: 0
- SaturationAdjustmentBlue: 0
- SaturationAdjustmentGreen: 0
- SaturationAdjustmentMagenta: 0
- SaturationAdjustmentOrange: +1
- SaturationAdjustmentPurple: 0
- SaturationAdjustmentRed: 0
- SaturationAdjustmentYellow: 0
- ShadowTint: 0
- Shadows: 3
- SharpenDetail: 0
- SharpenEdgeMasking: 50
- SharpenRadius: +1.0
- Sharpness: 70
- SplitToningBalance: 0
- SplitToningHighlightHue: 0
- SplitToningHighlightSaturation: 0
- SplitToningShadowHue: 0
- SplitToningShadowSaturation: 0
- Temperature: 5450
- Tint: -2
- ToneCurve: 0, 0, 32, 22, 64, 56, 128, 128, 192, 196, 255, 255
- ToneCurveName: Medium Contrast
- Version: 6.6
- Vibrance: 0
- VignetteAmount: 0
- WhiteBalance: Custom
- XMP-dc
- XMP-xmp
- ModifyDate: 2011:11:12 10:17:36+04:00
- XMP-xmpMM
- Просмотров: 678
- Рейтинг: голосов еще нет
- Отзывов: 0