- Раздел: Портрет
- Дата съёмки: 10.10.2011 16:09
- Дата загрузки фото: 30.11.2011 18:07
- Оригинальная фотография: 1102 x 1500 (212 Кб)
- Технические характеристики:
- Фотоаппарат: Canon EOS-1Ds Mark III
- Выдержка: 1/80
- Гиперфокальное расстояние: inf m
- Диафрагма: 4,0
- Светочувствительность: 800
- Фокусное расстояние: 200,0 mm (35 mm equivalent: 600,0 mm)
- Полный EXIF
- Adobe
- ColorTransform: YCbCr
- Composite
- Aperture: 4,0
- CircleOfConfusion: 0,008 mm
- DOF: inf (0,00 m - inf)
- FOV: 3,0 deg
- FocalLength35efl: 200,0 mm (35 mm equivalent: 600,0 mm)
- HyperfocalDistance: inf m
- ScaleFactor35efl: 3,6
- ShutterSpeed: 1/80
- ExifIFD
- ApertureValue: 4,0
- ColorSpace: sRGB
- CreateDate: 2011:10:10 16:09:51
- CustomRendered: Normal
- DateTimeOriginal: 2011:10:10 16:09:51
- ExifImageHeight: 1500
- ExifImageWidth: 1102
- ExposureCompensation: 0
- ExposureMode: Manual
- ExposureProgram: Manual
- ExposureTime: 1/80
- FNumber: 4,0
- Flash: Off, Did not fire
- FocalLength: 200,0 mm
- ISO: 800
- MaxApertureValue: 2,8
- MeteringMode: Multi-segment
- SceneCaptureType: Standard
- ShutterSpeedValue: 1/80
- SubjectDistance: 1,76 m
- WhiteBalance: Manual
- ICC-header
- ICC-meas
- ICC-view
- IFD0
- Artist: www.vitalymarkov.com
- BitsPerSample: 8 8 8
- ImageHeight: 2000
- ImageWidth: 1469
- Make: Canon
- Model: Canon EOS-1Ds Mark III
- ModifyDate: 2011:11:24 12:39:55
- Orientation: Horizontal (normal)
- PhotometricInterpretation: RGB
- SamplesPerPixel: 3
- IFD1
- IPTC
- By-line: www.vitalymarkov.com
- DateCreated: 2011:10:10
- System
- XMP-aux
- Firmware: 1.2.0
- FlashCompensation: 0
- ImageNumber: 0
- Lens: EF70-200mm f/2.8L IS USM
- LensID: 224
- LensInfo: 70-200mm f/?
- OwnerName: www.vitalymarkov.com
- SerialNumber: 615736
- XMP-crs
- AlreadyApplied: True
- BlueHue: -1
- BlueSaturation: 0
- Brightness: +50
- ChromaticAberrationB: -4
- ChromaticAberrationR: +100
- Clarity: 0
- ColorNoiseReduction: 25
- ColorNoiseReductionDetail: 50
- Contrast: +25
- ConvertToGrayscale: False
- Defringe: 0
- Exposure: +0.90
- FillLight: 0
- GrainAmount: 28
- GrainFrequency: 50
- GrainSize: 0
- GreenHue: +81
- GreenSaturation: 0
- HasCrop: False
- HasSettings: True
- HighlightRecovery: 0
- HueAdjustmentAqua: 0
- HueAdjustmentBlue: 0
- HueAdjustmentGreen: 0
- HueAdjustmentMagenta: 0
- HueAdjustmentOrange: 0
- HueAdjustmentPurple: 0
- HueAdjustmentRed: 0
- HueAdjustmentYellow: +1
- LuminanceAdjustmentAqua: 0
- LuminanceAdjustmentBlue: 0
- LuminanceAdjustmentGreen: 0
- LuminanceAdjustmentMagenta: 0
- LuminanceAdjustmentOrange: 0
- LuminanceAdjustmentPurple: 0
- LuminanceAdjustmentRed: 0
- LuminanceAdjustmentYellow: 0
- LuminanceNoiseReductionContrast: 0
- LuminanceNoiseReductionDetail: 41
- LuminanceSmoothing: 24
- ParametricDarks: +45
- ParametricHighlightSplit: 75
- ParametricHighlights: +19
- ParametricLights: +28
- ParametricMidtoneSplit: 50
- ParametricShadowSplit: 25
- ParametricShadows: 0
- PostCropVignetteAmount: 0
- ProcessVersion: 5.7
- RawFileName: 1P6Z0099.CR2
- RedHue: -98
- RedSaturation: 0
- Saturation: 0
- SaturationAdjustmentAqua: 0
- SaturationAdjustmentBlue: 0
- SaturationAdjustmentGreen: 0
- SaturationAdjustmentMagenta: 0
- SaturationAdjustmentOrange: 0
- SaturationAdjustmentPurple: 0
- SaturationAdjustmentRed: 0
- SaturationAdjustmentYellow: 0
- ShadowTint: 0
- Shadows: 0
- SharpenDetail: 23
- SharpenEdgeMasking: 0
- SharpenRadius: +1.0
- Sharpness: 133
- SplitToningBalance: -12
- SplitToningHighlightHue: 0
- SplitToningHighlightSaturation: 0
- SplitToningShadowHue: 0
- SplitToningShadowSaturation: 0
- Temperature: 2450
- Tint: 0
- ToneCurve: 0, 0, 32, 22, 64, 56, 128, 128, 192, 196, 255, 255
- ToneCurveName: Medium Contrast
- Version: 6.0
- Vibrance: 0
- VignetteAmount: -11
- VignetteMidpoint: 47
- WhiteBalance: Custom
- XMP-dc
- Creator: www.vitalymarkov.com
- Format: image/jpeg
- XMP-xmp
- CreateDate: 2011:10:10 16:09:51.57+04:00
- ModifyDate: 2011:11:24 12:39:55+04:00
- Rating: 0
- XMP-xmpMM