- Раздел: Природа
- Дата съёмки: 16.08.2009 18:13
- Дата загрузки фото: 10.12.2011 19:23
- Оригинальная фотография: 1000 x 716 (193 Кб)
- Технические характеристики:
- Фотоаппарат: Canon EOS 400D DIGITAL
- Выдержка: 1/4000
- Гиперфокальное расстояние: inf m
- Диафрагма: 2,0
- Светочувствительность: 100
- Фокусное расстояние: 135,0 mm (35 mm equivalent: 810,0 mm)
- Полный EXIF
- Adobe
- ColorTransform: YCbCr
- Composite
- Aperture: 2,0
- CircleOfConfusion: 0,005 mm
- FOV: 2,0 deg
- FocalLength35efl: 135,0 mm (35 mm equivalent: 810,0 mm)
- HyperfocalDistance: inf m
- ScaleFactor35efl: 6,1
- ShutterSpeed: 1/4000
- ExifIFD
- ApertureValue: 2,0
- ColorSpace: sRGB
- CreateDate: 2009:08:16 18:13:50
- CustomRendered: Normal
- DateTimeOriginal: 2009:08:16 18:13:50
- ExifImageHeight: 716
- ExifImageWidth: 1000
- ExposureCompensation: 0
- ExposureMode: Auto
- ExposureProgram: Aperture-priority AE
- ExposureTime: 1/4000
- FNumber: 2,0
- Flash: Off, Did not fire
- FocalLength: 135,0 mm
- ISO: 100
- MaxApertureValue: 2,0
- MeteringMode: Multi-segment
- SceneCaptureType: Standard
- ShutterSpeedValue: 1/4000
- WhiteBalance: Auto
- ICC-header
- ICC-meas
- ICC-view
- IFD0
- Artist: nWhite
- BitsPerSample: 8 8 8
- ImageHeight: 2006
- ImageWidth: 2800
- Make: Canon
- Model: Canon EOS 400D DIGITAL
- ModifyDate: 2011:12:10 15:20:33
- Orientation: Horizontal (normal)
- PhotometricInterpretation: RGB
- PlanarConfiguration: Chunky
- SamplesPerPixel: 3
- IFD1
- IPTC
- By-line: nWhite
- DateCreated: 2009:08:16
- System
- XMP-aux
- Firmware: 1.1.1
- FlashCompensation: 0
- ImageNumber: 32
- Lens: EF135mm f/2L USM
- LensInfo: 135mm f/?
- OwnerName: nWhite
- SerialNumber: 730371815
- XMP-crs
- AlreadyApplied: True
- BlueHue: 0
- BlueSaturation: 0
- Brightness: 0
- CameraProfile: ACR 3.6
- ChromaticAberrationB: 0
- ChromaticAberrationR: 0
- Clarity: 0
- ColorNoiseReduction: 0
- Contrast: +51
- ConvertToGrayscale: False
- Defringe: 0
- Exposure: -0.35
- FillLight: 0
- GreenHue: 0
- GreenSaturation: 0
- HasCrop: False
- HasSettings: True
- HighlightRecovery: 3
- HueAdjustmentAqua: 0
- HueAdjustmentBlue: 0
- HueAdjustmentGreen: 0
- HueAdjustmentMagenta: 0
- HueAdjustmentOrange: 0
- HueAdjustmentPurple: 0
- HueAdjustmentRed: 0
- HueAdjustmentYellow: 0
- LuminanceAdjustmentAqua: 0
- LuminanceAdjustmentBlue: +64
- LuminanceAdjustmentGreen: 0
- LuminanceAdjustmentMagenta: 0
- LuminanceAdjustmentOrange: 0
- LuminanceAdjustmentPurple: 0
- LuminanceAdjustmentRed: 0
- LuminanceAdjustmentYellow: 0
- LuminanceSmoothing: 0
- ParametricDarks: 0
- ParametricHighlightSplit: 75
- ParametricHighlights: 0
- ParametricLights: 0
- ParametricMidtoneSplit: 50
- ParametricShadowSplit: 25
- ParametricShadows: 0
- PostCropVignetteAmount: 0
- RawFileName: IMG_7314_EOS 400D.CR2
- RedHue: 0
- RedSaturation: 0
- Saturation: +15
- SaturationAdjustmentAqua: 0
- SaturationAdjustmentBlue: 0
- SaturationAdjustmentGreen: 0
- SaturationAdjustmentMagenta: 0
- SaturationAdjustmentOrange: 0
- SaturationAdjustmentPurple: 0
- SaturationAdjustmentRed: 0
- SaturationAdjustmentYellow: 0
- ShadowTint: 0
- Shadows: 10
- SharpenDetail: 0
- SharpenEdgeMasking: 0
- SharpenRadius: +0.5
- Sharpness: 0
- SplitToningBalance: 0
- SplitToningHighlightHue: 0
- SplitToningHighlightSaturation: 0
- SplitToningShadowHue: 0
- SplitToningShadowSaturation: 0
- Temperature: 5250
- Tint: +9
- ToneCurve: 0, 0, 57, 60, 109, 144, 180, 210, 255, 255
- ToneCurveName: Custom
- Version: 5.4
- Vibrance: 0
- VignetteAmount: +13
- VignetteMidpoint: 50
- WhiteBalance: Custom
- XMP-dc
- Creator: nWhite
- Format: image/jpeg
- XMP-xmp
- CreateDate: 2009:08:16 18:13:50+03:00
- ModifyDate: 2011:12:10 15:20:33Z
- Rating: 0
- XMP-xmpMM