- Раздел: Другое, разное
- Дата съёмки: 21.06.2011 07:53
- Дата загрузки фото: 18.12.2011 22:08
- Оригинальная фотография: 1616 x 2400 (1,3 Мб)
- Технические характеристики:
- Фотоаппарат: Canon EOS 60D
- Выдержка: 0,3
- Гиперфокальное расстояние: inf m
- Диафрагма: 5,6
- Светочувствительность: 100
- Фокусное расстояние: 32,0 mm (35 mm equivalent: 96,0 mm)
- Полный EXIF
- Adobe
- ColorTransform: YCbCr
- Composite
- Aperture: 5,6
- CircleOfConfusion: 0,009 mm
- DOF: inf (0,00 m - inf)
- FOV: 21,0 deg
- FocalLength35efl: 32,0 mm (35 mm equivalent: 96,0 mm)
- HyperfocalDistance: inf m
- ScaleFactor35efl: 3,4
- ShutterSpeed: 0,3
- ExifIFD
- ApertureValue: 5,6
- ColorSpace: sRGB
- CreateDate: 2011:06:21 07:53:09
- CustomRendered: Normal
- DateTimeOriginal: 2011:06:21 07:53:09
- ExifImageHeight: 2400
- ExifImageWidth: 1616
- ExposureCompensation: 0
- ExposureMode: Auto
- ExposureProgram: Aperture-priority AE
- ExposureTime: 0,3
- FNumber: 5,6
- Flash: Off, Did not fire
- FocalLength: 32,0 mm
- ISO: 100
- LensInfo: 24-105mm f/?
- LensModel: EF24-105mm f/4L IS USM
- LensSerialNumber: 00001a0bd7
- MaxApertureValue: 4,0
- MeteringMode: Multi-segment
- RecommendedExposureIndex: 100
- SceneCaptureType: Standard
- SensitivityType: Recommended Exposure Index
- SerialNumber: 0780425294
- ShutterSpeedValue: 0,3
- SubjectDistance: 4294967295 m
- WhiteBalance: Auto
- ICC-header
- ICC-meas
- ICC-view
- IFD0
- BitsPerSample: 8 8 8
- Copyright: aliko(c)ins
- ImageHeight: 2400
- ImageWidth: 1616
- Make: Canon
- Model: Canon EOS 60D
- ModifyDate: 2011:12:18 22:07:22
- Orientation: Horizontal (normal)
- PhotometricInterpretation: RGB
- SamplesPerPixel: 3
- IFD1
- IPTC
- CopyrightNotice: aliko(c)ins
- DateCreated: 2011:06:21
- System
- XMP-aux
- ApproximateFocusDistance: 4294967295
- Firmware: 1.0.9
- FlashCompensation: 0
- ImageNumber: 0
- Lens: EF24-105mm f/4L IS USM
- LensID: 237
- XMP-crs
- AlreadyApplied: True
- BlueHue: 0
- BlueSaturation: 0
- Brightness: +78
- ChromaticAberrationB: 0
- ChromaticAberrationR: 0
- Clarity: +25
- ColorNoiseReduction: 25
- ColorNoiseReductionDetail: 50
- Contrast: +71
- ConvertToGrayscale: False
- CropAngle: 0
- CropBottom: 0.987835
- CropConstrainToWarp: 1
- CropLeft: 0.069805
- CropRight: 1
- CropTop: 0.048662
- Defringe: 0
- Exposure: 0.00
- FillLight: 0
- GrainAmount: 0
- GreenHue: 0
- GreenSaturation: 0
- HasCrop: True
- HasSettings: True
- HighlightRecovery: 0
- HueAdjustmentAqua: 0
- HueAdjustmentBlue: 0
- HueAdjustmentGreen: 0
- HueAdjustmentMagenta: 0
- HueAdjustmentOrange: 0
- HueAdjustmentPurple: 0
- HueAdjustmentRed: 0
- HueAdjustmentYellow: 0
- LensManualDistortionAmount: 0
- LensProfileChromaticAberrationScale: 100
- LensProfileDistortionScale: 100
- LensProfileEnable: 1
- LensProfileFilename: Canon EOS-1Ds Mark III (Canon EF 24-105mm f4 L IS USM) - RAW.lcp
- LensProfileSetup: Custom
- LensProfileVignettingScale: 122
- LuminanceAdjustmentAqua: 0
- LuminanceAdjustmentBlue: 0
- LuminanceAdjustmentGreen: 0
- LuminanceAdjustmentMagenta: 0
- LuminanceAdjustmentOrange: 0
- LuminanceAdjustmentPurple: 0
- LuminanceAdjustmentRed: 0
- LuminanceAdjustmentYellow: 0
- LuminanceSmoothing: 0
- PaintCorrectionActive: true
- PaintCorrectionAmount: 1.000000
- PaintCorrectionBrightness: -0.085000
- PaintCorrectionClarity: 0.000000
- PaintCorrectionContrast: 0.000000
- PaintCorrectionExposure: -0.137500
- PaintCorrectionHue: 0.000000
- PaintCorrectionMaskCenterWeight: 0.000000
- PaintCorrectionMaskFlow: 0.888889
- PaintCorrectionMaskRadius: 0.040623
- PaintCorrectionMaskValue: 1.000000
- PaintCorrectionMaskWhat: Mask/Paint
- PaintCorrectionSaturation: 0.000000
- PaintCorrectionSharpness: 0.000000
- PaintCorrectionWhat: Correction
- ParametricDarks: +11
- ParametricHighlightSplit: 75
- ParametricHighlights: 0
- ParametricLights: 0
- ParametricMidtoneSplit: 50
- ParametricShadowSplit: 25
- ParametricShadows: +20
- PerspectiveHorizontal: 0
- PerspectiveRotate: 0.0
- PerspectiveScale: 100
- PerspectiveVertical: 0
- PostCropVignetteAmount: 0
- ProcessVersion: 5.7
- RawFileName: IMG_1422.CR2
- RedHue: 0
- RedSaturation: 0
- Saturation: 0
- SaturationAdjustmentAqua: 0
- SaturationAdjustmentBlue: -41
- SaturationAdjustmentGreen: 0
- SaturationAdjustmentMagenta: 0
- SaturationAdjustmentOrange: -20
- SaturationAdjustmentPurple: 0
- SaturationAdjustmentRed: 0
- SaturationAdjustmentYellow: -20
- ShadowTint: 0
- Shadows: 5
- SharpenDetail: 25
- SharpenEdgeMasking: 0
- SharpenRadius: +1.0
- Sharpness: 25
- SplitToningBalance: 0
- SplitToningHighlightHue: 0
- SplitToningHighlightSaturation: 0
- SplitToningShadowHue: 0
- SplitToningShadowSaturation: 0
- Temperature: 3950
- Tint: +1
- ToneCurve: 0, 0, 32, 22, 64, 56, 128, 128, 192, 196, 255, 255
- ToneCurveName: Medium Contrast
- Version: 6.5
- Vibrance: +14
- VignetteAmount: 0
- WhiteBalance: As Shot
- XMP-dc
- Format: image/jpeg
- Rights: aliko(c)ins
- XMP-xmp
- CreateDate: 2011:06:21 07:53:09.00
- ModifyDate: 2011:12:18 22:07:22+04:00
- Rating: 0
- XMP-xmpMM