- Раздел: Я, любимый(ая)
- Дата съёмки: 22.12.2011 20:39
- Дата загрузки фото: 24.12.2011 16:02
- Оригинальная фотография: 1333 x 2000 (993 Кб)
- Технические характеристики:
- Фотоаппарат: Canon EOS 5D
- Выдержка: 1/100
- Гиперфокальное расстояние: inf m
- Диафрагма: 1,8
- Светочувствительность: 800
- Фокусное расстояние: 85,0 mm (35 mm equivalent: 170,0 mm)
- Полный EXIF
- Composite
- Aperture: 1,8
- CircleOfConfusion: 0,014 mm
- FOV: 12,0 deg
- FocalLength35efl: 85,0 mm (35 mm equivalent: 170,0 mm)
- HyperfocalDistance: inf m
- ScaleFactor35efl: 2,2
- ShutterSpeed: 1/100
- ExifIFD
- ApertureValue: 1,8
- CreateDate: 2011:12:22 20:39:15
- CustomRendered: Normal
- DateTimeOriginal: 2011:12:22 20:39:15
- ExifImageHeight: 2000
- ExifImageWidth: 1333
- ExposureCompensation: 0
- ExposureMode: Manual
- ExposureProgram: Manual
- ExposureTime: 1/100
- FNumber: 1,8
- Flash: Off, Did not fire
- FocalLength: 85,0 mm
- ISO: 800
- LensInfo: 85mm f/?
- LensModel: EF85mm f/1.8 USM
- MaxApertureValue: 1,8
- MeteringMode: Multi-segment
- SceneCaptureType: Standard
- SerialNumber: 310100689
- ShutterSpeedValue: 1/100
- WhiteBalance: Auto
- ICC-header
- ICC-meas
- ICC-view
- IFD0
- Make: Canon
- Model: Canon EOS 5D
- ModifyDate: 2011:12:24 15:59:55
- Orientation: Horizontal (normal)
- Software: ACDSee Pro 5
- IFD1
- IPTC
- DateCreated: 2011:12:22
- System
- XMP-aux
- Firmware: 1.1.1
- FlashCompensation: 0
- ImageNumber: 2
- Lens: EF85mm f/1.8 USM
- LensID: 155
- XMP-crs
- AlreadyApplied: True
- BlueHue: 0
- BlueSaturation: 0
- Brightness: +50
- CameraProfile: Camera Standard
- ChromaticAberrationB: 0
- ChromaticAberrationR: 0
- Clarity: +32
- ColorNoiseReduction: 14
- ColorNoiseReductionDetail: 50
- Contrast: +25
- ConvertToGrayscale: False
- CropAngle: 2.04753
- CropBottom: 1
- CropConstrainToWarp: 0
- CropHeight: 2766
- CropLeft: 0.022621
- CropRight: 0.949098
- CropTop: 0
- CropUnit: pixels
- CropWidth: 4149
- Defringe: 0
- Exposure: +0.46
- FillLight: 12
- GrainAmount: 0
- GreenHue: 0
- GreenSaturation: 0
- HasCrop: True
- HasSettings: True
- HighlightRecovery: 0
- HueAdjustmentAqua: 0
- HueAdjustmentBlue: 0
- HueAdjustmentGreen: 0
- HueAdjustmentMagenta: 0
- HueAdjustmentOrange: 0
- HueAdjustmentPurple: 0
- HueAdjustmentRed: 0
- HueAdjustmentYellow: 0
- LensManualDistortionAmount: 0
- LensProfileEnable: 0
- LensProfileSetup: LensDefaults
- LuminanceAdjustmentAqua: 0
- LuminanceAdjustmentBlue: 0
- LuminanceAdjustmentGreen: 0
- LuminanceAdjustmentMagenta: 0
- LuminanceAdjustmentOrange: 0
- LuminanceAdjustmentPurple: 0
- LuminanceAdjustmentRed: 0
- LuminanceAdjustmentYellow: 0
- LuminanceNoiseReductionContrast: 0
- LuminanceNoiseReductionDetail: 50
- LuminanceSmoothing: 14
- ParametricDarks: +40
- ParametricHighlightSplit: 75
- ParametricHighlights: 0
- ParametricLights: 0
- ParametricMidtoneSplit: 50
- ParametricShadowSplit: 25
- ParametricShadows: 0
- PerspectiveHorizontal: 0
- PerspectiveRotate: 0.0
- PerspectiveScale: 100
- PerspectiveVertical: 0
- PostCropVignetteAmount: 0
- ProcessVersion: 5.7
- RedHue: 0
- RedSaturation: 0
- Saturation: 0
- SaturationAdjustmentAqua: 0
- SaturationAdjustmentBlue: 0
- SaturationAdjustmentGreen: 0
- SaturationAdjustmentMagenta: 0
- SaturationAdjustmentOrange: 0
- SaturationAdjustmentPurple: 0
- SaturationAdjustmentRed: 0
- SaturationAdjustmentYellow: 0
- ShadowTint: 0
- Shadows: 3
- SharpenDetail: 25
- SharpenEdgeMasking: 0
- SharpenRadius: +1.0
- Sharpness: 0
- SplitToningBalance: 0
- SplitToningHighlightHue: 0
- SplitToningHighlightSaturation: 0
- SplitToningShadowHue: 0
- SplitToningShadowSaturation: 0
- Temperature: 2476
- Tint: +12
- ToneCurve: 0, 0, 32, 22, 64, 56, 128, 128, 192, 196, 255, 255
- ToneCurveName: Medium Contrast
- Version: 6.6
- Vibrance: 0
- VignetteAmount: 0
- WhiteBalance: Custom
- XMP-dc
- XMP-x
- XMP-xmp
- ModifyDate: 2011:12:24 11:58:21Z
- XMP-xmpMM
- Просмотров: 1085
- Рейтинг: голосов еще нет
- Отзывов: отключены