- Раздел: Другое, разное
- Дата съёмки: 04.01.2012 17:24
- Дата загрузки фото: 04.01.2012 21:46
- Оригинальная фотография: 3456 x 5184 (3,2 Мб)
- Технические характеристики:
- Фотоаппарат: Canon EOS 60D
- Выдержка: 1/30
- Гиперфокальное расстояние: inf m
- Диафрагма: 1,8
- Светочувствительность: 640
- Фокусное расстояние: 50,0 mm (35 mm equivalent: 50,0 mm)
- Полный EXIF
- Canon
- AEBBracketValue: 0
- AFAreaHeights: 86 107 107 107 131 107 107 107 86
- AFAreaMode: Off (Manual Focus)
- AFAreaWidths: 108 88 88 88 129 88 88 88 108
- AFAreaXPositions: 0 -860 860 -1368 0 1368 -860 860 0
- AFAreaYPositions: 743 393 393 0 0 0 -393 -393 -743
- AFImageHeight: 3456
- AFImageWidth: 5184
- AFPointsInFocus: (none)
- AFPointsSelected: 4
- AutoExposureBracketing: Off
- AutoISO: 100
- AutoLightingOptimizer: Off
- BaseISO: 617
- BlackMaskBottomBorder: 0
- BlackMaskLeftBorder: 0
- BlackMaskRightBorder: 0
- BlackMaskTopBorder: 0
- BracketMode: Off
- BracketShotNumber: 0
- BracketValue: 0
- BulbDuration: 0
- CameraISO: Auto
- CameraTemperature: 20 C
- CameraType: EOS High-end
- CanonExposureMode: Program AE
- CanonFirmwareVersion: Firmware Version 1.1.0
- CanonFlashMode: Off
- CanonImageHeight: 3456
- CanonImageType: Canon EOS 60D
- CanonImageWidth: 5184
- CanonModelID: Unknown (0x80000287)
- ColorTone: Normal
- ContinuousDrive: Single
- Contrast: +1
- ControlMode: n/a
- DigitalZoom: None
- EasyMode: Manual
- ExposureCompensation: 0
- ExposureTime: 1/32
- FNumber: 1,8
- FlashActivity: 0
- FlashBits: (none)
- FlashExposureComp: 0
- FlashExposureLock: Off
- FlashGuideNumber: 0
- FocalLength: 50 mm
- FocalUnits: 1/mm
- FocusMode: Manual Focus (3)
- FocusRange: Not Known
- InternalSerialNumber: WB0295062
- LensModel: EF50mm f/1.8 II
- LensType: Canon EF 50mm f/1.8 MkII
- LiveViewShooting: Off
- LongExposureNoiseReduction2: Off
- LongFocal: 50 mm
- MacroMode: Normal
- ManualFlashOutput: n/a
- MaxAperture: 1,8
- MeasuredEV: 4,12
- MeasuredEV2: 4
- MeasuredRGGB: 554 1024 1024 560
- MeteringMode: Evaluative
- MinAperture: 1,8
- NDFilter: Unknown (-1)
- NumAFPoints: 9
- OpticalZoomCode: n/a
- OriginalDecisionDataOffset: 0
- OriginalImageHeight: 3456
- OriginalImageWidth: 5184
- OwnerName:
- PeripheralLighting: Off
- PeripheralLightingSetting: Off
- PeripheralLightingValue: 0
- Quality: Fine
- RawJpgSize: Large
- RecordMode: CR2
- SRAWQuality: n/a
- Saturation: Normal
- SelfTimer: Off
- SensorBottomBorder: 3511
- SensorHeight: 3516
- SensorLeftBorder: 152
- SensorRightBorder: 5335
- SensorTopBorder: 56
- SensorWidth: 5344
- SequenceNumber: 0
- SerialNumber: 1380834667
- SerialNumberFormat: Format 2
- ShortFocal: 50 mm
- SlowShutter: None
- TargetAperture: 1,8
- TargetExposureTime: 1/32
- VRDOffset: 0
- ValidAFPoints: 9
- WBBracketMode: Off
- WBBracketValueAB: 0
- WBBracketValueGM: 0
- WhiteBalance: Custom
- ZoomSourceWidth: 0
- ZoomTargetWidth: 0
- CanonCustom
- AEBAutoCancel: On
- AEBSequence: 0,-,+
- AFAssistBeam: Emits
- AFPointSelectionMethod: Normal
- AddOriginalDecisionData: Off
- DialDirectionTvAv: Normal
- ExposureLevelIncrements: 1/3 Stop
- FlashSyncSpeedAv: Auto
- FocusingScreen: Ec-CIV
- HighISONoiseReduction: On
- HighlightTonePriority: Disable
- ISOExpansion: On
- ISOSpeedIncrements: 1 Stop
- LensDriveNoAF: Focus search on
- LongExposureNoiseReduction: Off
- MirrorLockup: Disable
- SafetyShift: Disable
- SetButtonWhenShooting: Normal (disabled)
- ShutterButtonAFOnButton: Metering + AF start
- SuperimposedDisplay: On
- Composite
- Aperture: 1,8
- CircleOfConfusion: 0,019 mm
- DriveMode: Single-frame Shooting
- FOV: 39,0 deg
- FocalLength35efl: 50,0 mm (35 mm equivalent: 50,0 mm)
- HyperfocalDistance: inf m
- ISO: 617
- Lens: 50,0 mm
- Lens35efl: 50,0 mm (35 mm equivalent: 79,1 mm)
- LensID: Canon EF 50mm f/1.8 MkII
- ScaleFactor35efl: 1,6
- ShootingMode: Program AE
- ShutterSpeed: 1/30
- ExifIFD
- ApertureValue: 1,8
- ColorSpace: sRGB
- CreateDate: 2012:01:04 17:24:17
- CustomRendered: Normal
- DateTimeOriginal: 2012:01:04 17:24:17
- ExifImageHeight: 5184
- ExifImageWidth: 3456
- ExposureMode: Auto
- ExposureProgram: Program AE
- ExposureTime: 1/30
- Flash: Off, Did not fire
- FocalLength: 50,0 mm
- ISO: 640
- LensInfo: 50mm f/?
- LensSerialNumber: 0000000000
- MeteringMode: Multi-segment
- RecommendedExposureIndex: 640
- SceneCaptureType: Standard
- SensitivityType: Recommended Exposure Index
- ShutterSpeedValue: 1/32
- UserComment:
- WhiteBalance: Manual
- IFD0
- Artist: ptv
- Copyright: ptv
- Make: Canon
- Model: Canon EOS 60D
- ModifyDate: 2012:01:04 17:24:17
- Orientation: Horizontal (normal)
- Software: DXO Optics Pro v7
- IFD1
- System
- XMP-aux
- Firmware: 1.1.0
- FlashCompensation: 0
- ImageNumber: 0
- Lens: EF50mm f/1.8 II
- LensID: 29
- XMP-crs
- AlreadyApplied: False
- BlueHue: 0
- BlueSaturation: 0
- Brightness: +29
- ChromaticAberrationB: 0
- ChromaticAberrationR: 0
- Clarity: 0
- ColorNoiseReduction: 25
- ColorNoiseReductionDetail: 50
- Contrast: +34
- ConvertToGrayscale: False
- CropAngle: 0
- CropBottom: 0.978799
- CropConstrainToWarp: 1
- CropLeft: 0
- CropRight: 0.892815
- CropTop: 0
- Defringe: 0
- Exposure: 0.00
- FillLight: 22
- GrainAmount: 0
- GreenHue: 0
- GreenSaturation: 0
- HasCrop: True
- HasSettings: True
- HighlightRecovery: 25
- HueAdjustmentAqua: 0
- HueAdjustmentBlue: 0
- HueAdjustmentGreen: 0
- HueAdjustmentMagenta: 0
- HueAdjustmentOrange: 0
- HueAdjustmentPurple: 0
- HueAdjustmentRed: 0
- HueAdjustmentYellow: 0
- LensManualDistortionAmount: 0
- LensProfileChromaticAberrationScale: 100
- LensProfileDistortionScale: 100
- LensProfileEnable: 0
- LensProfileFilename: Canon EOS 5D Mark II (Canon EF 50mm f1.8 II) - RAW.lcp
- LensProfileSetup: LensDefaults
- LensProfileVignettingScale: 100
- LuminanceAdjustmentAqua: 0
- LuminanceAdjustmentBlue: 0
- LuminanceAdjustmentGreen: 0
- LuminanceAdjustmentMagenta: 0
- LuminanceAdjustmentOrange: 0
- LuminanceAdjustmentPurple: 0
- LuminanceAdjustmentRed: 0
- LuminanceAdjustmentYellow: 0
- LuminanceSmoothing: 0
- ParametricDarks: 0
- ParametricHighlightSplit: 75
- ParametricHighlights: 0
- ParametricLights: 0
- ParametricMidtoneSplit: 50
- ParametricShadowSplit: 25
- ParametricShadows: 0
- PerspectiveHorizontal: 0
- PerspectiveRotate: 0.0
- PerspectiveScale: 100
- PerspectiveVertical: 0
- PostCropVignetteAmount: 0
- ProcessVersion: 5.7
- RawFileName: IMG_3145.CR2
- RedHue: 0
- RedSaturation: 0
- Saturation: 0
- SaturationAdjustmentAqua: 0
- SaturationAdjustmentBlue: 0
- SaturationAdjustmentGreen: 0
- SaturationAdjustmentMagenta: 0
- SaturationAdjustmentOrange: 0
- SaturationAdjustmentPurple: 0
- SaturationAdjustmentRed: 0
- SaturationAdjustmentYellow: 0
- ShadowTint: 0
- Shadows: 12
- SharpenDetail: 25
- SharpenEdgeMasking: 0
- SharpenRadius: +1.0
- Sharpness: 25
- SplitToningBalance: 0
- SplitToningHighlightHue: 0
- SplitToningHighlightSaturation: 0
- SplitToningShadowHue: 0
- SplitToningShadowSaturation: 0
- Temperature: 6050
- Tint: +43
- ToneCurve: 0, 0, 32, 22, 64, 56, 128, 128, 192, 196, 255, 255
- ToneCurveName: Medium Contrast
- Version: 6.6
- Vibrance: 0
- VignetteAmount: 0
- WhiteBalance: As Shot
- XMP-dc
- Creator: ptv
- Format: image/x-canon-cr2
- Rights: ptv
- XMP-exif
- DateTimeOriginal: 2012:01:04 17:24:17.29
- FlashFired: False
- FlashFunction: False
- FlashMode: Off
- FlashRedEyeMode: False
- FlashReturn: No return detection
- MaxApertureValue: 1,8
- SensitivityType: 2
- ShutterSpeedValue: 1/30
- XMP-tiff
- Orientation: Rotate 270 CW
- XMP-xmp
- CreateDate: 2012:01:04 17:24:17.29
- ModifyDate: 2012:01:04 17:24:17.29
- Rating: 0
- XMP-xmpMM
- Просмотров: 165
- Рейтинг: голосов еще нет
- Отзывов: 0