- Раздел: Цветы
- Дата съёмки: 11.01.2012 12:11
- Дата загрузки фото: 11.01.2012 19:22
- Оригинальная фотография: 3000 x 2248 (1,6 Мб)
- Технические характеристики:
- Фотоаппарат: Canon PowerShot SX20 IS
- Выдержка: 1/100
- Гиперфокальное расстояние: inf m
- Диафрагма: 5,7
- Светочувствительность: 100
- Фокусное расстояние: 100,0 mm (35 mm equivalent: 700,0 mm)
- Экспокоррекция: -1/3
- Полный EXIF
- Composite
- Aperture: 5,7
- CircleOfConfusion: 0,004 mm
- DOF: inf (0,00 m - inf)
- FOV: 2,0 deg
- FocalLength35efl: 100,0 mm (35 mm equivalent: 700,0 mm)
- HyperfocalDistance: inf m
- ScaleFactor35efl: 7,4
- ShutterSpeed: 1/100
- ExifIFD
- ApertureValue: 5,7
- CreateDate: 2012:01:11 12:11:26
- CustomRendered: Normal
- DateTimeOriginal: 2012:01:11 12:11:26
- DigitalZoomRatio: 1
- ExifImageHeight: 2248
- ExifImageWidth: 3000
- ExposureCompensation: -1/3
- ExposureMode: Manual
- ExposureTime: 1/100
- FNumber: 5,7
- Flash: Off, Did not fire
- FocalLength: 100,0 mm
- ISO: 100
- LensInfo: 5-100mm f/?
- LensModel: 5.0-100.0 mm
- MaxApertureValue: 5,7
- MeteringMode: Multi-segment
- SceneCaptureType: Standard
- SensingMethod: One-chip color area
- SensitivityType: Unknown
- ShutterSpeedValue: 1/100
- SubjectDistance: 2,23 m
- WhiteBalance: Auto
- ICC-header
- ICC-meas
- ICC-view
- IFD0
- Make: Canon
- Model: Canon PowerShot SX20 IS
- ModifyDate: 2012:01:11 18:20:05
- Orientation: Horizontal (normal)
- Software: ACDSee Pro 5
- IFD1
- System
- XMP-aux
- ApproximateFocusDistance: 2,23
- Firmware: 1.02
- FlashCompensation: 0
- Lens: 5.0-100.0 mm
- XMP-crs
- AlreadyApplied: True
- BlueHue: 0
- BlueSaturation: 0
- Brightness: 0
- CameraProfile: Embedded
- ChromaticAberrationB: -100
- ChromaticAberrationR: +20
- Clarity: +39
- ColorNoiseReduction: 0
- Contrast: 0
- ConvertToGrayscale: False
- Defringe: 2
- Exposure: 0.00
- FillLight: 0
- GrainAmount: 0
- GreenHue: 0
- GreenSaturation: 0
- HasCrop: False
- HasSettings: True
- HighlightRecovery: 0
- HueAdjustmentAqua: 0
- HueAdjustmentBlue: 0
- HueAdjustmentGreen: 0
- HueAdjustmentMagenta: 0
- HueAdjustmentOrange: 0
- HueAdjustmentPurple: 0
- HueAdjustmentRed: 0
- HueAdjustmentYellow: 0
- IncrementalTemperature: 0
- IncrementalTint: 0
- LensManualDistortionAmount: 0
- LensProfileEnable: 0
- LensProfileSetup: LensDefaults
- LuminanceAdjustmentAqua: 0
- LuminanceAdjustmentBlue: 0
- LuminanceAdjustmentGreen: 0
- LuminanceAdjustmentMagenta: 0
- LuminanceAdjustmentOrange: 0
- LuminanceAdjustmentPurple: 0
- LuminanceAdjustmentRed: 0
- LuminanceAdjustmentYellow: 0
- LuminanceSmoothing: 0
- ParametricDarks: 0
- ParametricHighlightSplit: 75
- ParametricHighlights: 0
- ParametricLights: 0
- ParametricMidtoneSplit: 50
- ParametricShadowSplit: 25
- ParametricShadows: 0
- PerspectiveHorizontal: 0
- PerspectiveRotate: 0.0
- PerspectiveScale: 100
- PerspectiveVertical: 0
- PostCropVignetteAmount: 0
- ProcessVersion: 5.7
- RedHue: 0
- RedSaturation: 0
- Saturation: +22
- SaturationAdjustmentAqua: 0
- SaturationAdjustmentBlue: 0
- SaturationAdjustmentGreen: 0
- SaturationAdjustmentMagenta: 0
- SaturationAdjustmentOrange: 0
- SaturationAdjustmentPurple: 0
- SaturationAdjustmentRed: 0
- SaturationAdjustmentYellow: 0
- ShadowTint: 0
- Shadows: 0
- SharpenDetail: 25
- SharpenEdgeMasking: 0
- SharpenRadius: +1.0
- Sharpness: 0
- SplitToningBalance: 0
- SplitToningHighlightHue: 0
- SplitToningHighlightSaturation: 0
- SplitToningShadowHue: 0
- SplitToningShadowSaturation: 0
- ToneCurve: 0, 0, 255, 255
- ToneCurveName: Linear
- Version: 6.2
- Vibrance: +32
- VignetteAmount: 0
- WhiteBalance: As Shot
- XMP-exif
- DateTimeDigitized: 2012:01:11 12:11:26+02:00
- DateTimeOriginal: 2012:01:11 12:11:26+02:00
- ExifImageHeight: 3000
- ExifImageWidth: 4000
- FlashFired: False
- FlashFunction: False
- FlashMode: Off
- FlashRedEyeMode: False
- FlashReturn: No return detection
- XMP-tiff
- ImageHeight: 3000
- ImageWidth: 4000
- XMP-x
- XMP-xmp
- CreateDate: 2012:01:11 12:11:26+02:00
- ModifyDate: 2012:01:11 18:09:04+02:00
- Просмотров: 325
- Рейтинг: голосов еще нет
- Отзывов: 0