- Раздел: Другое, разное
- Дата съёмки: 25.04.2007 20:00
- Дата загрузки фото: 25.04.2007 22:02
- Оригинальная фотография: 1190 x 862 (445 Кб)
- Технические характеристики:
- Фотоаппарат: Canon EOS 10D
- Выдержка: 1/200
- Диафрагма: 3,5
- Светочувствительность: 400
- Фокусное расстояние: 200,0mm
- Полный EXIF
- ColorTransform: YCbCr
- Composite
- Aperture: 3,5
- EV: 9,3
- FocalLength35efl: 200,0mm
- ShutterSpeed: 1/200
- ExifIFD
- ApertureValue: 3,5
- ColorSpace: sRGB
- CreateDate: 2006:07:10 13:51:50
- DateTimeOriginal: 2006:07:10 13:51:50
- ExifImageLength: 862
- ExifImageWidth: 1190
- ExposureCompensation: 0
- ExposureProgram: Aperture-priority AE
- ExposureTime: 1/200
- FNumber: 3,5
- Flash: No Flash
- FocalLength: 200,0mm
- ISO: 400
- MaxApertureValue: 2,8
- MeteringMode: Multi-segment
- ShutterSpeedValue: 1/200
- ICC-header
- ICC-meas
- ICC-view
- IFD0
- Artist: Alex Usenko
- Make: Canon
- Model: Canon EOS 10D
- ModifyDate: 2007:04:25 20:00:03
- Orientation: Horizontal (normal)
- TimeZoneOffset: 2 2
- IFD1
- IPTC
- By-line: Alex Usenko
- XMP-aux
- Firmware: 2.0.0
- Lens: 80.0-200.0 mm
- LensInfo: 80
- OwnerName: Alex Usenko
- XMP-crs
- AlreadyApplied: True
- BlueHue: 0
- BlueSaturation: 0
- Brightness: +42
- CameraProfile: ACR 2.4
- ChromaticAberrationB: 0
- ChromaticAberrationR: 0
- ColorNoiseReduction: 50
- Contrast: +38
- ConvertToGrayscale: False
- CropAngle: 0
- CropBottom: 0.825748
- CropHeight: 3
- CropLeft: 0.175769
- CropRight: 0.841446
- CropTop: 0.160072
- CropUnit: 3
- CropWidth: 2
- Exposure: -0.20
- FillLight: 23
- GreenHue: 0
- GreenSaturation: 0
- HasCrop: True
- HasSettings: True
- HighlightRecovery: 0
- HueAdjustmentAqua: 0
- HueAdjustmentBlue: 0
- HueAdjustmentGreen: 0
- HueAdjustmentMagenta: 0
- HueAdjustmentOrange: 0
- HueAdjustmentPurple: 0
- HueAdjustmentRed: 0
- HueAdjustmentYellow: 0
- LuminanceAdjustmentAqua: 0
- LuminanceAdjustmentBlue: 0
- LuminanceAdjustmentGreen: 0
- LuminanceAdjustmentMagenta: 0
- LuminanceAdjustmentOrange: 0
- LuminanceAdjustmentPurple: 0
- LuminanceAdjustmentRed: 0
- LuminanceAdjustmentYellow: 0
- LuminanceSmoothing: 0
- ParametricDarks: 0
- ParametricHighlightSplit: 75
- ParametricHighlights: 0
- ParametricLights: 0
- ParametricMidtoneSplit: 50
- ParametricShadowSplit: 25
- ParametricShadows: 0
- RawFileName: CRW_9145.CRW
- RedHue: 0
- RedSaturation: 0
- Saturation: +8
- SaturationAdjustmentAqua: 0
- SaturationAdjustmentBlue: 0
- SaturationAdjustmentGreen: 0
- SaturationAdjustmentMagenta: 0
- SaturationAdjustmentOrange: 0
- SaturationAdjustmentPurple: 0
- SaturationAdjustmentRed: 0
- SaturationAdjustmentYellow: 0
- ShadowTint: 0
- Shadows: 5
- Sharpness: 0
- SplitToningBalance: 0
- SplitToningHighlightHue: 0
- SplitToningHighlightSaturation: 0
- SplitToningShadowHue: 0
- SplitToningShadowSaturation: 0
- Temperature: 4400
- Tint: +7
- ToneCurve: 0, 0, 32, 22, 64, 56, 128, 128, 192, 196, 255, 255
- ToneCurveName: Medium Contrast
- Version: 4.0
- Vibrance: 0
- VignetteAmount: 0
- WhiteBalance: As Shot
- XMP-dc
- Creator: Alex Usenko
- Format: image/jpeg
- XMP-exif
- DateTimeDigitized: 2006:07:10 13:51:50+02:00
- DateTimeOriginal: 2006:07:10 13:51:50+02:00
- ExifImageHeight: 862
- FlashFired: False
- XMP-tiff
- XMP-xmp
- CreateDate: 2007:04:25 20:00:03+02:00
- ModifyDate: 2007:04:25 20:00:03+02:00
- Rating: 0
- XMP-xmpMM
- DerivedFrom:
- Просмотров: 851
- Рейтинг: голосов еще нет
- Отзывов: 0