- Раздел: Другое, разное
- Дата съёмки: 06.08.2009 11:25
- Дата загрузки фото: 01.02.2012 20:22
- Оригинальная фотография: 800 x 533 (354 Кб)
- Технические характеристики:
- Фотоаппарат: Canon EOS 400D DIGITAL
- Выдержка: 1/1000
- Гиперфокальное расстояние: inf m
- Диафрагма: 8,0
- Светочувствительность: 100
- Фокусное расстояние: 55,0 mm (35 mm equivalent: 385,0 mm)
- Полный EXIF
- Adobe
- ColorTransform: YCbCr
- Composite
- Aperture: 8,0
- CircleOfConfusion: 0,004 mm
- FOV: 5,0 deg
- FocalLength35efl: 55,0 mm (35 mm equivalent: 385,0 mm)
- HyperfocalDistance: inf m
- ScaleFactor35efl: 7,9
- ShutterSpeed: 1/1000
- ExifIFD
- ApertureValue: 8,0
- ColorSpace: sRGB
- CreateDate: 2009:08:06 11:25:01
- CustomRendered: Normal
- DateTimeOriginal: 2009:08:06 11:25:01
- ExifImageHeight: 533
- ExifImageWidth: 800
- ExposureCompensation: 0
- ExposureMode: Manual
- ExposureProgram: Manual
- ExposureTime: 1/1000
- FNumber: 8,0
- Flash: Off, Did not fire
- FocalLength: 55,0 mm
- ISO: 100
- MaxApertureValue: 5,6
- MeteringMode: Average
- SceneCaptureType: Standard
- ShutterSpeedValue: 1/1000
- WhiteBalance: Auto
- ICC-header
- IFD0
- Artist: unknown
- Make: Canon
- Model: Canon EOS 400D DIGITAL
- ModifyDate: 2009:11:18 00:09:26
- Orientation: Horizontal (normal)
- IFD1
- IPTC
- By-line: unknown
- System
- XMP-aux
- Firmware: 1.0.4
- FlashCompensation: -1
- ImageNumber: 192
- Lens: EF-S18-55mm f/3.5-5.6
- LensInfo: 18-55mm f/?
- OwnerName: unknown
- SerialNumber: 430126551
- XMP-crs
- AlreadyApplied: True
- BlueHue: -6
- BlueSaturation: -57
- Brightness: +50
- CameraProfile: ACR 2.4
- ChromaticAberrationB: 0
- ChromaticAberrationR: 0
- Clarity: +100
- ColorNoiseReduction: 89
- Contrast: +25
- ConvertToGrayscale: False
- CropAngle: 0
- CropBottom: 0.901961
- CropHeight: 2202
- CropLeft: 0.141612
- CropRight: 0.991285
- CropTop: 0.052288
- CropUnit: pixels
- CropWidth: 3304
- Defringe: 0
- Exposure: 0.00
- FillLight: 13
- GradientBasedCorrActive: true
- GradientBasedCorrAmount: 1.000000
- GradientBasedCorrBrightness: 0.000000
- GradientBasedCorrClarity: 0.775000
- GradientBasedCorrContrast: 0.000000
- GradientBasedCorrExposure: 0.250000
- GradientBasedCorrHue: 0.000000
- GradientBasedCorrMaskFullX: 0.595141
- GradientBasedCorrMaskFullY: 0.960272
- GradientBasedCorrMaskValue: 1.000000
- GradientBasedCorrMaskWhat: Mask/Gradient
- GradientBasedCorrMaskZeroX: 0.596992
- GradientBasedCorrMaskZeroY: 0.646504
- GradientBasedCorrSaturation: 0.000000
- GradientBasedCorrSharpness: 0.000000
- GradientBasedCorrWhat: Correction
- GreenHue: 0
- GreenSaturation: +6
- HasCrop: True
- HasSettings: True
- HighlightRecovery: 0
- HueAdjustmentAqua: 0
- HueAdjustmentBlue: 0
- HueAdjustmentGreen: 0
- HueAdjustmentMagenta: 0
- HueAdjustmentOrange: 0
- HueAdjustmentPurple: 0
- HueAdjustmentRed: 0
- HueAdjustmentYellow: 0
- LuminanceAdjustmentAqua: -20
- LuminanceAdjustmentBlue: -92
- LuminanceAdjustmentGreen: 0
- LuminanceAdjustmentMagenta: 0
- LuminanceAdjustmentOrange: +23
- LuminanceAdjustmentPurple: +58
- LuminanceAdjustmentRed: +1
- LuminanceAdjustmentYellow: +12
- LuminanceSmoothing: 0
- ParametricDarks: +6
- ParametricHighlightSplit: 75
- ParametricHighlights: +54
- ParametricLights: +100
- ParametricMidtoneSplit: 50
- ParametricShadowSplit: 25
- ParametricShadows: -46
- PostCropVignetteAmount: 0
- RedHue: 0
- RedSaturation: -9
- Saturation: -100
- SaturationAdjustmentAqua: -100
- SaturationAdjustmentBlue: -100
- SaturationAdjustmentGreen: -100
- SaturationAdjustmentMagenta: -100
- SaturationAdjustmentOrange: -100
- SaturationAdjustmentPurple: -100
- SaturationAdjustmentRed: -1
- SaturationAdjustmentYellow: -100
- ShadowTint: 0
- Shadows: 5
- SharpenDetail: 0
- SharpenEdgeMasking: 0
- SharpenRadius: +0.5
- Sharpness: 25
- SplitToningBalance: +63
- SplitToningHighlightHue: 62
- SplitToningHighlightSaturation: 3
- SplitToningShadowHue: 232
- SplitToningShadowSaturation: 14
- Temperature: 8386
- Tint: -150
- ToneCurve: 0, 0, 32, 22, 64, 56, 128, 128, 192, 196, 255, 255
- ToneCurveName: Medium Contrast
- Version: 5.4
- Vibrance: -100
- VignetteAmount: 0
- WhiteBalance: Custom
- XMP-dc
- Creator: unknown
- Format: image/jpeg
- XMP-exif
- DateTimeDigitized: 2009:08:06 11:25:01+09:00
- DateTimeOriginal: 2009:08:06 11:25:01+09:00
- FlashFired: False
- FlashFunction: False
- FlashMode: Off
- FlashRedEyeMode: False
- FlashReturn: No return detection
- XMP-tiff
- ImageHeight: 2202
- ImageWidth: 3304
- XMP-xmp
- CreateDate: 2009:08:06 11:25:01+09:00
- ModifyDate: 2009:11:18 00:09:26+08:00
- XMP-xmpMM