- Раздел: Автомобили
- Дата съёмки: 26.08.2011 17:30
- Дата загрузки фото: 20.02.2012 13:45
- Оригинальная фотография: 4320 x 3240 (1,3 Мб)
- Технические характеристики:
- Фотоаппарат: Canon PowerShot A2200
- Выдержка: 1/100
- Гиперфокальное расстояние: inf m
- Диафрагма: 2,8
- Светочувствительность: 200
- Фокусное расстояние: 5,0 mm (35 mm equivalent: 25,0 mm)
- Полный EXIF
- Canon
- AEBBracketValue: 0
- AESetting: Normal AE
- AFAreaHeights: 18 0 0 0 0 0 0 0 0
- AFAreaMode: Single-point AF
- AFAreaWidths: 18 0 0 0 0 0 0 0 0
- AFAreaXPositions: 0 0 0 0 0 0 0 0 0
- AFAreaYPositions: 0 0 0 0 0 0 0 0 0
- AFImageHeight: 100
- AFImageWidth: 100
- AFPoint: Manual AF point selection
- AFPointsInFocus: 0
- AutoExposureBracketing: Off
- AutoISO: 100
- AutoRotate: None
- BaseISO: 200
- BulbDuration: 0
- CameraISO: 200
- CameraType: Compact
- CanonExposureMode: Program AE
- CanonFirmwareVersion: Firmware Version 1.00
- CanonFlashMode: Off
- CanonImageHeight: 3240
- CanonImageType: IMG:PowerShot A2200 JPEG
- CanonImageWidth: 4320
- CanonModelID: Unknown (0x3050000)
- Categories: (none)
- ContinuousDrive: Continuous
- Contrast: Normal
- ControlMode: Camera Local Control
- DateStampMode: Off
- DigitalZoom: None
- EasyMode: Manual
- ExposureCompensation: 0
- ExposureTime: 1/112
- FNumber: 2,9
- FileNumber: 225-0454
- FirmwareRevision: 1.00 rev 2.00
- FlashBits: (none)
- FlashExposureComp: 0
- FlashGuideNumber: 0
- FlashOutput: 0
- FocalUnits: 1000/mm
- FocusContinuous: Single
- FocusDistanceLower: 0 m
- FocusDistanceUpper: 1,4 m
- FocusMode: Single
- FocusRange: Auto
- LensType: Unknown (-1)
- LongFocal: 20 mm
- MacroMode: Normal
- ManualFlashOutput: n/a
- MaxAperture: 2,8
- MeasuredEV: 9,59
- MeteringMode: Center-weighted average
- MinAperture: 8
- MyColorMode: Off
- NDFilter: Off
- NumAFPoints: 9
- OpticalZoomCode: 0
- OwnerName:
- PrimaryAFPoint: 0
- Quality: Normal
- RecordMode: JPEG
- Saturation: Normal
- SelfTimer: Off
- SelfTimer2: 0
- SequenceNumber: 1
- Sharpness: 0
- ShortFocal: 5 mm
- SlowShutter: Off
- SpotMeteringMode: Center
- TargetAperture: 2,8
- TargetExposureTime: 1/101
- VRDOffset: 0
- ValidAFPoints: 1
- WhiteBalance: Auto
- ZoomSourceWidth: 4320
- ZoomTargetWidth: 4320
- Composite
- Aperture: 2,8
- CircleOfConfusion: 0,005 mm
- DOF: inf (0,00 m - inf)
- DriveMode: Continuous Shooting
- FOV: 71,0 deg
- FocalLength35efl: 5,0 mm (35 mm equivalent: 25,0 mm)
- HyperfocalDistance: inf m
- ISO: 200
- Lens: 5,0 - 20,0 mm
- Lens35efl: 5,0 - 20,0 mm (35 mm equivalent: 28,1 - 112,2 mm)
- LensID: Unknown 5-20mm
- ScaleFactor35efl: 5,6
- ShootingMode: Program AE
- ShutterSpeed: 1/100
- ExifIFD
- ApertureValue: 2,8
- ColorSpace: sRGB
- CompressedBitsPerPixel: 2
- CreateDate: 2011:08:26 17:30:02
- CustomRendered: Normal
- DateTimeOriginal: 2011:08:26 17:30:02
- DigitalZoomRatio: 1
- ExifImageHeight: 3240
- ExifImageWidth: 4320
- ExposureMode: Auto
- ExposureTime: 1/100
- FNumber: 2,8
- Flash: Off, Did not fire
- FocalLength: 5,0 mm
- MaxApertureValue: 2,8
- SceneCaptureType: Standard
- SensingMethod: One-chip color area
- SensitivityType: Standard Output Sensitivity and Recommended Exposure Index
- ShutterSpeedValue: 1/101
- UserComment:
- IFD0
- ImageDescription:
- Make: Canon
- Model: Canon PowerShot A2200
- ModifyDate: 2011:08:26 17:30:02
- Orientation: Horizontal (normal)
- IFD1
- RelatedImageHeight: 3240
- RelatedImageWidth: 4320
- System
- XMP-aux
- Firmware: 1.00
- FlashCompensation: 0
- Lens: 5.0-20.0 mm
- LensID: 65535
- LensInfo: 5-20mm f/?
- XMP-crs
- AlreadyApplied: False
- BlueHue: 0
- BlueSaturation: 0
- Brightness: 0
- CameraProfile: Embedded
- ChromaticAberrationB: 0
- ChromaticAberrationR: 0
- Clarity: +49
- ColorNoiseReduction: 0
- Contrast: 0
- ConvertToGrayscale: False
- Defringe: 0
- Exposure: 0.00
- FillLight: 10
- GrainAmount: 0
- GreenHue: 0
- GreenSaturation: 0
- HasCrop: False
- HasSettings: True
- HighlightRecovery: 0
- HueAdjustmentAqua: 0
- HueAdjustmentBlue: 0
- HueAdjustmentGreen: 0
- HueAdjustmentMagenta: 0
- HueAdjustmentOrange: 0
- HueAdjustmentPurple: 0
- HueAdjustmentRed: 0
- HueAdjustmentYellow: 0
- IncrementalTemperature: 0
- IncrementalTint: 0
- LuminanceAdjustmentAqua: 0
- LuminanceAdjustmentBlue: 0
- LuminanceAdjustmentGreen: 0
- LuminanceAdjustmentMagenta: 0
- LuminanceAdjustmentOrange: 0
- LuminanceAdjustmentPurple: 0
- LuminanceAdjustmentRed: 0
- LuminanceAdjustmentYellow: 0
- LuminanceSmoothing: 0
- ParametricDarks: 0
- ParametricHighlightSplit: 75
- ParametricHighlights: 0
- ParametricLights: 0
- ParametricMidtoneSplit: 50
- ParametricShadowSplit: 25
- ParametricShadows: 0
- PostCropVignetteAmount: 0
- ProcessVersion: 5.7
- RawFileName: IMG_0454.JPG
- RedHue: 0
- RedSaturation: 0
- Saturation: 0
- SaturationAdjustmentAqua: 0
- SaturationAdjustmentBlue: 0
- SaturationAdjustmentGreen: 0
- SaturationAdjustmentMagenta: 0
- SaturationAdjustmentOrange: 0
- SaturationAdjustmentPurple: 0
- SaturationAdjustmentRed: 0
- SaturationAdjustmentYellow: 0
- ShadowTint: 0
- Shadows: 0
- SharpenDetail: 25
- SharpenEdgeMasking: 0
- SharpenRadius: +1.0
- SplitToningBalance: 0
- SplitToningHighlightHue: 0
- SplitToningHighlightSaturation: 0
- SplitToningShadowHue: 0
- SplitToningShadowSaturation: 0
- ToneCurve: 0, 0, 255, 255
- ToneCurveName: Linear
- Version: 6.0
- Vibrance: 0
- VignetteAmount: 0
- WhiteBalance: As Shot
- XMP-exif
- DateTimeDigitized: 2011:08:26 17:30:02+04:00
- DateTimeOriginal: 2011:08:26 17:30:02+04:00
- FlashFired: False
- FlashFunction: False
- FlashMode: Off
- FlashRedEyeMode: False
- FlashReturn: No return detection
- ShutterSpeedValue: 1/100
- SubjectDistance: 1,38 m
- XMP-tiff
- XMP-xmp
- CreateDate: 2011:08:26 17:30:02+04:00
- ModifyDate: 2011:08:26 17:30:02+04:00
- Rating: 0
- Просмотров: 2188
- Рейтинг: голосов еще нет
- Отзывов: 0