- Раздел: Спорт
- Дата съёмки: 04.03.2012 09:49
- Дата загрузки фото: 06.03.2012 12:37
- Оригинальная фотография: 3456 x 5184 (10,2 Мб)
- Технические характеристики:
- Фотоаппарат: Canon EOS 7D
- Выдержка: 1/250
- Гиперфокальное расстояние: inf m
- Диафрагма: 2,8
- Светочувствительность: 400
- Фокусное расстояние: 200,0 mm (35 mm equivalent: 200,0 mm)
- Полный EXIF
- Adobe
- ColorTransform: YCbCr
- Composite
- Aperture: 2,8
- CircleOfConfusion: 0,019 mm
- DOF: inf (0,00 m - inf)
- FOV: 10,0 deg
- FocalLength35efl: 200,0 mm (35 mm equivalent: 200,0 mm)
- HyperfocalDistance: inf m
- ScaleFactor35efl: 1,6
- ShutterSpeed: 1/250
- ExifIFD
- ApertureValue: 2,8
- CreateDate: 2012:03:04 09:49:18
- CustomRendered: Normal
- DateTimeOriginal: 2012:03:04 09:49:18
- ExposureCompensation: 0
- ExposureMode: Manual
- ExposureProgram: Manual
- ExposureTime: 1/250
- FNumber: 2,8
- Flash: On, Fired
- FocalLength: 200,0 mm
- ISO: 400
- MaxApertureValue: 2,8
- MeteringMode: Multi-segment
- SceneCaptureType: Standard
- ShutterSpeedValue: 1/250
- SubjectDistance: 11,9 m
- WhiteBalance: Auto
- ICC-header
- ICC-meas
- ICC-view
- IFD0
- Artist: Max Glushkov
- Make: Canon
- Model: Canon EOS 7D
- ModifyDate: 2012:03:06 12:36:41
- IFD1
- IPTC
- By-line: Max Glushkov
- System
- XMP-aux
- Firmware: 1.2.2
- FlashCompensation: 0
- ImageNumber: 0
- Lens: EF70-200mm f/2.8L IS II USM
- LensID: 251
- LensInfo: 70-200mm f/?
- SerialNumber: 880501249
- XMP-crs
- AlreadyApplied: True
- BlueHue: 0
- BlueSaturation: 0
- Brightness: +50
- ChromaticAberrationB: 0
- ChromaticAberrationR: 0
- Clarity: 0
- ColorNoiseReduction: 25
- ColorNoiseReductionDetail: 50
- Contrast: +42
- ConvertToGrayscale: False
- Defringe: 0
- Exposure: 0.00
- FillLight: 0
- GrainAmount: 0
- GreenHue: 0
- GreenSaturation: 0
- HasCrop: False
- HasSettings: True
- HighlightRecovery: 47
- HueAdjustmentAqua: 0
- HueAdjustmentBlue: 0
- HueAdjustmentGreen: 0
- HueAdjustmentMagenta: 0
- HueAdjustmentOrange: 0
- HueAdjustmentPurple: 0
- HueAdjustmentRed: 0
- HueAdjustmentYellow: 0
- LuminanceAdjustmentAqua: 0
- LuminanceAdjustmentBlue: 0
- LuminanceAdjustmentGreen: 0
- LuminanceAdjustmentMagenta: 0
- LuminanceAdjustmentOrange: 0
- LuminanceAdjustmentPurple: 0
- LuminanceAdjustmentRed: 0
- LuminanceAdjustmentYellow: 0
- LuminanceNoiseReductionContrast: 0
- LuminanceNoiseReductionDetail: 50
- LuminanceSmoothing: 18
- ParametricDarks: 0
- ParametricHighlightSplit: 75
- ParametricHighlights: 0
- ParametricLights: 0
- ParametricMidtoneSplit: 50
- ParametricShadowSplit: 25
- ParametricShadows: 0
- PostCropVignetteAmount: 0
- ProcessVersion: 5.7
- RawFileName: IMG_2649.CR2
- RedHue: 0
- RedSaturation: 0
- Saturation: 0
- SaturationAdjustmentAqua: 0
- SaturationAdjustmentBlue: 0
- SaturationAdjustmentGreen: 0
- SaturationAdjustmentMagenta: 0
- SaturationAdjustmentOrange: 0
- SaturationAdjustmentPurple: 0
- SaturationAdjustmentRed: 0
- SaturationAdjustmentYellow: 0
- ShadowTint: 0
- Shadows: 3
- SharpenDetail: 25
- SharpenEdgeMasking: 0
- SharpenRadius: +1.0
- Sharpness: 25
- SplitToningBalance: 0
- SplitToningHighlightHue: 0
- SplitToningHighlightSaturation: 0
- SplitToningShadowHue: 0
- SplitToningShadowSaturation: 0
- Temperature: 5300
- Tint: -1
- ToneCurve: 0, 0, 32, 22, 64, 56, 128, 128, 192, 196, 255, 255
- ToneCurveName: Medium Contrast
- Version: 6.0
- Vibrance: 0
- VignetteAmount: 0
- WhiteBalance: As Shot
- XMP-dc
- XMP-exif
- DateTimeDigitized: 2012:03:04 09:49:18.00+04:00
- DateTimeOriginal: 2012:03:04 09:49:18.00+04:00
- ExifImageHeight: 5184
- ExifImageWidth: 3456
- FlashFired: True
- FlashFunction: False
- FlashMode: On
- FlashRedEyeMode: False
- FlashReturn: No return detection
- XMP-tiff
- ImageHeight: 5184
- ImageWidth: 3456
- XMP-xmp
- CreateDate: 2012:03:04 09:49:18.00+04:00
- ModifyDate: 2012:03:06 12:36:41+04:00
- Rating: 0