Храм Воскресения Христова в Сокольниках.jpg
Храм построен по проекту архитектора П. А. Толстых в 1909—1913 годах.
В 1945 году в храме проходил Поместный собор, избравший Патриархом Московским и всея Руси Алексия I.
- Раздел: Репортаж
- Дата съёмки: 22.03.2012 17:21
- Дата загрузки фото: 03.04.2012 19:11
- Оригинальная фотография: 2500 x 3333 (2,1 Мб)
- Технические характеристики:
- Фотоаппарат: Canon PowerShot A2200
- Выдержка: 1/800
- Гиперфокальное расстояние: inf m
- Диафрагма: 3,3
- Светочувствительность: 80
- Фокусное расстояние: 7,0 mm (35 mm equivalent: 35,0 mm)
- Экспокоррекция: -1/3
- Полный EXIF
- Adobe
- ColorTransform: YCbCr
- Composite
- Aperture: 3,3
- CircleOfConfusion: 0,005 mm
- FOV: 54,0 deg
- FocalLength35efl: 7,0 mm (35 mm equivalent: 35,0 mm)
- HyperfocalDistance: inf m
- ScaleFactor35efl: 5,9
- ShutterSpeed: 1/800
- ExifIFD
- ApertureValue: 3,3
- ColorSpace: sRGB
- DateTimeOriginal: 2012:03:22 17:21:26
- ExifImageHeight: 3333
- ExifImageWidth: 2500
- ExposureCompensation: -1/3
- ExposureProgram: Program AE
- ExposureTime: 1/800
- FNumber: 3,3
- Flash: Off, Did not fire
- FocalLength: 7,4 mm
- FocalLengthIn35mmFormat: 41 mm
- ISO: 80
- MaxApertureValue: 3,4
- MeteringMode: Multi-segment
- ShutterSpeedValue: 1/800
- ICC-header
- ICC-meas
- ICC-view
- IFD0
- Make: Canon
- Model: Canon PowerShot A2200
- ModifyDate: 2012:04:03 19:07:39
- Orientation: Horizontal (normal)
- IFD1
- IPTC
- DateCreated: 2012:03:22
- System
- XMP-aux
- Lens: 5.0-20.0 mm f/2.7-5.6
- LensInfo: 5-20mm f/2.7-5.6
- XMP-crs
- AlreadyApplied: True
- BlueHue: 0
- BlueSaturation: 0
- Brightness: +3
- CameraProfile: Embedded
- ChromaticAberrationB: 0
- ChromaticAberrationR: 0
- Clarity: +42
- ColorNoiseReduction: 100
- ColorNoiseReductionDetail: 50
- Contrast: +8
- ConvertToGrayscale: False
- Defringe: 0
- Exposure: -0.15
- FillLight: 0
- GrainAmount: 0
- GreenHue: 0
- GreenSaturation: 0
- HasCrop: False
- HasSettings: True
- HighlightRecovery: 8
- HueAdjustmentAqua: 0
- HueAdjustmentBlue: 0
- HueAdjustmentGreen: 0
- HueAdjustmentMagenta: 0
- HueAdjustmentOrange: 0
- HueAdjustmentPurple: 0
- HueAdjustmentRed: 0
- HueAdjustmentYellow: 0
- IncrementalTemperature: +18
- IncrementalTint: -9
- LuminanceAdjustmentAqua: 0
- LuminanceAdjustmentBlue: 0
- LuminanceAdjustmentGreen: 0
- LuminanceAdjustmentMagenta: 0
- LuminanceAdjustmentOrange: 0
- LuminanceAdjustmentPurple: 0
- LuminanceAdjustmentRed: 0
- LuminanceAdjustmentYellow: 0
- LuminanceNoiseReductionContrast: 0
- LuminanceNoiseReductionDetail: 50
- LuminanceSmoothing: 15
- ParametricDarks: 0
- ParametricHighlightSplit: 75
- ParametricHighlights: 0
- ParametricLights: 0
- ParametricMidtoneSplit: 50
- ParametricShadowSplit: 25
- ParametricShadows: 0
- PostCropVignetteAmount: 0
- ProcessVersion: 5.7
- RawFileName: CRW_0791_1-super.jpg
- RedHue: 0
- RedSaturation: 0
- Saturation: 0
- SaturationAdjustmentAqua: 0
- SaturationAdjustmentBlue: 0
- SaturationAdjustmentGreen: 0
- SaturationAdjustmentMagenta: 0
- SaturationAdjustmentOrange: 0
- SaturationAdjustmentPurple: 0
- SaturationAdjustmentRed: 0
- SaturationAdjustmentYellow: 0
- ShadowTint: 0
- Shadows: 0
- SharpenDetail: 49
- SharpenEdgeMasking: 0
- SharpenRadius: +2.4
- Sharpness: 8
- SplitToningBalance: 0
- SplitToningHighlightHue: 0
- SplitToningHighlightSaturation: 0
- SplitToningShadowHue: 0
- SplitToningShadowSaturation: 0
- ToneCurve: 0, 0, 255, 255
- ToneCurveName: Linear
- Version: 6.0
- Vibrance: +20
- VignetteAmount: 0
- WhiteBalance: Custom
- XMP-dc
- XMP-microsoft
- XMP-xmp
- CreateDate: 2012:03:22 17:21:26+03:00
- ModifyDate: 2012:04:03 19:07:39+04:00
- Rating: 0
- XMP-xmpMM
- Просмотров: 2042
- Рейтинг: голосов еще нет
- Отзывов: 0
Получить код для блога
Вставка фотографии в текущем разрешении |
Вставка миниатюры |
HTML (для вставки в блог):
BBCode (для вставки в форум):
Ссылка на фото:
Ссылка на миниатюру:
- Послать ссылку другу
Комментарии к фотографии |