» Участники » Nikita SPb » Test » Canon 350D, Canon 85/1.8 |
Canon 350D, Canon 85/1.8 |
![](img/title-line.gif) |
![](img/title-shadow.gif) | |
Canon 350D, Canon 85/1.8
- Раздел: Другое, разное
- Дата съёмки: 04.05.2007 15:05
- Дата загрузки фото: 04.05.2007 15:08
- Оригинальная фотография: 2304 x 3456 (1,5 Мб)
- Технические характеристики:
- Фотоаппарат: Canon EOS 350D DIGITAL
- Выдержка: 1/90
- Гиперфокальное расстояние: 139,38 m
- Диафрагма: 2,8
- Светочувствительность: 200
- Фокусное расстояние: 85,0mm (35mm эквивалент: 137,9mm)
- Полный EXIF
- ColorTransform: YCbCr
- Composite
- Aperture: 2,8
- CircleOfConfusion: 0,019 mm
- EV: 8,5
- FocalLength35efl: 85,0mm (35mm equivalent: 137,9mm)
- HyperfocalDistance: 139,38 m
- ScaleFactor35efl: 1,6
- ShutterSpeed: 1/90
- ExifIFD
- ApertureValue: 2,8
- ColorSpace: sRGB
- CreateDate: 2007:02:17 20:53:40
- CustomRendered: Normal
- DateTimeOriginal: 2007:02:17 20:53:40
- ExifImageLength: 3456
- ExifImageWidth: 2304
- ExposureCompensation: 0
- ExposureMode: Auto
- ExposureProgram: Aperture-priority AE
- ExposureTime: 1/90
- FNumber: 2,8
- Flash: Off
- FocalLength: 85,0mm
- ISO: 200
- MaxApertureValue: 1,8
- MeteringMode: Partial
- SceneCaptureType: Standard
- ShutterSpeedValue: 1/90
- WhiteBalance: Auto
- ICC-header
- ICC-meas
- ICC-view
- IFD0
- Artist: unknown
- Make: Canon
- Model: Canon EOS 350D DIGITAL
- ModifyDate: 2007:05:04 15:05:42
- Orientation: Horizontal (normal)
- TimeZoneOffset: 3 3
- IFD1
- IPTC
- By-line: unknown
- XMP-aux
- Firmware: 1.0.3
- FlashCompensation: 0
- ImageNumber: 22
- Lens: 85.0 mm
- LensInfo: 85
- OwnerName: unknown
- SerialNumber: 330110701
- XMP-crs
- AlreadyApplied: True
- BlueHue: 0
- BlueSaturation: 0
- Brightness: +70
- CameraProfile: ACR 3.1
- ChromaticAberrationB: 0
- ChromaticAberrationR: 0
- ColorNoiseReduction: 25
- Contrast: +29
- ConvertToGrayscale: False
- Exposure: -0.05
- FillLight: 13
- GreenHue: 0
- GreenSaturation: 0
- HasCrop: False
- HasSettings: True
- HighlightRecovery: 20
- HueAdjustmentAqua: 0
- HueAdjustmentBlue: 0
- HueAdjustmentGreen: 0
- HueAdjustmentMagenta: 0
- HueAdjustmentOrange: 0
- HueAdjustmentPurple: 0
- HueAdjustmentRed: 0
- HueAdjustmentYellow: 0
- LuminanceAdjustmentAqua: 0
- LuminanceAdjustmentBlue: 0
- LuminanceAdjustmentGreen: 0
- LuminanceAdjustmentMagenta: 0
- LuminanceAdjustmentOrange: 0
- LuminanceAdjustmentPurple: 0
- LuminanceAdjustmentRed: 0
- LuminanceAdjustmentYellow: 0
- LuminanceSmoothing: 0
- ParametricDarks: 0
- ParametricHighlightSplit: 75
- ParametricHighlights: 0
- ParametricLights: 0
- ParametricMidtoneSplit: 50
- ParametricShadowSplit: 25
- ParametricShadows: 0
- RawFileName: IMG_4886.CR2
- RedHue: 0
- RedSaturation: 0
- Saturation: 0
- SaturationAdjustmentAqua: 0
- SaturationAdjustmentBlue: 0
- SaturationAdjustmentGreen: 0
- SaturationAdjustmentMagenta: 0
- SaturationAdjustmentOrange: 0
- SaturationAdjustmentPurple: 0
- SaturationAdjustmentRed: 0
- SaturationAdjustmentYellow: 0
- ShadowTint: 0
- Shadows: 0
- Sharpness: 35
- SplitToningBalance: 0
- SplitToningHighlightHue: 0
- SplitToningHighlightSaturation: 0
- SplitToningShadowHue: 0
- SplitToningShadowSaturation: 0
- Temperature: 2800
- Tint: +8
- ToneCurve: 0, 0, 32, 22, 64, 56, 128, 128, 192, 196, 255, 255
- ToneCurveName: Medium Contrast
- Version: 4.0
- Vibrance: 0
- VignetteAmount: 0
- WhiteBalance: Custom
- XMP-dc
- Creator: unknown
- Format: image/jpeg
- XMP-exif
- DateTimeDigitized: 2007:02:17 20:53:40+03:00
- DateTimeOriginal: 2007:02:17 20:53:40+03:00
- ExifImageHeight: 3456
- FlashFired: False
- FlashFunction: False
- FlashMode: Off
- FlashRedEyeMode: False
- FlashReturn: No return detection
- XMP-tiff
- XMP-xmp
- CreateDate: 2007:05:04 15:05:42+04:00
- ModifyDate: 2007:05:04 15:05:42+04:00
- Rating: 0
- XMP-xmpMM
- DerivedFrom:
- Просмотров: 918
- Рейтинг: голосов еще нет
- Отзывов: 0
Получить код для блога
Вставка фотографии в текущем разрешении |
Вставка миниатюры |
HTML (для вставки в блог):
BBCode (для вставки в форум):
Ссылка на фото:
Ссылка на миниатюру:
- Послать ссылку другу
Комментарии к фотографии |