- Раздел: Путешествия
- Дата съёмки: 02.06.2012 08:49
- Дата загрузки фото: 29.06.2012 23:43
- Оригинальная фотография: 2400 x 1496 (2,4 Мб)
- Технические характеристики:
- Фотоаппарат: Canon EOS 60D
- Выдержка: 1/100
- Гиперфокальное расстояние: inf m
- Диафрагма: 5,0
- Светочувствительность: 100
- Фокусное расстояние: 35,0 mm (35 mm equivalent: 105,0 mm)
- Экспокоррекция: -2/3
- Полный EXIF
- Adobe
- ColorTransform: YCbCr
- Composite
- Aperture: 5,0
- CircleOfConfusion: 0,009 mm
- FOV: 19,0 deg
- FocalLength35efl: 35,0 mm (35 mm equivalent: 105,0 mm)
- HyperfocalDistance: inf m
- ScaleFactor35efl: 3,5
- ShutterSpeed: 1/100
- ExifIFD
- ApertureValue: 5,0
- ColorSpace: sRGB
- CreateDate: 2012:06:02 08:49:58
- CustomRendered: Normal
- DateTimeOriginal: 2012:06:02 08:49:58
- ExifImageHeight: 1496
- ExifImageWidth: 2400
- ExposureCompensation: -2/3
- ExposureMode: Auto
- ExposureProgram: Aperture-priority AE
- ExposureTime: 1/100
- FNumber: 5,0
- Flash: Off, Did not fire
- FocalLength: 35,0 mm
- ISO: 100
- LensInfo: 35mm f/?
- LensModel: EF35mm f/1.4L USM
- LensSerialNumber: 0000000000
- MaxApertureValue: 1,4
- MeteringMode: Multi-segment
- RecommendedExposureIndex: 100
- SceneCaptureType: Standard
- SensitivityType: Recommended Exposure Index
- SerialNumber: 0780425294
- ShutterSpeedValue: 1/100
- WhiteBalance: Auto
- ICC-header
- ICC-meas
- ICC-view
- IFD0
- Artist: Aliko
- BitsPerSample: 8 8 8
- ImageHeight: 1496
- ImageWidth: 2400
- Make: Canon
- Model: Canon EOS 60D
- ModifyDate: 2012:06:11 06:22:05
- Orientation: Horizontal (normal)
- PhotometricInterpretation: RGB
- SamplesPerPixel: 3
- IFD1
- IPTC
- By-line: Aliko
- DateCreated: 2012:06:02
- System
- XMP-aux
- ApproximateFocusDistance: 4294967295
- Firmware: 1.1.0
- FlashCompensation: 0
- ImageNumber: 0
- Lens: EF35mm f/1.4L USM
- LensID: 180
- XMP-crs
- AlreadyApplied: True
- AutoLateralCA: 1
- Blacks2012: 0
- BlueHue: 0
- BlueSaturation: 0
- Clarity2012: +24
- ColorNoiseReduction: 25
- ColorNoiseReductionDetail: 50
- Contrast2012: +9
- ConvertToGrayscale: False
- CropAngle: 0.742471
- CropBottom: 1
- CropConstrainToWarp: 1
- CropLeft: 0.056769
- CropRight: 0.917183
- CropTop: 0.171661
- DefringeGreenAmount: 0
- DefringeGreenHueHi: 60
- DefringeGreenHueLo: 40
- DefringePurpleAmount: 0
- DefringePurpleHueHi: 70
- DefringePurpleHueLo: 30
- Exposure2012: +0.15
- GrainAmount: 0
- GreenHue: 0
- GreenSaturation: 0
- HasCrop: True
- HasSettings: True
- Highlights2012: -79
- HueAdjustmentAqua: 0
- HueAdjustmentBlue: 0
- HueAdjustmentGreen: 0
- HueAdjustmentMagenta: 0
- HueAdjustmentOrange: 0
- HueAdjustmentPurple: 0
- HueAdjustmentRed: 0
- HueAdjustmentYellow: 0
- LensManualDistortionAmount: 0
- LensProfileChromaticAberrationScale: 100
- LensProfileDistortionScale: 100
- LensProfileEnable: 1
- LensProfileFilename: Canon EOS 5D Mark II (Canon EF 35mm f1.4L USM) - RAW.lcp
- LensProfileSetup: Custom
- LensProfileVignettingScale: 120
- LuminanceAdjustmentAqua: 0
- LuminanceAdjustmentBlue: 0
- LuminanceAdjustmentGreen: 0
- LuminanceAdjustmentMagenta: 0
- LuminanceAdjustmentOrange: 0
- LuminanceAdjustmentPurple: 0
- LuminanceAdjustmentRed: 0
- LuminanceAdjustmentYellow: 0
- LuminanceSmoothing: 0
- ParametricDarks: 0
- ParametricHighlightSplit: 75
- ParametricHighlights: 0
- ParametricLights: 0
- ParametricMidtoneSplit: 50
- ParametricShadowSplit: 25
- ParametricShadows: 0
- PerspectiveHorizontal: 0
- PerspectiveRotate: 0.0
- PerspectiveScale: 100
- PerspectiveVertical: 0
- PostCropVignetteAmount: 0
- ProcessVersion: 6.7
- RawFileName: IMG_0215.CR2
- RedHue: 0
- RedSaturation: 0
- Saturation: 0
- SaturationAdjustmentAqua: 0
- SaturationAdjustmentBlue: 0
- SaturationAdjustmentGreen: 0
- SaturationAdjustmentMagenta: 0
- SaturationAdjustmentOrange: 0
- SaturationAdjustmentPurple: 0
- SaturationAdjustmentRed: 0
- SaturationAdjustmentYellow: 0
- ShadowTint: 0
- Shadows2012: -6
- SharpenDetail: 25
- SharpenEdgeMasking: 0
- SharpenRadius: +1.0
- Sharpness: 25
- SplitToningBalance: 0
- SplitToningHighlightHue: 0
- SplitToningHighlightSaturation: 0
- SplitToningShadowHue: 0
- SplitToningShadowSaturation: 0
- Temperature: 4600
- Tint: +24
- ToneCurveName2012: Linear
- ToneCurvePV2012: 0, 0, 255, 255
- ToneCurvePV2012Blue: 0, 0, 255, 255
- ToneCurvePV2012Green: 0, 0, 255, 255
- ToneCurvePV2012Red: 0, 0, 255, 255
- Version: 7.1
- Vibrance: +12
- VignetteAmount: 0
- WhiteBalance: As Shot
- Whites2012: 0
- XMP-dc
- Creator: Aliko
- Format: image/jpeg
- XMP-xmp
- ModifyDate: 2012:06:11 06:22:05+04:00
- Rating: 0
- XMP-xmpMM
- Просмотров: 237
- Рейтинг: голосов еще нет
- Отзывов: 0