- Раздел: Другое, разное
- Дата съёмки: 07.07.2012 22:01
- Дата загрузки фото: 08.07.2012 00:45
- Оригинальная фотография: 4608 x 3456 (11,0 Мб)
- Технические характеристики:
- Фотоаппарат: Panasonic DMC-GH2
- Выдержка: 1/40
- Гиперфокальное расстояние: inf m
- Диафрагма: 2,8
- Светочувствительность: 160
- Фокусное расстояние: 20,0 mm (35 mm equivalent: 40,0 mm)
- Полный EXIF
- Adobe
- ColorTransform: YCbCr
- Composite
- Aperture: 2,8
- CircleOfConfusion: 0,015 mm
- FOV: 48,0 deg
- FocalLength35efl: 20,0 mm (35 mm equivalent: 40,0 mm)
- HyperfocalDistance: inf m
- ScaleFactor35efl: 2,0
- ShutterSpeed: 1/40
- ExifIFD
- ApertureValue: 2,8
- Contrast: Normal
- CreateDate: 2012:07:07 22:01:14
- CustomRendered: Normal
- DateTimeOriginal: 2012:07:07 22:01:14
- DigitalZoomRatio: 0
- ExposureCompensation: 0
- ExposureMode: Auto
- ExposureProgram: Aperture-priority AE
- ExposureTime: 1/40
- FNumber: 2,8
- Flash: Off, Did not fire
- FocalLength: 20,0 mm
- FocalLengthIn35mmFormat: 40 mm
- GainControl: Low gain up
- ISO: 160
- LensModel: LUMIX G 20/F1.7
- LensSerialNumber: 11FG3044245
- LightSource: Unknown
- MaxApertureValue: 1,7
- MeteringMode: Multi-segment
- Saturation: Normal
- SceneCaptureType: Standard
- SceneType: Directly photographed
- SensingMethod: One-chip color area
- Sharpness: Normal
- ShutterSpeedValue: 1/40
- WhiteBalance: Auto
- ICC-header
- ICC-meas
- ICC-view
- IFD0
- Make: Panasonic
- Model: DMC-GH2
- ModifyDate: 2012:07:08 00:37:45
- IFD1
- IPTC
- DateCreated: 2012:07:07
- System
- XMP-aux
- Lens: LUMIX G 20/F1.7
- XMP-crs
- AlreadyApplied: True
- AutoLateralCA: 0
- Blacks2012: -16
- BlueHue: 0
- BlueSaturation: 0
- Clarity2012: +10
- ColorNoiseReduction: 25
- ColorNoiseReductionDetail: 50
- Contrast2012: 0
- ConvertToGrayscale: False
- DefringeGreenAmount: 0
- DefringeGreenHueHi: 60
- DefringeGreenHueLo: 40
- DefringePurpleAmount: 0
- DefringePurpleHueHi: 70
- DefringePurpleHueLo: 30
- Exposure2012: 0.00
- GrainAmount: 0
- GreenHue: 0
- GreenSaturation: 0
- HasCrop: False
- HasSettings: True
- Highlights2012: 0
- HueAdjustmentAqua: 0
- HueAdjustmentBlue: 0
- HueAdjustmentGreen: 0
- HueAdjustmentMagenta: 0
- HueAdjustmentOrange: 0
- HueAdjustmentPurple: 0
- HueAdjustmentRed: 0
- HueAdjustmentYellow: 0
- LensManualDistortionAmount: 0
- LensProfileEnable: 0
- LensProfileSetup: LensDefaults
- LuminanceAdjustmentAqua: 0
- LuminanceAdjustmentBlue: 0
- LuminanceAdjustmentGreen: 0
- LuminanceAdjustmentMagenta: 0
- LuminanceAdjustmentOrange: 0
- LuminanceAdjustmentPurple: 0
- LuminanceAdjustmentRed: 0
- LuminanceAdjustmentYellow: 0
- LuminanceSmoothing: 0
- ParametricDarks: 0
- ParametricHighlightSplit: 75
- ParametricHighlights: 0
- ParametricLights: 0
- ParametricMidtoneSplit: 50
- ParametricShadowSplit: 25
- ParametricShadows: 0
- PerspectiveHorizontal: 0
- PerspectiveRotate: 0.0
- PerspectiveScale: 100
- PerspectiveVertical: 0
- PostCropVignetteAmount: 0
- ProcessVersion: 6.7
- RedHue: 0
- RedSaturation: 0
- Saturation: +14
- SaturationAdjustmentAqua: 0
- SaturationAdjustmentBlue: 0
- SaturationAdjustmentGreen: +15
- SaturationAdjustmentMagenta: 0
- SaturationAdjustmentOrange: 0
- SaturationAdjustmentPurple: 0
- SaturationAdjustmentRed: 0
- SaturationAdjustmentYellow: 0
- ShadowTint: 0
- Shadows2012: 0
- SharpenDetail: 25
- SharpenEdgeMasking: 0
- SharpenRadius: +1.0
- Sharpness: 25
- SplitToningBalance: 0
- SplitToningHighlightHue: 0
- SplitToningHighlightSaturation: 0
- SplitToningShadowHue: 0
- SplitToningShadowSaturation: 0
- Temperature: 6700
- Tint: +25
- ToneCurveName2012: Linear
- ToneCurvePV2012: 0, 0, 255, 255
- ToneCurvePV2012Blue: 0, 0, 255, 255
- ToneCurvePV2012Green: 0, 0, 255, 255
- ToneCurvePV2012Red: 0, 0, 255, 255
- Version: 7.1
- Vibrance: 0
- VignetteAmount: 0
- WhiteBalance: As Shot
- Whites2012: 0
- XMP-dc
- XMP-xmp
- ModifyDate: 2012:07:08 00:37:45+04:00
- XMP-xmpMM
- Просмотров: 338
- Рейтинг: голосов еще нет
- Отзывов: отключены