- Раздел: Семья, личное
- Дата съёмки: 08.07.2012 17:56
- Дата загрузки фото: 09.07.2012 15:00
- Оригинальная фотография: 768 x 1152 (145 Кб)
- Технические характеристики:
- Фотоаппарат: Canon EOS 5D Mark II
- Выдержка: 1/50
- Гиперфокальное расстояние: inf m
- Диафрагма: 2,8
- Светочувствительность: 1600
- Фокусное расстояние: 50,0 mm
- Экспокоррекция: +2/3
- Полный EXIF
- Composite
- Aperture: 2,8
- CircleOfConfusion: 0,030 mm
- FocalLength35efl: 50,0 mm
- HyperfocalDistance: inf m
- ScaleFactor35efl: 1,0
- ShutterSpeed: 1/50
- ExifIFD
- ApertureValue: 2,8
- ColorSpace: sRGB
- CreateDate: 2012:07:08 17:56:35
- CustomRendered: Normal
- DateTimeOriginal: 2012:07:08 17:56:35
- ExifImageHeight: 5525
- ExifImageWidth: 3684
- ExposureCompensation: +2/3
- ExposureMode: Auto
- ExposureProgram: Aperture-priority AE
- ExposureTime: 1/50
- FNumber: 2,8
- Flash: Off, Did not fire
- FocalLength: 50,0 mm
- ISO: 1600
- MaxApertureValue: 1,4
- MeteringMode: Multi-segment
- SceneCaptureType: Standard
- ShutterSpeedValue: 1/50
- WhiteBalance: Auto
- ICC-header
- ICC-meas
- ICC-view
- IFD0
- LensInfo: 50mm f/?
- LensModel: EF50mm f/1.4 USM
- Make: Canon
- Model: Canon EOS 5D Mark II
- ModifyDate: 2012:07:09 08:36:52
- Orientation: Horizontal (normal)
- SerialNumber: 2511501175
- IFD1
- System
- XMP-aux
- Firmware: 2.0.8
- FlashCompensation: 0
- ImageNumber: 0
- Lens: EF50mm f/1.4 USM
- LensID: 198
- XMP-crs
- AlreadyApplied: True
- AutoLateralCA: 0
- Blacks2012: +50
- BlueHue: 0
- BlueSaturation: 0
- Brightness: +50
- Clarity: 0
- Clarity2012: 0
- ColorNoiseReduction: 25
- ColorNoiseReductionDetail: 50
- Contrast: +25
- Contrast2012: 0
- ConvertToGrayscale: False
- CropAngle: -0.626035
- CropBottom: 0.983874
- CropConstrainToWarp: 0
- CropHeight: 3684
- CropLeft: 0.004479
- CropRight: 0.995521
- CropTop: 0.016126
- CropUnit: pixels
- CropWidth: 5525
- Defringe: 0
- Exposure: 0.00
- Exposure2012: +0.81
- FillLight: 0
- GradientBasedCorrActive: true
- GradientBasedCorrAmount: 1.000000
- GradientBasedCorrBrightness: 0.000000
- GradientBasedCorrHue: 0.000000
- GradientBasedCorrMaskFullX: 0.596565
- GradientBasedCorrMaskFullY: -0.019585
- GradientBasedCorrMaskValue: 1.000000
- GradientBasedCorrMaskWhat: Mask/Gradient
- GradientBasedCorrMaskZeroX: 0.434471
- GradientBasedCorrMaskZeroY: 0.683955
- GradientBasedCorrSaturation: 0.000000
- GradientBasedCorrSharpness: 0.512000
- GradientBasedCorrWhat: Correction
- GradientBasedCorrectionsLocalClarity2012: 0.000000
- GradientBasedCorrectionsLocalContrast2012: 0.000000
- GradientBasedCorrectionsLocalExposure2012: 0.125000
- GradientBasedCorrectionsLocalHighlights2012: 0.000000
- GradientBasedCorrectionsLocalLuminanceNoise: 0.000000
- GradientBasedCorrectionsLocalMoire: 0.000000
- GradientBasedCorrectionsLocalShadows2012: 0.000000
- GradientBasedCorrectionsLocalTemperature: 0.000000
- GradientBasedCorrectionsLocalTint: 0.000000
- GrainAmount: 0
- GreenHue: 0
- GreenSaturation: 0
- HasCrop: True
- HasSettings: True
- HighlightRecovery: 0
- Highlights2012: -50
- HueAdjustmentAqua: 0
- HueAdjustmentBlue: 0
- HueAdjustmentGreen: 0
- HueAdjustmentMagenta: 0
- HueAdjustmentOrange: 0
- HueAdjustmentPurple: 0
- HueAdjustmentRed: 0
- HueAdjustmentYellow: 0
- LensManualDistortionAmount: 0
- LensProfileChromaticAberrationScale: 100
- LensProfileDistortionScale: 100
- LensProfileEnable: 1
- LensProfileFilename: Canon EOS-1Ds Mark III (Canon EF 50mm f1.4 USM) - RAW.lcp
- LensProfileSetup: LensDefaults
- LensProfileVignettingScale: 100
- LuminanceAdjustmentAqua: 0
- LuminanceAdjustmentBlue: 0
- LuminanceAdjustmentGreen: 0
- LuminanceAdjustmentMagenta: 0
- LuminanceAdjustmentOrange: 0
- LuminanceAdjustmentPurple: 0
- LuminanceAdjustmentRed: 0
- LuminanceAdjustmentYellow: 0
- LuminanceNoiseReductionContrast: 0
- LuminanceNoiseReductionDetail: 50
- LuminanceSmoothing: 50
- ParametricDarks: 0
- ParametricHighlightSplit: 75
- ParametricHighlights: 0
- ParametricLights: 0
- ParametricMidtoneSplit: 50
- ParametricShadowSplit: 25
- ParametricShadows: 0
- PerspectiveHorizontal: 0
- PerspectiveRotate: 0.0
- PerspectiveScale: 100
- PerspectiveVertical: 0
- PostCropVignetteAmount: 0
- ProcessVersion: 6.7
- RedHue: 0
- RedSaturation: 0
- Saturation: 0
- SaturationAdjustmentAqua: 0
- SaturationAdjustmentBlue: 0
- SaturationAdjustmentGreen: 0
- SaturationAdjustmentMagenta: 0
- SaturationAdjustmentOrange: 0
- SaturationAdjustmentPurple: 0
- SaturationAdjustmentRed: 0
- SaturationAdjustmentYellow: 0
- ShadowTint: 0
- Shadows: 5
- Shadows2012: +100
- SharpenDetail: 50
- SharpenEdgeMasking: 25
- SharpenRadius: +1.0
- Sharpness: 25
- SplitToningBalance: 0
- SplitToningHighlightHue: 0
- SplitToningHighlightSaturation: 0
- SplitToningShadowHue: 0
- SplitToningShadowSaturation: 0
- Temperature: 3750
- Tint: -5
- ToneCurve: 0, 0, 255, 255
- ToneCurveBlue: 0, 0, 255, 255
- ToneCurveGreen: 0, 0, 255, 255
- ToneCurveName: Linear
- ToneCurveName2012: Linear
- ToneCurvePV2012: 0, 0, 255, 255
- ToneCurvePV2012Blue: 0, 0, 255, 255
- ToneCurvePV2012Green: 0, 0, 255, 255
- ToneCurvePV2012Red: 0, 0, 255, 255
- ToneCurveRed: 0, 0, 255, 255
- Version: 7.0
- Vibrance: 0
- VignetteAmount: 0
- WhiteBalance: As Shot
- Whites2012: 0
- XMP-dc
- XMP-xmp
- ModifyDate: 2012:07:09 08:36:52+04:00
- XMP-xmpMM