- Раздел: Тесты фототехники
- Дата съёмки: 20.06.2012 19:36
- Дата загрузки фото: 15.07.2012 23:55
- Оригинальная фотография: 4072 x 4072 (3,0 Мб)
- Технические характеристики:
- Фотоаппарат: Kodak ProBack645
- Выдержка: 1/500
- Диафрагма: 8,0
- Светочувствительность: 100
- Полный EXIF
- Adobe
- ColorTransform: YCbCr
- Composite
- Aperture: 8,0
- ShutterSpeed: 1/500
- ExifIFD
- ApertureValue: 8,0
- ColorSpace: sRGB
- DateTimeOriginal: 2012:06:20 19:36:21
- ExifImageHeight: 4072
- ExifImageWidth: 4072
- ExposureCompensation: 0
- ExposureIndex: 100
- ExposureProgram: Aperture-priority AE
- ExposureTime: 1/500
- FNumber: 8,0
- ISO: 100
- LightSource: Unknown
- MeteringMode: Unknown
- SensingMethod: One-chip color area
- SerialNumber: PB645H-00218
- ShutterSpeedValue: 1/500
- ICC-header
- ICC-meas
- ICC-view
- IFD0
- Make: Kodak
- Model: ProBack645
- ModifyDate: 2012:07:15 23:52:31
- Orientation: Horizontal (normal)
- IFD1
- IPTC
- DateCreated: 2012:06:20
- System
- XMP-aux
- ImageNumber: 1382
- XMP-crs
- AlreadyApplied: True
- AutoLateralCA: 0
- Blacks2012: -23
- BlueHue: 0
- BlueSaturation: 0
- CameraProfile: ACR 4.4
- Clarity2012: -39
- ColorNoiseReduction: 25
- ColorNoiseReductionDetail: 50
- Contrast2012: 0
- ConvertToGrayscale: False
- DefringeGreenAmount: 0
- DefringeGreenHueHi: 60
- DefringeGreenHueLo: 40
- DefringePurpleAmount: 0
- DefringePurpleHueHi: 70
- DefringePurpleHueLo: 30
- Exposure2012: 0.00
- GrainAmount: 0
- GreenHue: 0
- GreenSaturation: 0
- HasCrop: False
- HasSettings: True
- Highlights2012: -48
- HueAdjustmentAqua: 0
- HueAdjustmentBlue: 0
- HueAdjustmentGreen: 0
- HueAdjustmentMagenta: 0
- HueAdjustmentOrange: 0
- HueAdjustmentPurple: 0
- HueAdjustmentRed: 0
- HueAdjustmentYellow: 0
- LensManualDistortionAmount: 0
- LensProfileEnable: 0
- LensProfileSetup: LensDefaults
- LuminanceAdjustmentAqua: 0
- LuminanceAdjustmentBlue: 0
- LuminanceAdjustmentGreen: 0
- LuminanceAdjustmentMagenta: 0
- LuminanceAdjustmentOrange: 0
- LuminanceAdjustmentPurple: 0
- LuminanceAdjustmentRed: 0
- LuminanceAdjustmentYellow: 0
- LuminanceSmoothing: 0
- ParametricDarks: 0
- ParametricHighlightSplit: 75
- ParametricHighlights: 0
- ParametricLights: 0
- ParametricMidtoneSplit: 50
- ParametricShadowSplit: 25
- ParametricShadows: 0
- PerspectiveHorizontal: 0
- PerspectiveRotate: 0.0
- PerspectiveScale: 100
- PerspectiveVertical: 0
- PostCropVignetteAmount: 0
- ProcessVersion: 6.7
- RawFileName: 7D2C1382.DCR
- RedHue: 0
- RedSaturation: 0
- Saturation: -33
- SaturationAdjustmentAqua: -5
- SaturationAdjustmentBlue: -21
- SaturationAdjustmentGreen: +66
- SaturationAdjustmentMagenta: 0
- SaturationAdjustmentOrange: 0
- SaturationAdjustmentPurple: 0
- SaturationAdjustmentRed: 0
- SaturationAdjustmentYellow: 0
- ShadowTint: 0
- Shadows2012: 0
- SharpenDetail: 25
- SharpenEdgeMasking: 0
- SharpenRadius: +1.0
- Sharpness: 25
- SplitToningBalance: 0
- SplitToningHighlightHue: 0
- SplitToningHighlightSaturation: 0
- SplitToningShadowHue: 0
- SplitToningShadowSaturation: 0
- Temperature: 4300
- Tint: +14
- ToneCurveName2012: Linear
- ToneCurvePV2012: 0, 0, 255, 255
- ToneCurvePV2012Blue: 0, 0, 255, 255
- ToneCurvePV2012Green: 0, 0, 255, 255
- ToneCurvePV2012Red: 0, 0, 255, 255
- Version: 7.1
- Vibrance: -4
- VignetteAmount: 0
- WhiteBalance: Custom
- Whites2012: 0
- XMP-dc
- XMP-xmp
- CreateDate: 2012:06:20 19:36:21
- CreatorTool: 3.3.7
- ModifyDate: 2012:07:15 23:52:31+04:00
- Rating: 0
- XMP-xmpMM