- Раздел: Природа
- Дата съёмки: 24.07.2012 15:45
- Дата загрузки фото: 24.07.2012 22:01
- Оригинальная фотография: 3000 x 2000 (6,3 Мб)
- Технические характеристики:
- Фотоаппарат: Canon EOS-1Ds Mark II
- Выдержка: 1/4000
- Гиперфокальное расстояние: inf m
- Диафрагма: 2,0
- Светочувствительность: 400
- Фокусное расстояние: 135,0 mm (35 mm equivalent: 135,0 mm)
- Полный EXIF
- Composite
- Aperture: 2,0
- CircleOfConfusion: 0,018 mm
- FOV: 15,0 deg
- FocalLength35efl: 135,0 mm (35 mm equivalent: 135,0 mm)
- HyperfocalDistance: inf m
- ScaleFactor35efl: 1,7
- ShutterSpeed: 1/4000
- ExifIFD
- ApertureValue: 2,0
- CreateDate: 2012:07:24 15:45:16
- CustomRendered: Normal
- DateTimeOriginal: 2012:07:24 15:45:16
- ExifImageHeight: 2000
- ExifImageWidth: 3000
- ExposureCompensation: 0
- ExposureMode: Auto
- ExposureProgram: Aperture-priority AE
- ExposureTime: 1/4000
- FNumber: 2,0
- Flash: Off, Did not fire
- FocalLength: 135,0 mm
- ISO: 400
- LensInfo: 135mm f/?
- LensModel: 135.0 mm
- MaxApertureValue: 2,0
- MeteringMode: Multi-segment
- SceneCaptureType: Standard
- SerialNumber: 318483
- ShutterSpeedValue: 1/4000
- WhiteBalance: Auto
- ICC-header
- ICC-meas
- ICC-view
- IFD0
- Make: Canon
- Model: Canon EOS-1Ds Mark II
- ModifyDate: 2012:07:24 21:55:42
- Orientation: Horizontal (normal)
- Software: ACDSee Pro 5
- IFD1
- IPTC
- DateCreated: 2012:07:24
- System
- XMP-aux
- Firmware: 1.1.6
- FlashCompensation: 0
- ImageNumber: 33223
- Lens: 135.0 mm
- LensID: 174
- XMP-crs
- AlreadyApplied: True
- AutoLateralCA: 0
- Blacks2012: 0
- BlueHue: 0
- BlueSaturation: 0
- CameraProfile: Camera Standard
- Clarity2012: +30
- ColorNoiseReduction: 0
- Contrast2012: 0
- ConvertToGrayscale: False
- DefringeGreenAmount: 0
- DefringeGreenHueHi: 60
- DefringeGreenHueLo: 40
- DefringePurpleAmount: 0
- DefringePurpleHueHi: 70
- DefringePurpleHueLo: 30
- Exposure2012: 0.00
- GrainAmount: 0
- GreenHue: 0
- GreenSaturation: 0
- HasCrop: False
- HasSettings: True
- Highlights2012: 0
- HueAdjustmentAqua: 0
- HueAdjustmentBlue: 0
- HueAdjustmentGreen: 0
- HueAdjustmentMagenta: 0
- HueAdjustmentOrange: 0
- HueAdjustmentPurple: 0
- HueAdjustmentRed: 0
- HueAdjustmentYellow: 0
- LensManualDistortionAmount: 0
- LensProfileEnable: 0
- LensProfileSetup: LensDefaults
- LuminanceAdjustmentAqua: 0
- LuminanceAdjustmentBlue: 0
- LuminanceAdjustmentGreen: 0
- LuminanceAdjustmentMagenta: 0
- LuminanceAdjustmentOrange: 0
- LuminanceAdjustmentPurple: 0
- LuminanceAdjustmentRed: 0
- LuminanceAdjustmentYellow: 0
- LuminanceNoiseReductionContrast: 0
- LuminanceNoiseReductionDetail: 50
- LuminanceSmoothing: 25
- ParametricDarks: 0
- ParametricHighlightSplit: 75
- ParametricHighlights: 0
- ParametricLights: 0
- ParametricMidtoneSplit: 50
- ParametricShadowSplit: 25
- ParametricShadows: 0
- PerspectiveHorizontal: 0
- PerspectiveRotate: 0.0
- PerspectiveScale: 100
- PerspectiveVertical: 0
- PostCropVignetteAmount: 0
- ProcessVersion: 6.7
- RedHue: 0
- RedSaturation: 0
- Saturation: +19
- SaturationAdjustmentAqua: 0
- SaturationAdjustmentBlue: 0
- SaturationAdjustmentGreen: 0
- SaturationAdjustmentMagenta: 0
- SaturationAdjustmentOrange: 0
- SaturationAdjustmentPurple: 0
- SaturationAdjustmentRed: 0
- SaturationAdjustmentYellow: 0
- ShadowTint: 0
- Shadows2012: 0
- SharpenDetail: 25
- SharpenEdgeMasking: 0
- SharpenRadius: +1.0
- Sharpness: 20
- SplitToningBalance: 0
- SplitToningHighlightHue: 0
- SplitToningHighlightSaturation: 0
- SplitToningShadowHue: 0
- SplitToningShadowSaturation: 0
- Temperature: 4700
- Tint: +27
- ToneCurveName2012: Linear
- ToneCurvePV2012: 0, 0, 255, 255
- ToneCurvePV2012Blue: 0, 0, 255, 255
- ToneCurvePV2012Green: 0, 0, 255, 255
- ToneCurvePV2012Red: 0, 0, 255, 255
- Version: 7.1
- Vibrance: 0
- VignetteAmount: 0
- WhiteBalance: As Shot
- Whites2012: 0
- XMP-dc
- XMP-x
- XMP-xmp
- ModifyDate: 2012:07:24 21:33:03+04:00
- XMP-xmpMM
- Просмотров: 131
- Рейтинг: голосов еще нет
- Отзывов: отключены