- Раздел: Активный отдых, туризм
- Дата съёмки: 29.06.2012 14:21
- Дата загрузки фото: 27.07.2012 17:39
- Оригинальная фотография: 1900 x 1262 (1,9 Мб)
- Технические характеристики:
- Фотоаппарат: Nikon D90
- Выдержка: 1/80
- Гиперфокальное расстояние: inf m
- Диафрагма: 10,0
- Светочувствительность: 100
- Фокусное расстояние: 105,0 mm (35 mm equivalent: 105,0 mm)
- Полный EXIF
- Adobe
- ColorTransform: YCbCr
- Composite
- Aperture: 10,0
- CircleOfConfusion: 0,020 mm
- FOV: 19,0 deg
- FocalLength35efl: 105,0 mm (35 mm equivalent: 105,0 mm)
- HyperfocalDistance: inf m
- ScaleFactor35efl: 1,5
- ShutterSpeed: 1/80
- ExifIFD
- ApertureValue: 10,0
- CFAPattern: [Green,Blue][Red,Green]
- ColorSpace: Uncalibrated
- Contrast: Normal
- CreateDate: 2012:06:29 14:21:57
- CustomRendered: Normal
- DateTimeOriginal: 2012:06:29 14:21:57
- DigitalZoomRatio: 1
- ExifImageHeight: 1262
- ExifImageWidth: 1900
- ExposureCompensation: 0
- ExposureMode: Manual
- ExposureProgram: Manual
- ExposureTime: 1/80
- FNumber: 10,0
- Flash: No Flash
- FocalLength: 105,0 mm
- FocalLengthIn35mmFormat: 157 mm
- GainControl: None
- ISO: 100
- LightSource: Cloudy
- MaxApertureValue: 5,7
- MeteringMode: Multi-segment
- Saturation: Normal
- SceneCaptureType: Standard
- SceneType: Directly photographed
- SensingMethod: One-chip color area
- Sharpness: Normal
- ShutterSpeedValue: 1/80
- SubjectDistance: 0,47 m
- SubjectDistanceRange: Unknown
- WhiteBalance: Manual
- ICC-header
- IFD0
- BitsPerSample: 8 8 8
- ImageHeight: 2848
- ImageWidth: 4288
- Make: NIKON CORPORATION
- Model: NIKON D90
- ModifyDate: 2012:07:27 16:30:48
- Orientation: Horizontal (normal)
- PhotometricInterpretation: RGB
- SamplesPerPixel: 3
- IFD1
- IPTC
- DateCreated: 2012:06:29
- System
- XMP-aux
- ImageNumber: 11313
- Lens: 18.0-105.0 mm f/3.5-5.6
- LensID: 158
- LensInfo: 18-105mm f/3.5-5.6
- SerialNumber: 6193626
- XMP-crs
- AlreadyApplied: True
- BlueHue: 0
- BlueSaturation: 0
- Brightness: +50
- ChromaticAberrationB: 0
- ChromaticAberrationR: 0
- Clarity: 0
- ColorNoiseReduction: 25
- ColorNoiseReductionDetail: 50
- Contrast: +25
- ConvertToGrayscale: False
- Defringe: 0
- Exposure: +1.00
- FillLight: 0
- GrainAmount: 0
- GreenHue: 0
- GreenSaturation: 0
- HasCrop: False
- HasSettings: True
- HighlightRecovery: 0
- HueAdjustmentAqua: 0
- HueAdjustmentBlue: 0
- HueAdjustmentGreen: 0
- HueAdjustmentMagenta: 0
- HueAdjustmentOrange: 0
- HueAdjustmentPurple: 0
- HueAdjustmentRed: 0
- HueAdjustmentYellow: 0
- LensManualDistortionAmount: 0
- LensProfileEnable: 0
- LensProfileSetup: LensDefaults
- LuminanceAdjustmentAqua: 0
- LuminanceAdjustmentBlue: 0
- LuminanceAdjustmentGreen: 0
- LuminanceAdjustmentMagenta: 0
- LuminanceAdjustmentOrange: 0
- LuminanceAdjustmentPurple: 0
- LuminanceAdjustmentRed: 0
- LuminanceAdjustmentYellow: 0
- LuminanceSmoothing: 0
- ParametricDarks: 0
- ParametricHighlightSplit: 75
- ParametricHighlights: 0
- ParametricLights: 0
- ParametricMidtoneSplit: 50
- ParametricShadowSplit: 25
- ParametricShadows: 0
- PerspectiveHorizontal: 0
- PerspectiveRotate: 0.0
- PerspectiveScale: 100
- PerspectiveVertical: 0
- PostCropVignetteAmount: 0
- ProcessVersion: 5.7
- RawFileName: _DSC4114.NEF
- RedHue: 0
- RedSaturation: 0
- Saturation: +5
- SaturationAdjustmentAqua: 0
- SaturationAdjustmentBlue: 0
- SaturationAdjustmentGreen: 0
- SaturationAdjustmentMagenta: 0
- SaturationAdjustmentOrange: 0
- SaturationAdjustmentPurple: 0
- SaturationAdjustmentRed: 0
- SaturationAdjustmentYellow: 0
- ShadowTint: 0
- Shadows: 5
- SharpenDetail: 25
- SharpenEdgeMasking: 0
- SharpenRadius: +1.0
- Sharpness: 25
- SplitToningBalance: 0
- SplitToningHighlightHue: 0
- SplitToningHighlightSaturation: 0
- SplitToningShadowHue: 0
- SplitToningShadowSaturation: 0
- Temperature: 5650
- Tint: -9
- ToneCurve: 0, 0, 37, 15, 70, 49, 128, 128, 186, 206, 255, 255
- ToneCurveName: Custom
- Version: 6.1
- Vibrance: +25
- VignetteAmount: 0
- WhiteBalance: As Shot
- XMP-dc
- XMP-xmp
- CreateDate: 2012:06:29 14:21:57.00+03:00
- CreatorTool: Ver.1.00
- ModifyDate: 2012:07:27 16:30:48+03:00
- Rating: 0
- XMP-xmpMM