» Участники » awas66 » Природа » природа.jpg |
природа.jpg |
![](img/title-line.gif) |
![](img/title-shadow.gif) | |
природа.jpg
- Раздел: Природа
- Дата съёмки: 15.07.2012 19:01
- Дата загрузки фото: 30.07.2012 10:39
- Оригинальная фотография: 2401 x 1944 (366 Кб)
- Технические характеристики:
- Фотоаппарат: Canon PowerShot S60
- Выдержка: 1/1250
- Диафрагма: 8,0
- Светочувствительность: 50
- Фокусное расстояние: 7,0 mm
- Полный EXIF
- Adobe
- ColorTransform: YCbCr
- Composite
- Aperture: 8,0
- FocalLength35efl: 7,0 mm
- ShutterSpeed: 1/1250
- ExifIFD
- ApertureValue: 8,0
- CreateDate: 2012:07:15 19:01:16
- DateTimeOriginal: 2012:07:15 19:01:16
- ExposureCompensation: 0
- ExposureProgram: Program AE
- ExposureTime: 1/1250
- FNumber: 8,0
- Flash: No Flash
- FocalLength: 7,3 mm
- ISO: 50
- MaxApertureValue: 3,1
- MeteringMode: Center-weighted average
- ShutterSpeedValue: 1/1250
- ICC-header
- IFD0
- Make: Canon
- Model: Canon PowerShot S60
- ModifyDate: 2012:07:30 10:36:11
- TimeZoneOffset: 4 4
- IPTC
- By-line: Г ГўГ Г±66
- System
- XMP-aux
- Firmware: 1.00
- Lens: 5.8-20.7 mm
- LensInfo: 5.8125-20.6875mm f/?
- OwnerName: авас66
- XMP-crs
- AlreadyApplied: True
- BlueHue: 0
- BlueSaturation: 0
- Brightness: -4
- CameraProfile: ACR 2.4
- ChromaticAberrationB: 0
- ChromaticAberrationR: 0
- ColorNoiseReduction: 25
- Contrast: +18
- ConvertToGrayscale: False
- CropAngle: 0
- CropBottom: 1
- CropLeft: 0
- CropRight: 0.926316
- CropTop: 0
- Exposure: -0.70
- FillLight: 48
- GreenHue: 0
- GreenSaturation: 0
- HasCrop: True
- HasSettings: True
- HighlightRecovery: 0
- HueAdjustmentAqua: 0
- HueAdjustmentBlue: 0
- HueAdjustmentGreen: 0
- HueAdjustmentMagenta: 0
- HueAdjustmentOrange: 0
- HueAdjustmentPurple: 0
- HueAdjustmentRed: 0
- HueAdjustmentYellow: 0
- LuminanceAdjustmentAqua: 0
- LuminanceAdjustmentBlue: 0
- LuminanceAdjustmentGreen: 0
- LuminanceAdjustmentMagenta: 0
- LuminanceAdjustmentOrange: 0
- LuminanceAdjustmentPurple: 0
- LuminanceAdjustmentRed: 0
- LuminanceAdjustmentYellow: 0
- LuminanceSmoothing: 0
- ParametricDarks: 0
- ParametricHighlightSplit: 75
- ParametricHighlights: 0
- ParametricLights: 0
- ParametricMidtoneSplit: 50
- ParametricShadowSplit: 25
- ParametricShadows: 0
- RawFileName: CRW_7447.CRW
- RedHue: 0
- RedSaturation: 0
- Saturation: 0
- SaturationAdjustmentAqua: 0
- SaturationAdjustmentBlue: 0
- SaturationAdjustmentGreen: 0
- SaturationAdjustmentMagenta: 0
- SaturationAdjustmentOrange: 0
- SaturationAdjustmentPurple: 0
- SaturationAdjustmentRed: 0
- SaturationAdjustmentYellow: 0
- ShadowTint: 0
- Shadows: 0
- Sharpness: 25
- SplitToningBalance: 0
- SplitToningHighlightHue: 0
- SplitToningHighlightSaturation: 0
- SplitToningShadowHue: 0
- SplitToningShadowSaturation: 0
- Temperature: 5950
- Tint: 0
- ToneCurve: 0, 0, 32, 22, 64, 56, 128, 128, 192, 196, 255, 255
- ToneCurveName: Medium Contrast
- Version: 4.0
- Vibrance: 0
- VignetteAmount: 0
- WhiteBalance: Custom
- XMP-dc
- XMP-exif
- DateTimeDigitized: 2012:07:15 19:01:16+04:00
- DateTimeOriginal: 2012:07:15 19:01:16+04:00
- FlashFired: False
- XMP-tiff
- ImageHeight: 1944
- ImageWidth: 2401
- XMP-x
- XMP-xmp
- ModifyDate: 2012:07:30 10:36:11+04:00
- Rating: 0
- Просмотров: 328
- Рейтинг: голосов еще нет
- Отзывов: отключены
Получить код для блога
Вставка фотографии в текущем разрешении |
Вставка миниатюры |
HTML (для вставки в блог):
BBCode (для вставки в форум):
Ссылка на фото:
Ссылка на миниатюру:
- Послать ссылку другу
Комментарии к фотографии |