- Раздел: Другое, разное
- Дата съёмки: 16.10.2011 16:14
- Дата загрузки фото: 08.08.2012 16:36
- Оригинальная фотография: 3609 x 4909 (3,2 Мб)
- Технические характеристики:
- Фотоаппарат: Canon PowerShot G7
- Выдержка: 1/400
- Гиперфокальное расстояние: inf m
- Диафрагма: 4,8
- Фокусное расстояние: 44,0 mm (35 mm equivalent: 132,0 mm)
- Полный EXIF
- Adobe
- ColorTransform: YCbCr
- Composite
- Aperture: 4,8
- CircleOfConfusion: 0,008 mm
- FOV: 15,0 deg
- FocalLength35efl: 44,0 mm (35 mm equivalent: 132,0 mm)
- HyperfocalDistance: inf m
- ScaleFactor35efl: 3,6
- ShutterSpeed: 1/400
- ExifIFD
- ApertureValue: 4,8
- ColorSpace: sRGB
- CreateDate: 2011:10:16 16:14:43
- CustomRendered: Normal
- DateTimeOriginal: 2011:10:16 16:14:43
- DigitalZoomRatio: 1
- ExifImageHeight: 4909
- ExifImageWidth: 3609
- ExposureCompensation: 0
- ExposureMode: Auto
- ExposureTime: 1/400
- FNumber: 4,8
- Flash: Off, Did not fire
- FocalLength: 44,4 mm
- MaxApertureValue: 4,8
- MeteringMode: Multi-segment
- SceneCaptureType: Landscape
- SensingMethod: One-chip color area
- ShutterSpeedValue: 1/400
- UserComment: Kolor stitching | 3 pictures | Size: 4909 x 3609 | FOV: 12.26 x 8.63 ~ 11.65 | RMS: 3.85 | Lens: Standard | Projection: Cylindrical | Color: LDR |
- WhiteBalance: Auto
- ICC-header
- ICC-meas
- ICC-view
- IFD0
- BitsPerSample: 8 8 8
- ImageDescription: Stitched Panorama
- ImageHeight: 4909
- ImageWidth: 3609
- Make: Canon
- Model: Canon PowerShot G7
- ModifyDate: 2011:11:13 10:56:54
- Orientation: Horizontal (normal)
- PhotometricInterpretation: RGB
- SamplesPerPixel: 3
- IFD1
- IPTC
- Caption-Abstract: Stitched Panorama
- DateCreated: 2011:10:16
- System
- XMP-crs
- AlreadyApplied: True
- BlueHue: 0
- BlueSaturation: 0
- Brightness: 0
- CameraProfile: Embedded
- ChromaticAberrationB: 0
- ChromaticAberrationR: 0
- Clarity: +40
- ColorNoiseReduction: 15
- ColorNoiseReductionDetail: 50
- Contrast: -25
- ConvertToGrayscale: False
- Defringe: 0
- Exposure: +0.60
- FillLight: 0
- GrainAmount: 0
- GreenHue: 0
- GreenSaturation: 0
- HasCrop: False
- HasSettings: True
- HighlightRecovery: 0
- HueAdjustmentAqua: 0
- HueAdjustmentBlue: 0
- HueAdjustmentGreen: 0
- HueAdjustmentMagenta: 0
- HueAdjustmentOrange: 0
- HueAdjustmentPurple: 0
- HueAdjustmentRed: 0
- HueAdjustmentYellow: 0
- IncrementalTemperature: 0
- IncrementalTint: 0
- LensManualDistortionAmount: 0
- LensProfileEnable: 0
- LensProfileSetup: LensDefaults
- LuminanceAdjustmentAqua: 0
- LuminanceAdjustmentBlue: 0
- LuminanceAdjustmentGreen: 0
- LuminanceAdjustmentMagenta: 0
- LuminanceAdjustmentOrange: 0
- LuminanceAdjustmentPurple: 0
- LuminanceAdjustmentRed: 0
- LuminanceAdjustmentYellow: 0
- LuminanceNoiseReductionContrast: 0
- LuminanceNoiseReductionDetail: 100
- LuminanceSmoothing: 28
- ParametricDarks: 0
- ParametricHighlightSplit: 75
- ParametricHighlights: 0
- ParametricLights: 0
- ParametricMidtoneSplit: 50
- ParametricShadowSplit: 25
- ParametricShadows: 0
- PerspectiveHorizontal: 0
- PerspectiveRotate: 0.0
- PerspectiveScale: 100
- PerspectiveVertical: 0
- PostCropVignetteAmount: 0
- ProcessVersion: 5.7
- RedHue: 0
- RedSaturation: 0
- Saturation: +10
- SaturationAdjustmentAqua: 0
- SaturationAdjustmentBlue: 0
- SaturationAdjustmentGreen: 0
- SaturationAdjustmentMagenta: 0
- SaturationAdjustmentOrange: 0
- SaturationAdjustmentPurple: 0
- SaturationAdjustmentRed: 0
- SaturationAdjustmentYellow: 0
- ShadowTint: 0
- Shadows: 4
- SharpenDetail: 25
- SharpenEdgeMasking: 0
- SharpenRadius: +1.0
- Sharpness: 0
- SplitToningBalance: 0
- SplitToningHighlightHue: 0
- SplitToningHighlightSaturation: 0
- SplitToningShadowHue: 0
- SplitToningShadowSaturation: 0
- ToneCurve: 0, 0, 255, 255
- ToneCurveName: Linear
- Version: 6.4
- Vibrance: +72
- VignetteAmount: 0
- WhiteBalance: As Shot
- XMP-dc
- Description: Stitched Panorama
- Format: image/jpeg
- XMP-xmp
- ModifyDate: 2011:11:13 10:56:54+07:00
- XMP-xmpMM
- Просмотров: 457
- Рейтинг: голосов еще нет
- Отзывов: 0