- Раздел: Город
- Дата съёмки: 30.08.2012 11:37
- Дата загрузки фото: 02.09.2012 10:46
- Оригинальная фотография: 1600 x 1067 (1,2 Мб)
- Технические характеристики:
- Фотоаппарат: Canon EOS 5D Mark II
- Выдержка: 1/50
- Светочувствительность: 100
- Фокусное расстояние: 50,0 mm (35 mm equivalent: 150,0 mm)
- Полный EXIF
- Composite
- CircleOfConfusion: 0,009 mm
- FOV: 13,0 deg
- FocalLength35efl: 50,0 mm (35 mm equivalent: 150,0 mm)
- ScaleFactor35efl: 3,4
- ShutterSpeed: 1/50
- ExifIFD
- CreateDate: 2012:08:30 11:37:56
- CustomRendered: Normal
- DateTimeOriginal: 2012:08:30 11:37:56
- ExifImageHeight: 1067
- ExifImageWidth: 1600
- ExposureCompensation: 0
- ExposureMode: Auto
- ExposureProgram: Aperture-priority AE
- ExposureTime: 1/50
- Flash: Off, Did not fire
- FocalLength: 50,0 mm
- ISO: 100
- MeteringMode: Multi-segment
- SceneCaptureType: Standard
- SerialNumber: 4131910044
- ShutterSpeedValue: 1/50
- WhiteBalance: Auto
- IFD0
- Artist: Picasa
- Make: Canon
- Model: Canon EOS 5D Mark II
- ModifyDate: 2012:09:02 10:45:27
- IFD1
- IPTC
- By-line: Picasa
- DateCreated: 2012:08:30
- RelatedImageHeight: 3744
- RelatedImageWidth: 5616
- System
- XMP-aux
- Firmware: 2.1.2
- FlashCompensation: 0
- ImageNumber: 0
- XMP-crs
- AlreadyApplied: True
- AutoLateralCA: 0
- Blacks2012: 0
- BlueHue: 0
- BlueSaturation: 0
- Brightness: +50
- Clarity: 0
- Clarity2012: +25
- ColorNoiseReduction: 25
- ColorNoiseReductionDetail: 50
- Contrast: +25
- Contrast2012: 0
- ConvertToGrayscale: False
- Defringe: 0
- Exposure: 0.00
- Exposure2012: 0.00
- FillLight: 0
- GrainAmount: 0
- GreenHue: 0
- GreenSaturation: 0
- HasCrop: False
- HasSettings: True
- HighlightRecovery: 0
- Highlights2012: 0
- HueAdjustmentAqua: 0
- HueAdjustmentBlue: 0
- HueAdjustmentGreen: 0
- HueAdjustmentMagenta: 0
- HueAdjustmentOrange: 0
- HueAdjustmentPurple: 0
- HueAdjustmentRed: 0
- HueAdjustmentYellow: 0
- LensManualDistortionAmount: -56
- LensProfileEnable: 0
- LensProfileSetup: LensDefaults
- LuminanceAdjustmentAqua: +44
- LuminanceAdjustmentBlue: +37
- LuminanceAdjustmentGreen: 0
- LuminanceAdjustmentMagenta: 0
- LuminanceAdjustmentOrange: 0
- LuminanceAdjustmentPurple: 0
- LuminanceAdjustmentRed: -19
- LuminanceAdjustmentYellow: 0
- LuminanceSmoothing: 0
- ParametricDarks: +25
- ParametricHighlightSplit: 75
- ParametricHighlights: +60
- ParametricLights: +40
- ParametricMidtoneSplit: 50
- ParametricShadowSplit: 25
- ParametricShadows: 0
- PerspectiveHorizontal: 0
- PerspectiveRotate: 0.0
- PerspectiveScale: 100
- PerspectiveVertical: 0
- PostCropVignetteAmount: 0
- ProcessVersion: 6.7
- RedHue: 0
- RedSaturation: 0
- Saturation: +18
- SaturationAdjustmentAqua: +27
- SaturationAdjustmentBlue: +29
- SaturationAdjustmentGreen: -54
- SaturationAdjustmentMagenta: 0
- SaturationAdjustmentOrange: 0
- SaturationAdjustmentPurple: 0
- SaturationAdjustmentRed: +16
- SaturationAdjustmentYellow: -45
- ShadowTint: 0
- Shadows: 5
- Shadows2012: 0
- SharpenDetail: 25
- SharpenEdgeMasking: 0
- SharpenRadius: +1.0
- Sharpness: 40
- SplitToningBalance: 0
- SplitToningHighlightHue: 78
- SplitToningHighlightSaturation: 58
- SplitToningShadowHue: 233
- SplitToningShadowSaturation: 78
- Temperature: 4450
- Tint: +19
- ToneCurve: 0, 0, 255, 255
- ToneCurveBlue: 0, 0, 255, 255
- ToneCurveGreen: 0, 0, 255, 255
- ToneCurveName: Linear
- ToneCurveName2012: Linear
- ToneCurvePV2012: 0, 0, 255, 255
- ToneCurvePV2012Blue: 0, 0, 255, 255
- ToneCurvePV2012Green: 0, 0, 255, 255
- ToneCurvePV2012Red: 0, 0, 255, 255
- ToneCurveRed: 0, 0, 255, 255
- Version: 7.0
- Vibrance: 0
- VignetteAmount: 0
- WhiteBalance: As Shot
- Whites2012: 0
- XMP-dc
- Creator: Picasa
- Format: image/jpeg
- XMP-x
- XMP-xmp
- CreateDate: 2012:08:30 11:37:56.56
- Label: Yellow
- ModifyDate: 2012:09:02 10:45:27+04:00
- Rating: 5
- XMP-xmpMM