- Раздел: Другое, разное
- Дата съёмки: 06.09.2012 13:07
- Дата загрузки фото: 09.09.2012 16:10
- Оригинальная фотография: 1920 x 1281 (1,8 Мб)
- Технические характеристики:
- Фотоаппарат: Panasonic DMC-LX3
- Выдержка: 1/800
- Диафрагма: 5,0
- Светочувствительность: 80
- Фокусное расстояние: 5,0 mm
- Полный EXIF
- Composite
- Aperture: 5,0
- FocalLength35efl: 5,0 mm
- ShutterSpeed: 1/800
- ExifIFD
- ApertureValue: 5,0
- CreateDate: 2012:09:06 13:07:13
- DateTimeOriginal: 2012:09:06 13:07:13
- ExifImageHeight: 1281
- ExifImageWidth: 1920
- ExposureCompensation: 0
- ExposureProgram: Program AE
- ExposureTime: 1/800
- FNumber: 5,0
- Flash: Off, Did not fire
- FocalLength: 5,1 mm
- ISO: 80
- MaxApertureValue: 2,0
- MeteringMode: Center-weighted average
- ShutterSpeedValue: 1/800
- ICC-header
- ICC-meas
- ICC-view
- IFD0
- Make: Panasonic
- Model: DMC-LX3
- ModifyDate: 2012:09:07 23:03:25
- Orientation: Horizontal (normal)
- Software: ACD Systems Digital Imaging
- IFD1
- IPTC
- System
- XMP-crs
- AlreadyApplied: True
- BlueHue: +10
- BlueSaturation: 0
- Brightness: +50
- ChromaticAberrationB: 0
- ChromaticAberrationR: 0
- Clarity: 0
- ColorNoiseReduction: 20
- ColorNoiseReductionDetail: 20
- Contrast: +20
- ConvertToGrayscale: False
- Defringe: 0
- Exposure: 0.00
- FillLight: 8
- GrainAmount: 0
- GreenHue: +20
- GreenSaturation: 0
- HasCrop: False
- HasSettings: True
- HighlightRecovery: 0
- HueAdjustmentAqua: 0
- HueAdjustmentBlue: 0
- HueAdjustmentGreen: +10
- HueAdjustmentMagenta: 0
- HueAdjustmentOrange: 0
- HueAdjustmentPurple: 0
- HueAdjustmentRed: 0
- HueAdjustmentYellow: 0
- LuminanceAdjustmentAqua: 0
- LuminanceAdjustmentBlue: 0
- LuminanceAdjustmentGreen: 0
- LuminanceAdjustmentMagenta: 0
- LuminanceAdjustmentOrange: 0
- LuminanceAdjustmentPurple: 0
- LuminanceAdjustmentRed: 0
- LuminanceAdjustmentYellow: 0
- LuminanceNoiseReductionContrast: 0
- LuminanceNoiseReductionDetail: 40
- LuminanceSmoothing: 60
- ParametricDarks: 0
- ParametricHighlightSplit: 75
- ParametricHighlights: 0
- ParametricLights: 0
- ParametricMidtoneSplit: 50
- ParametricShadowSplit: 25
- ParametricShadows: 0
- PostCropVignetteAmount: 0
- ProcessVersion: 5.7
- RawFileName: P1030427.RW2
- RedHue: +20
- RedSaturation: 0
- Saturation: 0
- SaturationAdjustmentAqua: 0
- SaturationAdjustmentBlue: 0
- SaturationAdjustmentGreen: 0
- SaturationAdjustmentMagenta: 0
- SaturationAdjustmentOrange: 0
- SaturationAdjustmentPurple: 0
- SaturationAdjustmentRed: 0
- SaturationAdjustmentYellow: 0
- ShadowTint: 0
- Shadows: 7
- SharpenDetail: 50
- SharpenEdgeMasking: 0
- SharpenRadius: +1.5
- Sharpness: 45
- SplitToningBalance: 0
- SplitToningHighlightHue: 0
- SplitToningHighlightSaturation: 0
- SplitToningShadowHue: 0
- SplitToningShadowSaturation: 0
- Temperature: 4900
- Tint: -7
- ToneCurve: 0, 0, 32, 22, 64, 56, 128, 128, 192, 196, 255, 255
- ToneCurveName: Medium Contrast
- Version: 6.0
- Vibrance: +30
- VignetteAmount: 0
- WhiteBalance: As Shot
- XMP-dc
- XMP-exif
- DateTimeDigitized: 2012:09:06 13:07:13.0+4:00
- DateTimeOriginal: 2012:09:06 13:07:13.0+4:00
- ExifImageHeight: 2520
- ExifImageWidth: 3776
- FlashFired: False
- FlashFunction: False
- FlashMode: Off
- FlashRedEyeMode: False
- FlashReturn: No return detection
- XMP-tiff
- ImageHeight: 2520
- ImageWidth: 3776
- XMP-x
- XMP-xmp
- CreateDate: 2012:09:06 13:07:13+04:00
- CreatorTool: ACD Systems Digital Imaging
- ModifyDate: 2012:09:07 18:52:40+04:00
- Rating: 0
- Просмотров: 251
- Рейтинг: голосов еще нет
- Отзывов: 0