- Раздел: Тесты фототехники
- Дата съёмки: 28.02.2012 23:47
- Дата загрузки фото: 15.09.2012 13:19
- Оригинальная фотография: 3690 x 2462 (3,5 Мб)
- Технические характеристики:
- Фотоаппарат: Nikon D800E
- Выдержка: 1/320
- Гиперфокальное расстояние: inf m
- Диафрагма: 8,0
- Светочувствительность: 100
- Фокусное расстояние: 50,0 mm (35 mm equivalent: 50,0 mm)
- Полный EXIF
- Composite
- Aperture: 8,0
- AutoFocus: On
- BlueBalance: 0,671141
- CircleOfConfusion: 0,030 mm
- DOF: inf (0,00 m - inf)
- FOV: 39,0 deg (5,00 m)
- FocalLength35efl: 50,0 mm (35 mm equivalent: 50,0 mm)
- HyperfocalDistance: inf m
- LensID: AF Nikkor 50mm f/1.4D
- LensSpec: 50mm f/1.4 D
- RedBalance: 1,778523
- ScaleFactor35efl: 1,0
- ShutterSpeed: 1/320
- ExifIFD
- ApertureValue: 8,0
- Contrast: Normal
- CreateDate: 2012:02:28 23:47:01
- CustomRendered: Normal
- DateTimeOriginal: 2012:02:28 23:47:01
- DigitalZoomRatio: 1
- ExifImageHeight: 2462
- ExifImageWidth: 3690
- ExposureCompensation: 0
- ExposureMode: Auto
- ExposureProgram: Aperture-priority AE
- ExposureTime: 1/320
- FNumber: 8,0
- FocalLength: 50,0 mm
- FocalLengthIn35mmFormat: 50 mm
- GainControl: None
- ISO: 100
- ImageNumber: 445
- Lens: AF Nikkor 50mm f/1.4D
- LensInfo: 50mm f/1.4
- LightSource: Unknown
- MaxApertureValue: 1,4
- MeteringMode: Center-weighted average
- Saturation: Normal
- SceneCaptureType: Standard
- SceneType: Directly photographed
- SensingMethod: One-chip color area
- SerialNumber: 6000461
- Sharpness: Normal
- ShutterSpeedValue: 1/320
- SubjectDistance: 7,08 m
- SubjectDistanceRange: Unknown
- WhiteBalance: Auto
- IFD0
- Artist:
- Copyright:
- Make: NIKON CORPORATION
- Model: NIKON D800E
- ModifyDate: 2012:02:28 23:47:01
- IPTC
- DateCreated: 2012:02:28
- Nikon
- AFAperture: 1,3
- AFAreaMode: Single Area
- AFFineTune: Off
- AFFineTuneAdj: 0
- AFFineTuneIndex: n/a
- AFInfo2Version: 0100
- AFPointsUsed: C6
- ActiveD-Lighting: Off
- AutoDistortionControl: Off
- Brightness: Normal
- ColorSpace: sRGB
- ContrastDetectAF: Off
- ContrastDetectAFInFocus: No
- CropHiSpeed: Off (7424x4924 cropped to 7424x4924 at pixel 0,0)
- DateDisplayFormat: D/M/Y
- DaylightSavings: No
- EffectiveMaxAperture: 1,4
- ExitPupilPosition: 75,9 mm
- ExposureBracketValue: 0
- ExposureDifference: 0
- ExposureTuning: 0
- ExternalFlashExposureComp: 0
- FileInfoVersion: 0100
- FileNumber: 0410
- FilterEffect: n/a
- FirmwareVersion: 1.00
- FlashExposureBracketValue: 0,0
- FlashExposureComp: 0
- FlashInfoVersion: 0105
- FlashMode: Did Not Fire
- FlashSetting:
- FlashType:
- FocalLength: 50,4 mm
- FocusDistance: 7,08 m
- FocusMode: AF-S
- FocusPosition: 0x22
- HighISONoiseReduction: Normal
- HueAdjustment: None
- ISO2: 100
- ISOExpansion: Off
- ISOExpansion2: Off
- ISOSetting: 100
- Lens: 50mm f/1.4
- LensDataVersion: 0204
- LensFStops: 7,00
- LensIDNumber: 67
- LensType: D
- MCUVersion: 70
- MakerNoteVersion: 2.10
- MaxApertureAtMaxFocal: 1,4
- MaxApertureAtMinFocal: 1,4
- MaxFocalLength: 50,4 mm
- MinFocalLength: 50,4 mm
- MultiExposureAutoGain: Off
- MultiExposureMode: Off
- MultiExposureShots: 0
- MultiExposureVersion: 0100
- NEFCompression: Lossless
- NoiseReduction: Off
- PhaseDetectAF: On (51-point)
- PictureControlAdjust: Default Settings
- PictureControlBase: Vivid
- PictureControlName: Vivid
- PictureControlQuickAdjust: Normal
- PictureControlVersion: 0100
- PowerUpTime: 2012:02:18 01:57:56
- PrimaryAFPoint: C6 (Center)
- ProgramShift: 0
- Quality: RAW
- RawImageCenter: 3712 2462
- Sharpness: 4
- ShootingMode: Delay
- ShotInfoVersion: 0222
- ShutterCount: 445
- Timezone: +00:00
- ToningEffect: n/a
- ToningSaturation: n/a
- VRInfoVersion: 0100
- VibrationReduction: Off
- VignetteControl: Off
- WB_RBLevels: 2,0703125 1,328125 1 1
- WB_RGGBLevels: 530 340 256 200
- WhiteBalance: Auto1
- WhiteBalanceFineTune: 0 0
- PreviewIFD
- System
- XMP-aux
- ApproximateFocusDistance: 7,08
- LensID: 67
- XMP-crs
- AlreadyApplied: False
- AutoLateralCA: 0
- Blacks2012: 0
- BlueHue: 0
- BlueSaturation: 0
- Brightness: +50
- Clarity: 0
- Clarity2012: 0
- ColorNoiseReduction: 25
- ColorNoiseReductionDetail: 50
- Contrast2012: 0
- ConvertToGrayscale: False
- Defringe: 0
- Exposure: 0.00
- Exposure2012: 0.00
- FillLight: 0
- GrainAmount: 0
- GreenHue: 0
- GreenSaturation: 0
- HasCrop: False
- HasSettings: True
- HighlightRecovery: 10
- Highlights2012: 0
- HueAdjustmentAqua: 0
- HueAdjustmentBlue: 0
- HueAdjustmentGreen: 0
- HueAdjustmentMagenta: 0
- HueAdjustmentOrange: 0
- HueAdjustmentPurple: 0
- HueAdjustmentRed: 0
- HueAdjustmentYellow: 0
- LensManualDistortionAmount: 0
- LensProfileEnable: 0
- LensProfileSetup: LensDefaults
- LuminanceAdjustmentAqua: 0
- LuminanceAdjustmentBlue: 0
- LuminanceAdjustmentGreen: 0
- LuminanceAdjustmentMagenta: 0
- LuminanceAdjustmentOrange: 0
- LuminanceAdjustmentPurple: 0
- LuminanceAdjustmentRed: 0
- LuminanceAdjustmentYellow: 0
- LuminanceSmoothing: 0
- ParametricDarks: 0
- ParametricHighlightSplit: 75
- ParametricHighlights: 0
- ParametricLights: 0
- ParametricMidtoneSplit: 50
- ParametricShadowSplit: 25
- ParametricShadows: 0
- PerspectiveHorizontal: 0
- PerspectiveRotate: 0.0
- PerspectiveScale: 100
- PerspectiveVertical: 0
- PostCropVignetteAmount: 0
- ProcessVersion: 5.7
- RawFileName: DSC_0410.NEF
- RedHue: 0
- RedSaturation: 0
- SaturationAdjustmentAqua: 0
- SaturationAdjustmentBlue: 0
- SaturationAdjustmentGreen: 0
- SaturationAdjustmentMagenta: 0
- SaturationAdjustmentOrange: 0
- SaturationAdjustmentPurple: 0
- SaturationAdjustmentRed: 0
- SaturationAdjustmentYellow: 0
- ShadowTint: 0
- Shadows: 2
- Shadows2012: 0
- SharpenDetail: 25
- SharpenEdgeMasking: 0
- SharpenRadius: +1.0
- SplitToningBalance: 0
- SplitToningHighlightHue: 0
- SplitToningHighlightSaturation: 0
- SplitToningShadowHue: 0
- SplitToningShadowSaturation: 0
- Tint: +10
- ToneCurve: 0, 0, 32, 22, 64, 56, 128, 128, 192, 196, 255, 255
- ToneCurveBlue: 0, 0, 255, 255
- ToneCurveGreen: 0, 0, 255, 255
- ToneCurveName: Medium Contrast
- ToneCurveName2012: Linear
- ToneCurvePV2012: 0, 0, 255, 255
- ToneCurvePV2012Blue: 0, 0, 255, 255
- ToneCurvePV2012Green: 0, 0, 255, 255
- ToneCurvePV2012Red: 0, 0, 255, 255
- ToneCurveRed: 0, 0, 255, 255
- Version: 6.7
- Vibrance: 0
- VignetteAmount: 0
- Whites2012: 0
- XMP-dc
- Format: image/x-nikon-nef
- XMP-exif
- FlashFired: False
- FlashFunction: False
- FlashMode: Off
- FlashRedEyeMode: False
- FlashReturn: No return detection
- GPSVersionID: 2.3.0.0
- UserComment:
- XMP-x
- XMP-xmp
- CreatorTool: Ver.1.00
- Rating: 0
- XMP-xmpMM
- Просмотров: 418
- Рейтинг: голосов еще нет
- Отзывов: отключены