» Участники » cary » Тесты » Fullsize (60D, 24-105L) |
Fullsize (60D, 24-105L) |
Fullsize (60D, 24-105L)
- Раздел: Тесты фототехники
- Дата съёмки: 10.01.2012 00:04
- Дата загрузки фото: 01.10.2012 11:39
- Оригинальная фотография: 5162 x 3441 (6,5 Мб)
- Технические характеристики:
- Фотоаппарат: Canon EOS 60D
- Выдержка: 4,0
- Гиперфокальное расстояние: inf m
- Диафрагма: 5,6
- Светочувствительность: 100
- Фокусное расстояние: 58,0 mm (35 mm equivalent: 58,0 mm)
- Полный EXIF
- Adobe
- ColorTransform: YCbCr
- Composite
- Aperture: 5,6
- CircleOfConfusion: 0,019 mm
- DOF: inf (0,00 m - inf)
- FOV: 34,0 deg
- FocalLength35efl: 58,0 mm (35 mm equivalent: 58,0 mm)
- HyperfocalDistance: inf m
- LightValue: 2,6
- ScaleFactor35efl: 1,6
- ShutterSpeed: 4,0
- ExifIFD
- ApertureValue: 5,6
- ColorSpace: sRGB
- CreateDate: 2012:01:10 00:04:14
- CustomRendered: Normal
- DateTimeOriginal: 2012:01:10 00:04:14
- ExifImageHeight: 3441
- ExifImageWidth: 5162
- ExposureCompensation: 0
- ExposureMode: Auto
- ExposureProgram: Aperture-priority AE
- ExposureTime: 4,0
- FNumber: 5,6
- Flash: Off, Did not fire
- FocalLength: 58,0 mm
- ISO: 100
- LensInfo: 24-105mm f/?
- LensModel: EF24-105mm f/4L IS USM
- LensSerialNumber: 00001a0bd7
- MaxApertureValue: 4,0
- MeteringMode: Multi-segment
- RecommendedExposureIndex: 100
- SceneCaptureType: Standard
- SensitivityType: Recommended Exposure Index
- SerialNumber: 0780425294
- ShutterSpeedValue: 4,0
- SubjectDistance: 4294967295 m
- WhiteBalance: Auto
- ICC-header
- ICC-meas
- ICC-view
- IFD0
- Artist: Aliko
- Copyright: aliko(c)ins
- Make: Canon
- Model: Canon EOS 60D
- ModifyDate: 2012:10:01 11:32:46
- Orientation: Horizontal (normal)
- IFD1
- IPTC
- By-line: Aliko
- CopyrightNotice: aliko(c)ins
- DateCreated: 2012:01:10
- System
- XMP-aux
- ApproximateFocusDistance: 4294967295
- Firmware: 1.1.0
- FlashCompensation: 0
- ImageNumber: 0
- Lens: EF24-105mm f/4L IS USM
- LensID: 237
- XMP-crs
- AlreadyApplied: True
- AutoLateralCA: 1
- Blacks2012: 0
- BlueHue: 0
- BlueSaturation: 0
- Clarity2012: +13
- ColorNoiseReduction: 25
- ColorNoiseReductionDetail: 50
- Contrast2012: +17
- ConvertToGrayscale: False
- CropAngle: 0.162311
- CropBottom: 1
- CropConstrainToWarp: 1
- CropLeft: 0.003056
- CropRight: 0.996944
- CropTop: 0
- DefringeGreenAmount: 0
- DefringeGreenHueHi: 60
- DefringeGreenHueLo: 40
- DefringePurpleAmount: 0
- DefringePurpleHueHi: 70
- DefringePurpleHueLo: 30
- Exposure2012: +0.18
- GrainAmount: 0
- GreenHue: 0
- GreenSaturation: 0
- HasCrop: True
- HasSettings: True
- Highlights2012: -34
- HueAdjustmentAqua: 0
- HueAdjustmentBlue: 0
- HueAdjustmentGreen: 0
- HueAdjustmentMagenta: 0
- HueAdjustmentOrange: 0
- HueAdjustmentPurple: 0
- HueAdjustmentRed: 0
- HueAdjustmentYellow: 0
- LensManualDistortionAmount: 0
- LensProfileChromaticAberrationScale: 100
- LensProfileDistortionScale: 100
- LensProfileEnable: 1
- LensProfileFilename: Canon EOS-1Ds Mark III (Canon EF 24-105mm f4 L IS USM) - RAW.lcp
- LensProfileSetup: Custom
- LensProfileVignettingScale: 116
- LuminanceAdjustmentAqua: 0
- LuminanceAdjustmentBlue: 0
- LuminanceAdjustmentGreen: 0
- LuminanceAdjustmentMagenta: 0
- LuminanceAdjustmentOrange: 0
- LuminanceAdjustmentPurple: 0
- LuminanceAdjustmentRed: 0
- LuminanceAdjustmentYellow: 0
- LuminanceSmoothing: 0
- ParametricDarks: 0
- ParametricHighlightSplit: 75
- ParametricHighlights: -55
- ParametricLights: -24
- ParametricMidtoneSplit: 50
- ParametricShadowSplit: 25
- ParametricShadows: 0
- PerspectiveHorizontal: 0
- PerspectiveRotate: 0.0
- PerspectiveScale: 100
- PerspectiveVertical: 0
- PostCropVignetteAmount: 0
- ProcessVersion: 6.7
- RawFileName: IMG_6434.CR2
- RedHue: 0
- RedSaturation: 0
- Saturation: 0
- SaturationAdjustmentAqua: 0
- SaturationAdjustmentBlue: -10
- SaturationAdjustmentGreen: 0
- SaturationAdjustmentMagenta: 0
- SaturationAdjustmentOrange: 0
- SaturationAdjustmentPurple: 0
- SaturationAdjustmentRed: 0
- SaturationAdjustmentYellow: 0
- ShadowTint: 0
- Shadows2012: -7
- SharpenDetail: 25
- SharpenEdgeMasking: 0
- SharpenRadius: +1.0
- Sharpness: 25
- SplitToningBalance: 0
- SplitToningHighlightHue: 0
- SplitToningHighlightSaturation: 0
- SplitToningShadowHue: 0
- SplitToningShadowSaturation: 0
- Temperature: 2100
- Tint: +10
- ToneCurveName2012: Linear
- ToneCurvePV2012: 0, 0, 255, 255
- ToneCurvePV2012Blue: 0, 0, 255, 255
- ToneCurvePV2012Green: 0, 0, 255, 255
- ToneCurvePV2012Red: 0, 0, 255, 255
- Version: 7.1
- Vibrance: +15
- VignetteAmount: 0
- WhiteBalance: Custom
- Whites2012: -4
- XMP-dc
- Creator: Aliko
- Format: image/jpeg
- Rights: aliko(c)ins
- XMP-xmp
- ModifyDate: 2012:10:01 11:32:46+04:00
- Rating: 0
- XMP-xmpMM
- Просмотров: 327
- Рейтинг: голосов еще нет
- Отзывов: 0
Получить код для блога
Вставка фотографии в текущем разрешении |
Вставка миниатюры |
HTML (для вставки в блог):
BBCode (для вставки в форум):
Ссылка на фото:
Ссылка на миниатюру:
- Послать ссылку другу
Комментарии к фотографии |