- Раздел: Цветы
- Дата съёмки: 19.05.2007 19:27
- Дата загрузки фото: 19.05.2007 22:57
- Оригинальная фотография: 4500 x 3000 (2,1 Мб)
- Технические характеристики:
- Фотоаппарат: Kodak DCS Pro SLR/n
- Выдержка: 1/750
- Диафрагма: 2,8
- Светочувствительность: 160
- Фокусное расстояние: 35,0mm
- Экспокоррекция: -1/2
- Полный EXIF
- ColorTransform: YCbCr
- Composite
- Aperture: 2,8
- EV: 11,8
- FocalLength35efl: 35,0mm
- ShutterSpeed: 1/750
- ExifIFD
- ApertureValue: 2,8
- DateTimeOriginal: 2007:05:19 19:27:11
- ExposureCompensation: -1/2
- ExposureIndex: 160
- ExposureProgram: Aperture-priority AE
- ExposureTime: 1/750
- FNumber: 2,8
- Flash: No Flash
- FocalLength: 35,0mm
- ISO: 160
- LightSource: Unknown (0)
- MaxApertureValue: 2,0
- MeteringMode: Multi-spot
- SensingMethod: One-chip color area
- ShutterSpeedValue: 1/750
- ICC-header
- ICC-meas
- ICC-view
- IFD0
- Make: Kodak
- Model: DCS Pro SLR/n
- ModifyDate: 2007:05:19 22:35:31
- Software: 5.4.9
- XMP-aux
- ImageNumber: 857
- SerialNumber: PSLRN-21042
- XMP-crs
- AlreadyApplied: True
- BlueHue: 0
- BlueSaturation: 0
- Brightness: +83
- CameraProfile: ACR 2.4
- ChromaticAberrationB: 0
- ChromaticAberrationR: 0
- ColorNoiseReduction: 25
- Contrast: +49
- ConvertToGrayscale: False
- Exposure: +0.24
- FillLight: 0
- GreenHue: 0
- GreenSaturation: 0
- HasCrop: False
- HasSettings: True
- HighlightRecovery: 41
- HueAdjustmentAqua: 0
- HueAdjustmentBlue: 0
- HueAdjustmentGreen: 0
- HueAdjustmentMagenta: 0
- HueAdjustmentOrange: 0
- HueAdjustmentPurple: 0
- HueAdjustmentRed: 0
- HueAdjustmentYellow: 0
- LuminanceAdjustmentAqua: 0
- LuminanceAdjustmentBlue: 0
- LuminanceAdjustmentGreen: 0
- LuminanceAdjustmentMagenta: 0
- LuminanceAdjustmentOrange: 0
- LuminanceAdjustmentPurple: 0
- LuminanceAdjustmentRed: 0
- LuminanceAdjustmentYellow: 0
- LuminanceSmoothing: 2
- ParametricDarks: 0
- ParametricHighlightSplit: 75
- ParametricHighlights: 0
- ParametricLights: 0
- ParametricMidtoneSplit: 50
- ParametricShadowSplit: 25
- ParametricShadows: 0
- RedHue: 0
- RedSaturation: 0
- Saturation: 0
- SaturationAdjustmentAqua: 0
- SaturationAdjustmentBlue: 0
- SaturationAdjustmentGreen: 0
- SaturationAdjustmentMagenta: 0
- SaturationAdjustmentOrange: 0
- SaturationAdjustmentPurple: 0
- SaturationAdjustmentRed: 0
- SaturationAdjustmentYellow: 0
- ShadowTint: 0
- Shadows: 5
- Sharpness: 25
- SplitToningBalance: 0
- SplitToningHighlightHue: 0
- SplitToningHighlightSaturation: 0
- SplitToningShadowHue: 0
- SplitToningShadowSaturation: 0
- Temperature: 4550
- Tint: +13
- ToneCurve: 0, 0, 32, 22, 64, 56, 128, 128, 192, 196, 255, 255
- ToneCurveName: Medium Contrast
- Version: 1.0
- Vibrance: 0
- VignetteAmount: 0
- WhiteBalance: Auto
- XMP-exif
- DateTimeOriginal: 2007:05:19 19:27:11+04:00
- FlashFired: False
- XMP-tiff
- ImageHeight: 3000
- ImageWidth: 4500
- XMP-xmp
- ModifyDate: 2007:05:19 22:35:31+04:00
- Просмотров: 438
- Рейтинг: голосов еще нет
- Отзывов: 0