- Раздел: Другое, разное
- Дата съёмки: 26.08.2012 20:49
- Дата загрузки фото: 02.10.2012 23:21
- Оригинальная фотография: 4571 x 2961 (14,9 Мб)
- Технические характеристики:
- Фотоаппарат: Pentax K-5
- Выдержка: 1/125
- Гиперфокальное расстояние: inf m
- Диафрагма: 4,0
- Светочувствительность: 2500
- Фокусное расстояние: 31,0 mm (35 mm equivalent: 31,0 mm)
- Экспокоррекция: -1
- Полный EXIF
- Adobe
- ColorTransform: YCbCr
- Composite
- Aperture: 4,0
- CircleOfConfusion: 0,020 mm
- FOV: 60,0 deg
- FocalLength35efl: 31,0 mm (35 mm equivalent: 31,0 mm)
- HyperfocalDistance: inf m
- ScaleFactor35efl: 1,5
- ShutterSpeed: 1/125
- ExifIFD
- ApertureValue: 4,0
- CFAPattern: [Blue,Green][Green,Red]
- Contrast: High
- CreateDate: 2012:08:26 20:49:04
- CustomRendered: Normal
- DateTimeOriginal: 2012:08:26 20:49:04
- ExposureCompensation: -1
- ExposureMode: Manual
- ExposureProgram: Not Defined
- ExposureTime: 1/125
- FNumber: 4,0
- Flash: Off, Did not fire
- FocalLength: 31,0 mm
- FocalLengthIn35mmFormat: 46 mm
- ISO: 2500
- LensInfo: 31mm f/1.8
- LensModel: smc PENTAX-FA 31mm F1.8AL Limited
- MeteringMode: Multi-segment
- Saturation: Normal
- SceneCaptureType: Standard
- SensingMethod: One-chip color area
- Sharpness: Hard
- ShutterSpeedValue: 1/125
- SubjectDistanceRange: Distant
- WhiteBalance: Auto
- ICC-header
- ICC-meas
- ICC-view
- IFD0
- Artist: Oleg_Gronik
- Make: PENTAX
- Model: PENTAX K-5
- ModifyDate: 2012:09:24 23:26:37
- IFD1
- IPTC
- By-line: Oleg_Gronik
- DateCreated: 2012:08:26
- System
- XMP-aux
- ApproximateFocusDistance: 4
- Lens: smc PENTAX-FA 31mm F1.8AL Limited
- LensID: 4 39
- XMP-crs
- AlreadyApplied: True
- AutoLateralCA: 0
- Blacks2012: 0
- BlueHue: 0
- BlueSaturation: 0
- Clarity2012: +35
- ColorNoiseReduction: 25
- ColorNoiseReductionDetail: 50
- Contrast2012: 0
- ConvertToGrayscale: False
- CropAngle: -3.8177
- CropBottom: 0.906752
- CropConstrainToWarp: 0
- CropHeight: 2961
- CropLeft: 0.034458
- CropRight: 1
- CropTop: 0.095052
- CropUnit: pixels
- CropWidth: 4571
- DefringeGreenAmount: 0
- DefringeGreenHueHi: 60
- DefringeGreenHueLo: 40
- DefringePurpleAmount: 0
- DefringePurpleHueHi: 70
- DefringePurpleHueLo: 30
- Exposure2012: +0.20
- GrainAmount: 0
- GreenHue: 0
- GreenSaturation: 0
- HasCrop: True
- HasSettings: True
- Highlights2012: 0
- HueAdjustmentAqua: 0
- HueAdjustmentBlue: 0
- HueAdjustmentGreen: 0
- HueAdjustmentMagenta: 0
- HueAdjustmentOrange: 0
- HueAdjustmentPurple: 0
- HueAdjustmentRed: 0
- HueAdjustmentYellow: 0
- LensManualDistortionAmount: 0
- LensProfileEnable: 0
- LensProfileSetup: LensDefaults
- LuminanceAdjustmentAqua: 0
- LuminanceAdjustmentBlue: 0
- LuminanceAdjustmentGreen: 0
- LuminanceAdjustmentMagenta: 0
- LuminanceAdjustmentOrange: 0
- LuminanceAdjustmentPurple: 0
- LuminanceAdjustmentRed: 0
- LuminanceAdjustmentYellow: 0
- LuminanceSmoothing: 0
- ParametricDarks: 0
- ParametricHighlightSplit: 75
- ParametricHighlights: 0
- ParametricLights: 0
- ParametricMidtoneSplit: 50
- ParametricShadowSplit: 25
- ParametricShadows: 0
- PerspectiveHorizontal: 0
- PerspectiveRotate: 0.0
- PerspectiveScale: 100
- PerspectiveVertical: 0
- PostCropVignetteAmount: 0
- ProcessVersion: 6.7
- RedHue: 0
- RedSaturation: 0
- Saturation: 0
- SaturationAdjustmentAqua: 0
- SaturationAdjustmentBlue: 0
- SaturationAdjustmentGreen: 0
- SaturationAdjustmentMagenta: 0
- SaturationAdjustmentOrange: 0
- SaturationAdjustmentPurple: 0
- SaturationAdjustmentRed: 0
- SaturationAdjustmentYellow: 0
- ShadowTint: 0
- Shadows2012: +10
- SharpenDetail: 25
- SharpenEdgeMasking: 0
- SharpenRadius: +1.0
- Sharpness: 25
- SplitToningBalance: 0
- SplitToningHighlightHue: 0
- SplitToningHighlightSaturation: 0
- SplitToningShadowHue: 0
- SplitToningShadowSaturation: 0
- Temperature: 3100
- Tint: +30
- ToneCurveName2012: Linear
- ToneCurvePV2012: 0, 0, 255, 255
- ToneCurvePV2012Blue: 0, 0, 255, 255
- ToneCurvePV2012Green: 0, 0, 255, 255
- ToneCurvePV2012Red: 0, 0, 255, 255
- Version: 7.1
- Vibrance: 0
- VignetteAmount: 0
- WhiteBalance: As Shot
- Whites2012: 0
- XMP-dc
- Creator: Oleg_Gronik
- Format: image/jpeg
- XMP-xmp
- ModifyDate: 2012:09:24 23:26:37+03:00
- XMP-xmpMM
- Просмотров: 229
- Рейтинг: голосов еще нет
- Отзывов: отключены