- Раздел: Другое, разное
- Дата съёмки: 23.10.2012 00:01
- Дата загрузки фото: 23.10.2012 03:39
- Оригинальная фотография: 1024 x 698 (320 Кб)
- Технические характеристики:
- Фотоаппарат: Canon EOS 7D
- Выдержка: 1/250
- Гиперфокальное расстояние: inf m
- Диафрагма: 5,6
- Светочувствительность: 100
- Фокусное расстояние: 17,0 mm (35 mm equivalent: 119,0 mm)
- Полный EXIF
- Adobe
- ColorTransform: YCbCr
- Composite
- Aperture: 5,6
- CircleOfConfusion: 0,004 mm
- FOV: 17,0 deg
- FocalLength35efl: 17,0 mm (35 mm equivalent: 119,0 mm)
- HyperfocalDistance: inf m
- ScaleFactor35efl: 7,9
- ShutterSpeed: 1/250
- ExifIFD
- ApertureValue: 5,6
- ColorSpace: Uncalibrated
- CreateDate: 2012:10:23 00:01:34
- CustomRendered: Normal
- DateTimeOriginal: 2012:10:23 00:01:34
- ExifImageHeight: 698
- ExifImageWidth: 1024
- ExposureCompensation: 0
- ExposureMode: Manual
- ExposureProgram: Manual
- ExposureTime: 1/250
- FNumber: 5,6
- Flash: On, Fired
- FocalLength: 17,0 mm
- ISO: 100
- LensInfo: 17-50mm f/?
- LensModel: 17-50mm
- MaxApertureValue: 2,8
- MeteringMode: Multi-segment
- RecommendedExposureIndex: 100
- SceneCaptureType: Standard
- SensitivityType: Recommended Exposure Index
- SerialNumber: 1580807926
- ShutterSpeedValue: 1/250
- WhiteBalance: Auto
- ICC-header
- IFD0
- Artist: Pavel "Myth" YB
- Make: Canon
- Model: Canon EOS 7D
- ModifyDate: 2012:10:23 00:12:40
- Orientation: Horizontal (normal)
- IFD1
- IPTC
- By-line: Pavel "Myth" YB
- DateCreated: 2012:10:23
- System
- XMP-aux
- Firmware: 2.0.3
- FlashCompensation: 0
- ImageNumber: 0
- Lens: 17-50mm
- LensID: 161
- XMP-crs
- AlreadyApplied: True
- AutoLateralCA: 0
- Blacks2012: -11
- BlueHue: 0
- BlueSaturation: 0
- CameraProfile: Camera Standard
- Clarity2012: +10
- ColorNoiseReduction: 25
- ColorNoiseReductionDetail: 50
- Contrast2012: -15
- ConvertToGrayscale: False
- DefringeGreenAmount: 0
- DefringeGreenHueHi: 60
- DefringeGreenHueLo: 40
- DefringePurpleAmount: 0
- DefringePurpleHueHi: 70
- DefringePurpleHueLo: 30
- Exposure2012: +0.75
- GrainAmount: 0
- GreenHue: 0
- GreenSaturation: 0
- HasCrop: False
- HasSettings: True
- Highlights2012: -29
- HueAdjustmentAqua: 0
- HueAdjustmentBlue: 0
- HueAdjustmentGreen: 0
- HueAdjustmentMagenta: 0
- HueAdjustmentOrange: 0
- HueAdjustmentPurple: 0
- HueAdjustmentRed: 0
- HueAdjustmentYellow: 0
- LensManualDistortionAmount: 0
- LensProfileEnable: 0
- LensProfileSetup: LensDefaults
- LuminanceAdjustmentAqua: 0
- LuminanceAdjustmentBlue: 0
- LuminanceAdjustmentGreen: 0
- LuminanceAdjustmentMagenta: 0
- LuminanceAdjustmentOrange: 0
- LuminanceAdjustmentPurple: 0
- LuminanceAdjustmentRed: 0
- LuminanceAdjustmentYellow: 0
- LuminanceSmoothing: 0
- ParametricDarks: 0
- ParametricHighlightSplit: 75
- ParametricHighlights: 0
- ParametricLights: 0
- ParametricMidtoneSplit: 50
- ParametricShadowSplit: 25
- ParametricShadows: 0
- PerspectiveHorizontal: 0
- PerspectiveRotate: 0.0
- PerspectiveScale: 100
- PerspectiveVertical: 0
- PostCropVignetteAmount: 0
- ProcessVersion: 6.7
- RawFileName: IMG_6170.CR2
- RedHue: 0
- RedSaturation: 0
- Saturation: 0
- SaturationAdjustmentAqua: 0
- SaturationAdjustmentBlue: 0
- SaturationAdjustmentGreen: 0
- SaturationAdjustmentMagenta: 0
- SaturationAdjustmentOrange: 0
- SaturationAdjustmentPurple: 0
- SaturationAdjustmentRed: 0
- SaturationAdjustmentYellow: 0
- ShadowTint: 0
- Shadows2012: -33
- SharpenDetail: 25
- SharpenEdgeMasking: 0
- SharpenRadius: +1.0
- Sharpness: 25
- SplitToningBalance: 0
- SplitToningHighlightHue: 0
- SplitToningHighlightSaturation: 0
- SplitToningShadowHue: 0
- SplitToningShadowSaturation: 0
- Temperature: 5700
- Tint: +11
- ToneCurveName2012: Linear
- ToneCurvePV2012: 0, 0, 255, 255
- ToneCurvePV2012Blue: 0, 0, 255, 255
- ToneCurvePV2012Green: 0, 0, 255, 255
- ToneCurvePV2012Red: 0, 0, 255, 255
- Version: 7.2
- Vibrance: 0
- VignetteAmount: 0
- WhiteBalance: As Shot
- Whites2012: +19
- XMP-dc
- Creator: Pavel "Myth" YB
- Format: image/jpeg
- XMP-xmp
- ModifyDate: 2012:10:23 00:12:40+04:00
- Rating: 0
- XMP-xmpMM