- Раздел: Природа
- Дата съёмки: 26.10.2012 14:36
- Дата загрузки фото: 26.10.2012 20:24
- Оригинальная фотография: 2788 x 4023 (9,1 Мб)
- Технические характеристики:
- Фотоаппарат: Canon EOS 5D
- Выдержка: 1/100
- Гиперфокальное расстояние: inf m
- Диафрагма: 2,5
- Светочувствительность: 800
- Фокусное расстояние: 35,0 mm (35 mm equivalent: 35,0 mm)
- Экспокоррекция: +1/3
- Полный EXIF
- Adobe
- ColorTransform: YCbCr
- Composite
- Aperture: 2,5
- CircleOfConfusion: 0,028 mm
- FOV: 54,0 deg
- FocalLength35efl: 35,0 mm (35 mm equivalent: 35,0 mm)
- HyperfocalDistance: inf m
- ScaleFactor35efl: 1,1
- ShutterSpeed: 1/100
- ExifIFD
- ApertureValue: 2,5
- CreateDate: 2012:10:26 14:36:51
- CustomRendered: Normal
- DateTimeOriginal: 2012:10:26 14:36:51
- ExposureCompensation: +1/3
- ExposureMode: Auto
- ExposureProgram: Program AE
- ExposureTime: 1/100
- FNumber: 2,5
- Flash: Off, Did not fire
- FocalLength: 35,0 mm
- ISO: 800
- MaxApertureValue: 1,4
- MeteringMode: Unknown
- SceneCaptureType: Standard
- ShutterSpeedValue: 1/100
- WhiteBalance: Auto
- ICC-header
- ICC-meas
- ICC-view
- IFD0
- Make: Canon
- Model: Canon EOS 5D
- ModifyDate: 2012:10:26 20:23:07
- IFD1
- System
- XMP-aux
- Firmware: 1.1.1
- FlashCompensation: 0
- ImageNumber: 1
- Lens: EF35mm f/1.4L USM
- LensID: 180
- LensInfo: 35mm f/?
- SerialNumber: 730507263
- XMP-crs
- AlreadyApplied: True
- BlueHue: 0
- BlueSaturation: 0
- Brightness: +98
- ChromaticAberrationB: 0
- ChromaticAberrationR: 0
- Clarity: +100
- ColorNoiseReduction: 25
- ColorNoiseReductionDetail: 50
- Contrast: +100
- ConvertToGrayscale: True
- CropAngle: 0.503465
- CropBottom: 0.96959
- CropConstrainToWarp: 0
- CropHeight: 2788
- CropLeft: 0.015985
- CropRight: 0.931472
- CropTop: 0.000087
- CropUnit: pixels
- CropWidth: 4023
- Defringe: 0
- Exposure: -1.52
- FillLight: 0
- GrainAmount: 0
- GrayMixerAqua: -19
- GrayMixerBlue: +7
- GrayMixerGreen: -25
- GrayMixerMagenta: +4
- GrayMixerOrange: -17
- GrayMixerPurple: +14
- GrayMixerRed: -8
- GrayMixerYellow: -20
- GreenHue: 0
- GreenSaturation: 0
- HasCrop: True
- HasSettings: True
- HighlightRecovery: 0
- LensManualDistortionAmount: 0
- LensProfileEnable: 0
- LensProfileSetup: LensDefaults
- LuminanceSmoothing: 0
- ParametricDarks: -16
- ParametricHighlightSplit: 75
- ParametricHighlights: 0
- ParametricLights: +67
- ParametricMidtoneSplit: 50
- ParametricShadowSplit: 10
- ParametricShadows: +100
- PerspectiveHorizontal: 0
- PerspectiveRotate: 0.0
- PerspectiveScale: 100
- PerspectiveVertical: 0
- PostCropVignetteAmount: 0
- ProcessVersion: 5.7
- RedHue: 0
- RedSaturation: 0
- ShadowTint: 0
- Shadows: 5
- SharpenDetail: 25
- SharpenEdgeMasking: 0
- SharpenRadius: +1.0
- Sharpness: 25
- SplitToningBalance: 0
- SplitToningHighlightHue: 62
- SplitToningHighlightSaturation: 57
- SplitToningShadowHue: 24
- SplitToningShadowSaturation: 19
- Temperature: 4150
- Tint: +49
- ToneCurve: 0, 0, 32, 22, 64, 56, 128, 128, 192, 196, 255, 255
- ToneCurveName: Medium Contrast
- Version: 6.1
- VignetteAmount: 0
- WhiteBalance: Custom
- XMP-exif
- DateTimeDigitized: 2012:10:26 14:36:51+04:00
- DateTimeOriginal: 2012:10:26 14:36:51+04:00
- ExifImageHeight: 4023
- ExifImageWidth: 2788
- FlashFired: False
- FlashFunction: False
- FlashMode: Off
- FlashRedEyeMode: False
- FlashReturn: No return detection
- XMP-tiff
- ImageHeight: 4023
- ImageWidth: 2788
- XMP-xmp
- CreateDate: 2012:10:26 14:36:51+04:00
- ModifyDate: 2012:10:26 20:23:07+04:00
- Просмотров: 414
- Рейтинг: голосов еще нет
- Отзывов: 0