- Раздел: Репортаж
- Дата съёмки: 14.11.2012 19:32
- Дата загрузки фото: 15.11.2012 10:40
- Оригинальная фотография: 1135 x 1080 (612 Кб)
- Технические характеристики:
- Фотоаппарат: Nikon 1 J2
- Выдержка: 1/20
- Гиперфокальное расстояние: inf m
- Диафрагма: 4,8
- Светочувствительность: 1100
- Фокусное расстояние: 71,0 mm (35 mm equivalent: 142,0 mm)
- Полный EXIF
- Adobe
- ColorTransform: YCbCr
- Composite
- Aperture: 4,8
- CircleOfConfusion: 0,011 mm
- FOV: 14,0 deg
- FocalLength35efl: 71,0 mm (35 mm equivalent: 142,0 mm)
- HyperfocalDistance: inf m
- ScaleFactor35efl: 2,7
- ShutterSpeed: 1/20
- ExifIFD
- ApertureValue: 4,8
- CFAPattern: [Red,Green][Green,Blue]
- Contrast: Normal
- CreateDate: 2012:11:14 19:32:19
- CustomRendered: Normal
- DateTimeOriginal: 2012:11:14 19:32:19
- DigitalZoomRatio: 1
- ExposureCompensation: 0
- ExposureMode: Auto
- ExposureProgram: Shutter speed priority AE
- ExposureTime: 1/20
- FNumber: 4,8
- Flash: No Flash
- FocalLength: 71,6 mm
- FocalLengthIn35mmFormat: 193 mm
- GainControl: High gain up
- ISO: 1100
- LensInfo: 30-110mm f/3.8-5.6
- LensModel: 1 NIKKOR VR 30-110mm f/3.8-5.6
- LightSource: Cool White Fluorescent
- MaxApertureValue: 4,8
- MeteringMode: Multi-segment
- Saturation: Normal
- SceneCaptureType: Standard
- SceneType: Directly photographed
- SensingMethod: One-chip color area
- SensitivityType: Recommended Exposure Index
- SerialNumber: 53001309
- Sharpness: Soft
- ShutterSpeedValue: 1/20
- SubjectDistanceRange: Unknown
- WhiteBalance: Manual
- ICC-header
- ICC-meas
- ICC-view
- IFD0
- Make: NIKON CORPORATION
- Model: NIKON 1 J2
- ModifyDate: 2012:11:15 10:26:55
- IFD1
- IPTC
- DateCreated: 2012:11:14
- System
- XMP-aux
- ApproximateFocusDistance: 4,47
- ImageNumber: 639
- Lens: 1 NIKKOR VR 30-110mm f/3.8-5.6
- XMP-crs
- AlreadyApplied: True
- AutoLateralCA: 0
- Blacks2012: 0
- BlueHue: 0
- BlueSaturation: 0
- Clarity2012: +10
- ColorNoiseReduction: 25
- ColorNoiseReductionDetail: 50
- Contrast2012: 0
- ConvertToGrayscale: False
- CropAngle: 0
- CropBottom: 0.953421
- CropConstrainToWarp: 0
- CropHeight: 1080
- CropLeft: 0.329435
- CropRight: 1
- CropTop: 0
- CropUnit: pixels
- CropWidth: 1135
- DefringeGreenAmount: 0
- DefringeGreenHueHi: 60
- DefringeGreenHueLo: 40
- DefringePurpleAmount: 0
- DefringePurpleHueHi: 70
- DefringePurpleHueLo: 30
- Exposure2012: +0.52
- GrainAmount: 0
- GreenHue: 0
- GreenSaturation: 0
- HasCrop: True
- HasSettings: True
- Highlights2012: -48
- HueAdjustmentAqua: 0
- HueAdjustmentBlue: 0
- HueAdjustmentGreen: 0
- HueAdjustmentMagenta: 0
- HueAdjustmentOrange: 0
- HueAdjustmentPurple: 0
- HueAdjustmentRed: 0
- HueAdjustmentYellow: 0
- LensManualDistortionAmount: 0
- LensProfileEnable: 0
- LensProfileSetup: LensDefaults
- LuminanceAdjustmentAqua: 0
- LuminanceAdjustmentBlue: 0
- LuminanceAdjustmentGreen: 0
- LuminanceAdjustmentMagenta: 0
- LuminanceAdjustmentOrange: 0
- LuminanceAdjustmentPurple: 0
- LuminanceAdjustmentRed: 0
- LuminanceAdjustmentYellow: 0
- LuminanceNoiseReductionContrast: 0
- LuminanceNoiseReductionDetail: 50
- LuminanceSmoothing: 20
- ParametricDarks: 0
- ParametricHighlightSplit: 75
- ParametricHighlights: 0
- ParametricLights: 0
- ParametricMidtoneSplit: 50
- ParametricShadowSplit: 25
- ParametricShadows: 0
- PerspectiveHorizontal: 0
- PerspectiveRotate: 0.0
- PerspectiveScale: 100
- PerspectiveVertical: 0
- PostCropVignetteAmount: 0
- ProcessVersion: 6.7
- RedHue: 0
- RedSaturation: 0
- Saturation: 0
- SaturationAdjustmentAqua: 0
- SaturationAdjustmentBlue: 0
- SaturationAdjustmentGreen: 0
- SaturationAdjustmentMagenta: 0
- SaturationAdjustmentOrange: 0
- SaturationAdjustmentPurple: 0
- SaturationAdjustmentRed: 0
- SaturationAdjustmentYellow: 0
- ShadowTint: 0
- Shadows2012: +25
- SharpenDetail: 25
- SharpenEdgeMasking: 0
- SharpenRadius: +1.0
- Sharpness: 25
- SplitToningBalance: 0
- SplitToningHighlightHue: 0
- SplitToningHighlightSaturation: 0
- SplitToningShadowHue: 0
- SplitToningShadowSaturation: 0
- Temperature: 3850
- Tint: +37
- ToneCurveName2012: Linear
- ToneCurvePV2012: 0, 0, 255, 255
- ToneCurvePV2012Blue: 0, 0, 255, 255
- ToneCurvePV2012Green: 0, 0, 255, 255
- ToneCurvePV2012Red: 0, 0, 255, 255
- Version: 7.2
- Vibrance: 0
- VignetteAmount: 0
- WhiteBalance: Custom
- Whites2012: +60
- XMP-dc
- XMP-xmp
- CreateDate: 2012:11:14 19:32:19.00
- ModifyDate: 2012:11:15 10:26:55+04:00
- XMP-xmpMM
- Просмотров: 342
- Рейтинг: голосов еще нет
- Отзывов: 0