- Раздел: Другое, разное
- Дата съёмки: 13.11.2012 18:31
- Дата загрузки фото: 13.02.2013 14:37
- Оригинальная фотография: 1280 x 853 (335 Кб)
- Технические характеристики:
- Фотоаппарат: Sony DSC-RX100
- Выдержка: 1/2000
- Гиперфокальное расстояние: inf m
- Диафрагма: 4,0
- Светочувствительность: 125
- Фокусное расстояние: 10,0 mm (35 mm equivalent: 20,0 mm)
- Полный EXIF
- Adobe
- ColorTransform: YCbCr
- Composite
- Aperture: 4,0
- CircleOfConfusion: 0,011 mm
- FOV: 83,0 deg
- FocalLength35efl: 10,0 mm (35 mm equivalent: 20,0 mm)
- HyperfocalDistance: inf m
- ScaleFactor35efl: 2,8
- ShutterSpeed: 1/2000
- ExifIFD
- ApertureValue: 4,0
- BrightnessValue: 10,35703125
- Contrast: Normal
- CreateDate: 2012:11:13 18:31:00
- CustomRendered: Normal
- DateTimeOriginal: 2012:11:13 18:31:00
- DigitalZoomRatio: 1
- ExposureCompensation: 0
- ExposureMode: Auto
- ExposureProgram: Aperture-priority AE
- ExposureTime: 1/2000
- FNumber: 4,0
- Flash: Off, Did not fire
- FocalLength: 10,4 mm
- FocalLengthIn35mmFormat: 28 mm
- ISO: 125
- LensInfo: 10.4-37.1mm f/1.8-4.9
- LensModel: 28-100mm F1.8-4.9
- LightSource: Unknown
- MaxApertureValue: 1,8
- MeteringMode: Multi-segment
- RecommendedExposureIndex: 125
- Saturation: Normal
- SceneCaptureType: Standard
- SceneType: Directly photographed
- SensitivityType: Recommended Exposure Index
- Sharpness: Normal
- ShutterSpeedValue: 1/2000
- WhiteBalance: Auto
- ICC-header
- ICC-meas
- ICC-view
- IFD0
- Make: SONY
- Model: DSC-RX100
- ModifyDate: 2012:11:25 20:37:03
- IFD1
- IPTC
- DateCreated: 2012:11:13
- System
- XMP-aux
- Lens: 28-100mm F1.8-4.9
- XMP-crs
- AlreadyApplied: True
- AutoLateralCA: 0
- Blacks2012: 0
- BlueHue: 0
- BlueSaturation: 0
- Clarity2012: 0
- ColorNoiseReduction: 25
- ColorNoiseReductionDetail: 50
- ColorTemperature: 5150
- Contrast2012: 0
- ConvertToGrayscale: False
- CropAngle: 0.042513
- CropBottom: 1
- CropConstrainToWarp: 0
- CropHeight: 853
- CropLeft: 0.000803
- CropRight: 0.999197
- CropTop: 0
- CropUnit: pixels
- CropWidth: 1280
- DefringeGreenAmount: 0
- DefringeGreenHueHi: 60
- DefringeGreenHueLo: 40
- DefringePurpleAmount: 0
- DefringePurpleHueHi: 70
- DefringePurpleHueLo: 30
- Exposure2012: 0.00
- GrainAmount: 0
- GreenHue: 0
- GreenSaturation: 0
- HasCrop: True
- HasSettings: True
- Highlights2012: 0
- HueAdjustmentAqua: 0
- HueAdjustmentBlue: 0
- HueAdjustmentGreen: 0
- HueAdjustmentMagenta: 0
- HueAdjustmentOrange: 0
- HueAdjustmentPurple: 0
- HueAdjustmentRed: 0
- HueAdjustmentYellow: 0
- LensManualDistortionAmount: 0
- LensProfileEnable: 0
- LensProfileSetup: LensDefaults
- LuminanceAdjustmentAqua: 0
- LuminanceAdjustmentBlue: 0
- LuminanceAdjustmentGreen: 0
- LuminanceAdjustmentMagenta: 0
- LuminanceAdjustmentOrange: 0
- LuminanceAdjustmentPurple: 0
- LuminanceAdjustmentRed: 0
- LuminanceAdjustmentYellow: 0
- LuminanceSmoothing: 0
- ParametricDarks: 0
- ParametricHighlightSplit: 75
- ParametricHighlights: 0
- ParametricLights: 0
- ParametricMidtoneSplit: 50
- ParametricShadowSplit: 25
- ParametricShadows: 0
- PerspectiveHorizontal: 0
- PerspectiveRotate: 0.0
- PerspectiveScale: 100
- PerspectiveVertical: 0
- PostCropVignetteAmount: 0
- ProcessVersion: 6.7
- RedHue: 0
- RedSaturation: 0
- Saturation: 0
- SaturationAdjustmentAqua: 0
- SaturationAdjustmentBlue: 0
- SaturationAdjustmentGreen: 0
- SaturationAdjustmentMagenta: 0
- SaturationAdjustmentOrange: 0
- SaturationAdjustmentPurple: 0
- SaturationAdjustmentRed: 0
- SaturationAdjustmentYellow: 0
- ShadowTint: 0
- Shadows2012: +50
- SharpenDetail: 25
- SharpenEdgeMasking: 0
- SharpenRadius: +1.0
- Sharpness: 25
- SplitToningBalance: 0
- SplitToningHighlightHue: 0
- SplitToningHighlightSaturation: 0
- SplitToningShadowHue: 0
- SplitToningShadowSaturation: 0
- Tint: +4
- ToneCurveName2012: Linear
- ToneCurvePV2012: 0, 0, 255, 255
- ToneCurvePV2012Blue: 0, 0, 255, 255
- ToneCurvePV2012Green: 0, 0, 255, 255
- ToneCurvePV2012Red: 0, 0, 255, 255
- Version: 7.2
- Vibrance: 0
- VignetteAmount: 0
- WhiteBalance: As Shot
- Whites2012: 0
- XMP-dc
- XMP-xmp
- ModifyDate: 2012:11:25 20:37:03+04:00
- XMP-xmpMM
- Просмотров: 134
- Рейтинг: голосов еще нет
- Отзывов: 0