- Раздел: Другое, разное
- Дата съёмки: 16.02.2013 16:07
- Дата загрузки фото: 18.02.2013 21:54
- Оригинальная фотография: 2730 x 3696 (4,3 Мб)
- Технические характеристики:
- Фотоаппарат: Nikon D3100
- Выдержка: 1/100
- Гиперфокальное расстояние: inf m
- Диафрагма: 2,8
- Светочувствительность: 400
- Фокусное расстояние: 35,0 mm (35 mm equivalent: 35,0 mm)
- Полный EXIF
- Adobe
- ColorTransform: YCbCr
- Composite
- Aperture: 2,8
- CircleOfConfusion: 0,020 mm
- DOF: inf (0,00 m - inf)
- FOV: 54,0 deg
- FocalLength35efl: 35,0 mm (35 mm equivalent: 35,0 mm)
- HyperfocalDistance: inf m
- LensID: AF-S DX Nikkor 35mm f/1.8G
- ScaleFactor35efl: 1,5
- ShutterSpeed: 1/100
- ExifIFD
- ApertureValue: 2,8
- CFAPattern: [Green,Blue][Red,Green]
- Contrast: Normal
- CreateDate: 2013:02:16 16:07:25
- CustomRendered: Normal
- DateTimeOriginal: 2013:02:16 16:07:25
- DigitalZoomRatio: 1
- ExposureCompensation: 0
- ExposureMode: Manual
- ExposureProgram: Manual
- ExposureTime: 1/100
- FNumber: 2,8
- Flash: On, Return detected
- FocalLength: 35,0 mm
- FocalLengthIn35mmFormat: 52 mm
- GainControl: Low gain up
- ISO: 400
- LensInfo: 35mm f/1.8
- LensModel: 35.0 mm f/1.8
- LightSource: Unknown
- MaxApertureValue: 1,7
- MeteringMode: Spot
- Saturation: Normal
- SceneCaptureType: Standard
- SceneType: Directly photographed
- SensingMethod: One-chip color area
- SerialNumber: 5002735
- Sharpness: Normal
- ShutterSpeedValue: 1/100
- SubjectDistance: 1,78 m
- SubjectDistanceRange: Unknown
- WhiteBalance: Auto
- ICC-header
- ICC-meas
- ICC-view
- IFD0
- Make: NIKON CORPORATION
- Model: NIKON D3100
- ModifyDate: 2013:02:17 00:23:15
- IFD1
- IPTC
- DateCreated: 2013:02:16
- System
- XMP-aux
- ApproximateFocusDistance: 1,78
- ImageNumber: 8663
- Lens: 35.0 mm f/1.8
- LensID: 159
- XMP-crs
- AlreadyApplied: True
- BlueHue: 0
- BlueSaturation: 0
- Brightness: +81
- CameraProfile: ACR 2.4
- ChromaticAberrationB: 0
- ChromaticAberrationR: 0
- Clarity: +20
- ColorNoiseReduction: 35
- ColorNoiseReductionDetail: 50
- ColorTemperature: 3335
- Contrast: +81
- ConvertToGrayscale: True
- CropAngle: -0.156317
- CropBottom: 0.900513
- CropConstrainToWarp: 0
- CropHeight: 2730
- CropLeft: 0.132101
- CropRight: 0.935791
- CropTop: 0.01513
- CropUnit: pixels
- CropWidth: 3696
- Defringe: 0
- Exposure: +0.62
- FillLight: 17
- GrainAmount: 0
- GrayMixerAqua: -27
- GrayMixerBlue: -3
- GrayMixerGreen: -34
- GrayMixerMagenta: +50
- GrayMixerOrange: +35
- GrayMixerPurple: +49
- GrayMixerRed: +45
- GrayMixerYellow: +26
- GreenHue: 0
- GreenSaturation: 0
- HasCrop: True
- HasSettings: True
- HighlightRecovery: 15
- LensManualDistortionAmount: 0
- LensProfileChromaticAberrationScale: 100
- LensProfileDistortionScale: 100
- LensProfileEnable: 1
- LensProfileFilename: NIKON D90 (Nikon AF-S DX NIKKOR 35mm f1.8G) - RAW.lcp
- LensProfileSetup: LensDefaults
- LensProfileVignettingScale: 100
- LuminanceNoiseReductionContrast: 0
- LuminanceNoiseReductionDetail: 75
- LuminanceSmoothing: 64
- PaintCorrectionActive: true
- PaintCorrectionAmount: 1.000000
- PaintCorrectionBrightness: -0.022220
- PaintCorrectionClarity: 0.377780
- PaintCorrectionContrast: 0.000000
- PaintCorrectionExposure: 0.255000
- PaintCorrectionHue: 240.000000
- PaintCorrectionMaskCenterWeight: 1.000000
- PaintCorrectionMaskFlow: 0.645000
- PaintCorrectionMaskRadius: 0.010802
- PaintCorrectionMaskValue: 0.620000
- PaintCorrectionMaskWhat: Mask/Paint
- PaintCorrectionSaturation: 0.000000
- PaintCorrectionSharpness: 0.066670
- PaintCorrectionWhat: Correction
- ParametricDarks: +17
- ParametricHighlightSplit: 75
- ParametricHighlights: -9
- ParametricLights: -14
- ParametricMidtoneSplit: 50
- ParametricShadowSplit: 25
- ParametricShadows: +14
- PerspectiveHorizontal: 0
- PerspectiveRotate: 0.0
- PerspectiveScale: 100
- PerspectiveVertical: 0
- PostCropVignetteAmount: 0
- ProcessVersion: 5.7
- RedHue: 0
- RedSaturation: 0
- ShadowTint: 0
- Shadows: 10
- SharpenDetail: 25
- SharpenEdgeMasking: 0
- SharpenRadius: +1.0
- Sharpness: 19
- SplitToningBalance: +2
- SplitToningHighlightHue: 60
- SplitToningHighlightSaturation: 19
- SplitToningShadowHue: 0
- SplitToningShadowSaturation: 0
- Tint: +3
- ToneCurve: 0, 0, 255, 255
- ToneCurveName: Linear
- Version: 6.6
- VignetteAmount: -100
- VignetteMidpoint: 20
- WhiteBalance: Custom
- XMP-dc
- XMP-xmp
- CreateDate: 2013:02:16 16:07:25.20
- ModifyDate: 2013:02:17 00:23:15+02:00
- XMP-xmpMM