- Раздел: Другое, разное
- Дата съёмки: 29.04.2011 18:53
- Дата загрузки фото: 14.03.2013 02:30
- Оригинальная фотография: 4903 x 3263 (4,3 Мб)
- Технические характеристики:
- Фотоаппарат: Sony NEX-5
- Выдержка: 1/15
- Диафрагма: 1,0
- Светочувствительность: 1600
- Полный EXIF
- Adobe
- ColorTransform: YCbCr
- Composite
- Aperture: 1,0
- CircleOfConfusion: 0,021 mm
- ScaleFactor35efl: 1,4
- ShutterSpeed: 1/15
- ExifIFD
- ApertureValue: 1,0
- BrightnessValue: -5,5
- Contrast: High
- CreateDate: 2011:04:29 18:53:18
- CustomRendered: Normal
- DateTimeOriginal: 2011:04:29 18:53:18
- ExposureCompensation: 0
- ExposureMode: Auto
- ExposureProgram: Aperture-priority AE
- ExposureTime: 1/15
- FNumber: 1,0
- Flash: Off, Did not fire
- ISO: 1600
- LensModel: ----
- LightSource: Unknown
- MaxApertureValue: 1,0
- MeteringMode: Multi-segment
- RecommendedExposureIndex: 1600
- Saturation: High
- SceneCaptureType: Standard
- SceneType: Directly photographed
- SensitivityType: Recommended Exposure Index
- Sharpness: Hard
- ShutterSpeedValue: 1/15
- WhiteBalance: Auto
- ICC-header
- ICC-meas
- ICC-view
- IFD0
- ImageDescription: SONY DSC
- Make: SONY
- Model: NEX-5
- ModifyDate: 2013:03:14 00:28:03
- IFD1
- IPTC
- Caption-Abstract: SONY DSC
- DateCreated: 2011:04:29
- System
- XMP-aux
- XMP-crs
- AlreadyApplied: True
- AutoLateralCA: 0
- Blacks2012: +25
- BlueHue: 0
- BlueSaturation: 0
- CameraProfile: Faithful
- Clarity2012: +31
- ColorNoiseReduction: 25
- ColorNoiseReductionDetail: 50
- ColorTemperature: 2450
- Contrast2012: +16
- ConvertToGrayscale: False
- DefringeGreenAmount: 0
- DefringeGreenHueHi: 60
- DefringeGreenHueLo: 40
- DefringePurpleAmount: 0
- DefringePurpleHueHi: 70
- DefringePurpleHueLo: 30
- Exposure2012: +0.68
- GrainAmount: 0
- GreenHue: 0
- GreenSaturation: 0
- HasCrop: False
- HasSettings: True
- Highlights2012: -10
- HueAdjustmentAqua: +5
- HueAdjustmentBlue: -8
- HueAdjustmentGreen: +20
- HueAdjustmentMagenta: 0
- HueAdjustmentOrange: 0
- HueAdjustmentPurple: +20
- HueAdjustmentRed: +8
- HueAdjustmentYellow: 0
- LensManualDistortionAmount: 0
- LensProfileEnable: 0
- LensProfileSetup: LensDefaults
- LuminanceAdjustmentAqua: +10
- LuminanceAdjustmentBlue: -30
- LuminanceAdjustmentGreen: -25
- LuminanceAdjustmentMagenta: +10
- LuminanceAdjustmentOrange: -10
- LuminanceAdjustmentPurple: +20
- LuminanceAdjustmentRed: 0
- LuminanceAdjustmentYellow: -10
- LuminanceNoiseReductionContrast: 23
- LuminanceNoiseReductionDetail: 27
- LuminanceSmoothing: 17
- ParametricDarks: -35
- ParametricHighlightSplit: 75
- ParametricHighlights: -20
- ParametricLights: +20
- ParametricMidtoneSplit: 35
- ParametricShadowSplit: 15
- ParametricShadows: 0
- PerspectiveHorizontal: 0
- PerspectiveRotate: 0.0
- PerspectiveScale: 100
- PerspectiveVertical: 0
- PostCropVignetteAmount: 0
- ProcessVersion: 6.7
- RedHue: 0
- RedSaturation: 0
- Saturation: +5
- SaturationAdjustmentAqua: +5
- SaturationAdjustmentBlue: -25
- SaturationAdjustmentGreen: -55
- SaturationAdjustmentMagenta: -5
- SaturationAdjustmentOrange: 0
- SaturationAdjustmentPurple: -15
- SaturationAdjustmentRed: -5
- SaturationAdjustmentYellow: -20
- ShadowTint: -2
- Shadows2012: +15
- SharpenDetail: 31
- SharpenEdgeMasking: 27
- SharpenRadius: +1.1
- Sharpness: 32
- SplitToningBalance: 0
- SplitToningHighlightHue: 0
- SplitToningHighlightSaturation: 0
- SplitToningShadowHue: 0
- SplitToningShadowSaturation: 0
- Tint: +9
- ToneCurveName2012: Custom
- ToneCurvePV2012: 0, 0, 52, 59, 128, 128, 200, 191, 255, 255
- ToneCurvePV2012Blue: 0, 0, 24, 18, 115, 134, 179, 195, 255, 255
- ToneCurvePV2012Green: 0, 0, 26, 20, 115, 133, 181, 196, 255, 255
- ToneCurvePV2012Red: 0, 0, 28, 21, 116, 133, 179, 195, 255, 255
- Version: 7.2
- Vibrance: 0
- VignetteAmount: 0
- WhiteBalance: Custom
- Whites2012: -15
- XMP-dc
- Description: SONY DSC
- Format: image/jpeg
- XMP-xmp
- ModifyDate: 2013:03:14 00:28:03+02:00
- XMP-xmpMM
- DerivedFrom:
- Просмотров: 501
- Рейтинг: голосов еще нет
- Отзывов: 0