- Раздел: Другое, разное
- Дата съёмки: 16.03.2013 14:52
- Дата загрузки фото: 31.03.2013 20:14
- Оригинальная фотография: 1280 x 1024 (401 Кб)
- Технические характеристики:
- Фотоаппарат: Canon EOS 7D
- Выдержка: 1/1600
- Гиперфокальное расстояние: inf m
- Диафрагма: 5,6
- Светочувствительность: 200
- Фокусное расстояние: 400,0 mm (35 mm equivalent: 2000,0 mm)
- Полный EXIF
- Adobe
- ColorTransform: YCbCr
- Composite
- Aperture: 5,6
- CircleOfConfusion: 0,005 mm
- DOF: inf (0,00 m - inf)
- FOV: 1,0 deg
- FocalLength35efl: 400,0 mm (35 mm equivalent: 2000,0 mm)
- HyperfocalDistance: inf m
- LensID: Canon EF 100-400mm f/4.5-5.6L IS or Sigma Lens
- ScaleFactor35efl: 6,0
- ShutterSpeed: 1/1600
- ExifIFD
- ApertureValue: 5,6
- ColorSpace: Uncalibrated
- CreateDate: 2013:03:16 14:52:20
- CustomRendered: Normal
- DateTimeOriginal: 2013:03:16 14:52:20
- ExifImageHeight: 1024
- ExifImageWidth: 1280
- ExposureCompensation: 0
- ExposureMode: Auto
- ExposureProgram: Shutter speed priority AE
- ExposureTime: 1/1600
- FNumber: 5,6
- Flash: Off, Did not fire
- FocalLength: 400,0 mm
- ISO: 200
- LensInfo: 100-400mm f/?
- LensModel: EF100-400mm f/4.5-5.6L IS USM
- MaxApertureValue: 5,7
- MeteringMode: Spot
- RecommendedExposureIndex: 200
- SceneCaptureType: Standard
- SensitivityType: Recommended Exposure Index
- SerialNumber: 3681504261
- ShutterSpeedValue: 1/1600
- SubjectDistance: 5,46 m
- WhiteBalance: Auto
- IFD0
- Make: Canon
- Model: Canon EOS 7D
- ModifyDate: 2013:03:16 21:14:29
- Orientation: Horizontal (normal)
- IFD1
- IPTC
- DateCreated: 2013:03:16
- System
- XMP-aux
- ApproximateFocusDistance: 5,46
- Firmware: 2.0.3
- FlashCompensation: 0
- ImageNumber: 0
- Lens: EF100-400mm f/4.5-5.6L IS USM
- LensID: 183
- XMP-crs
- AlreadyApplied: True
- BlueHue: 0
- BlueSaturation: 0
- Brightness: +50
- CameraProfile: Matrix
- ChromaticAberrationB: 0
- ChromaticAberrationR: 0
- Clarity: 0
- ColorNoiseReduction: 25
- ColorNoiseReductionDetail: 50
- ColorTemperature: 5850
- Contrast: +25
- ConvertToGrayscale: False
- CropAngle: 0
- CropBottom: 0.842832
- CropConstrainToWarp: 1
- CropHeight: 5
- CropLeft: 0.31106
- CropRight: 0.762989
- CropTop: 0.300518
- CropUnit: Unknown (3)
- CropWidth: 4
- Defringe: 0
- Exposure: 0.00
- FillLight: 24
- GrainAmount: 0
- GreenHue: 0
- GreenSaturation: 0
- HasCrop: True
- HasSettings: True
- HighlightRecovery: 14
- HueAdjustmentAqua: 0
- HueAdjustmentBlue: 0
- HueAdjustmentGreen: 0
- HueAdjustmentMagenta: 0
- HueAdjustmentOrange: 0
- HueAdjustmentPurple: 0
- HueAdjustmentRed: 0
- HueAdjustmentYellow: 0
- LensManualDistortionAmount: 0
- LensProfileEnable: 0
- LensProfileSetup: LensDefaults
- LuminanceAdjustmentAqua: 0
- LuminanceAdjustmentBlue: 0
- LuminanceAdjustmentGreen: 0
- LuminanceAdjustmentMagenta: 0
- LuminanceAdjustmentOrange: 0
- LuminanceAdjustmentPurple: 0
- LuminanceAdjustmentRed: 0
- LuminanceAdjustmentYellow: 0
- LuminanceSmoothing: 0
- ParametricDarks: 0
- ParametricHighlightSplit: 75
- ParametricHighlights: 0
- ParametricLights: 0
- ParametricMidtoneSplit: 50
- ParametricShadowSplit: 25
- ParametricShadows: 0
- PerspectiveHorizontal: 0
- PerspectiveRotate: 0.0
- PerspectiveScale: 100
- PerspectiveVertical: 0
- PostCropVignetteAmount: 0
- ProcessVersion: 5.7
- RawFileName: IMG_4871.CR2
- RedHue: 0
- RedSaturation: 0
- Saturation: 0
- SaturationAdjustmentAqua: 0
- SaturationAdjustmentBlue: 0
- SaturationAdjustmentGreen: 0
- SaturationAdjustmentMagenta: 0
- SaturationAdjustmentOrange: 0
- SaturationAdjustmentPurple: 0
- SaturationAdjustmentRed: 0
- SaturationAdjustmentYellow: 0
- ShadowTint: 0
- Shadows: 5
- SharpenDetail: 25
- SharpenEdgeMasking: 0
- SharpenRadius: +1.0
- Sharpness: 0
- SplitToningBalance: 0
- SplitToningHighlightHue: 0
- SplitToningHighlightSaturation: 0
- SplitToningShadowHue: 0
- SplitToningShadowSaturation: 0
- Tint: +5
- ToneCurve: 0, 0, 32, 22, 64, 56, 128, 128, 192, 196, 255, 255
- ToneCurveName: Medium Contrast
- Version: 6.5
- Vibrance: 0
- VignetteAmount: 0
- WhiteBalance: As Shot
- XMP-dc
- XMP-xmp
- CreateDate: 2013:03:16 14:52:20.00
- ModifyDate: 2013:03:16 21:14:29+04:00
- Rating: 0
- XMP-xmpMM