- Раздел: Портрет
- Дата съёмки: 12.04.2013 14:14
- Дата загрузки фото: 14.05.2013 13:48
- Оригинальная фотография: 1007 x 1050 (710 Кб)
- Технические характеристики:
- Фотоаппарат: Canon EOS 6D
- Выдержка: 1/80
- Гиперфокальное расстояние: inf m
- Диафрагма: 3,2
- Светочувствительность: 320
- Фокусное расстояние: 70,0 mm (35 mm equivalent: 280,0 mm)
- Полный EXIF
- Adobe
- ColorTransform: YCbCr
- Composite
- Aperture: 3,2
- CircleOfConfusion: 0,007 mm
- FOV: 7,0 deg
- FocalLength35efl: 70,0 mm (35 mm equivalent: 280,0 mm)
- HyperfocalDistance: inf m
- LensID: Canon EF 24-70mm f/2.8L II USM
- ScaleFactor35efl: 4,5
- ShutterSpeed: 1/80
- ExifIFD
- ApertureValue: 3,2
- CreateDate: 2013:04:12 14:14:11
- CustomRendered: Normal
- DateTimeOriginal: 2013:04:12 14:14:11
- ExposureCompensation: 0
- ExposureMode: Auto
- ExposureProgram: Program AE
- ExposureTime: 1/80
- FNumber: 3,2
- Flash: Off, Did not fire
- FocalLength: 70,0 mm
- ISO: 320
- LensInfo: 24-70mm f/?
- LensModel: EF24-70mm f/2.8L II USM
- LensSerialNumber: 9200004541
- MaxApertureValue: 2,8
- MeteringMode: Multi-segment
- RecommendedExposureIndex: 320
- SceneCaptureType: Standard
- SensitivityType: Recommended Exposure Index
- SerialNumber: 033024000315
- ShutterSpeedValue: 1/80
- WhiteBalance: Auto
- ICC-header
- ICC-meas
- ICC-view
- IFD0
- Make: Canon
- Model: Canon EOS 6D
- ModifyDate: 2013:05:14 06:21:28
- IFD1
- IPTC
- DateCreated: 2013:04:12
- System
- XMP-aux
- ApproximateFocusDistance: 3,45
- Firmware: 1.1.2
- FlashCompensation: 0
- ImageNumber: 0
- Lens: EF24-70mm f/2.8L II USM
- LensID: 495
- XMP-crs
- AlreadyApplied: True
- AutoLateralCA: 0
- Blacks2012: +6
- BlueHue: 0
- BlueSaturation: 0
- CameraProfile: Embedded
- Clarity2012: 0
- ColorNoiseReduction: 0
- Contrast2012: 0
- ConvertToGrayscale: False
- CropAngle: 14.9224
- CropBottom: 0.939943
- CropConstrainToWarp: 0
- CropHeight: 1050
- CropLeft: 0.382272
- CropRight: 0.653421
- CropTop: 0.202611
- CropUnit: pixels
- CropWidth: 1007
- DefringeGreenAmount: 0
- DefringeGreenHueHi: 60
- DefringeGreenHueLo: 40
- DefringePurpleAmount: 0
- DefringePurpleHueHi: 70
- DefringePurpleHueLo: 30
- Exposure2012: +1.10
- GrainAmount: 0
- GreenHue: 0
- GreenSaturation: 0
- HasCrop: True
- HasSettings: True
- Highlights2012: -4
- HueAdjustmentAqua: 0
- HueAdjustmentBlue: 0
- HueAdjustmentGreen: 0
- HueAdjustmentMagenta: 0
- HueAdjustmentOrange: 0
- HueAdjustmentPurple: 0
- HueAdjustmentRed: 0
- HueAdjustmentYellow: 0
- IncrementalTemperature: -4
- IncrementalTint: -10
- LensManualDistortionAmount: 0
- LensProfileEnable: 0
- LensProfileSetup: LensDefaults
- LuminanceAdjustmentAqua: 0
- LuminanceAdjustmentBlue: 0
- LuminanceAdjustmentGreen: 0
- LuminanceAdjustmentMagenta: 0
- LuminanceAdjustmentOrange: 0
- LuminanceAdjustmentPurple: 0
- LuminanceAdjustmentRed: 0
- LuminanceAdjustmentYellow: 0
- LuminanceSmoothing: 0
- PaintBasedCorrectionsLocalClarity2012: 0.000000
- PaintBasedCorrectionsLocalContrast2012: 0.000000
- PaintBasedCorrectionsLocalDefringe: 0.000000
- PaintBasedCorrectionsLocalExposure2012: 0.000000
- PaintBasedCorrectionsLocalHighlights2012: -0.851850
- PaintBasedCorrectionsLocalLuminanceNoise: 0.000000
- PaintBasedCorrectionsLocalMoire: 0.000000
- PaintBasedCorrectionsLocalShadows2012: 0.000000
- PaintBasedCorrectionsLocalTemperature: 0.000000
- PaintBasedCorrectionsLocalTint: 0.000000
- PaintCorrectionActive: true
- PaintCorrectionAmount: 1.000000
- PaintCorrectionBrightness: 0.000000
- PaintCorrectionHue: 0.000000
- PaintCorrectionMaskCenterWeight: 0.000000
- PaintCorrectionMaskFlow: 0.370000
- PaintCorrectionMaskRadius: 0.069274
- PaintCorrectionMaskValue: 0.000000
- PaintCorrectionMaskWhat: Mask/Paint
- PaintCorrectionSaturation: 0.000000
- PaintCorrectionSharpness: -1.000000
- PaintCorrectionWhat: Correction
- ParametricDarks: 0
- ParametricHighlightSplit: 75
- ParametricHighlights: 0
- ParametricLights: 0
- ParametricMidtoneSplit: 50
- ParametricShadowSplit: 25
- ParametricShadows: 0
- PerspectiveHorizontal: 0
- PerspectiveRotate: 0.0
- PerspectiveScale: 100
- PerspectiveVertical: 0
- PostCropVignetteAmount: -47
- PostCropVignetteFeather: 40
- PostCropVignetteHighlightContrast: 0
- PostCropVignetteMidpoint: 52
- PostCropVignetteRoundness: -26
- PostCropVignetteStyle: 1
- ProcessVersion: 6.7
- RedHue: 0
- RedSaturation: 0
- Saturation: 0
- SaturationAdjustmentAqua: 0
- SaturationAdjustmentBlue: 0
- SaturationAdjustmentGreen: 0
- SaturationAdjustmentMagenta: 0
- SaturationAdjustmentOrange: 0
- SaturationAdjustmentPurple: 0
- SaturationAdjustmentRed: 0
- SaturationAdjustmentYellow: 0
- ShadowTint: 0
- Shadows2012: +18
- SharpenDetail: 25
- SharpenEdgeMasking: 0
- SharpenRadius: +1.0
- Sharpness: 0
- SplitToningBalance: 0
- SplitToningHighlightHue: 0
- SplitToningHighlightSaturation: 0
- SplitToningShadowHue: 0
- SplitToningShadowSaturation: 0
- ToneCurveName2012: Linear
- ToneCurvePV2012: 0, 0, 255, 255
- ToneCurvePV2012Blue: 0, 0, 255, 255
- ToneCurvePV2012Green: 0, 0, 255, 255
- ToneCurvePV2012Red: 0, 0, 255, 255
- Version: 7.4
- Vibrance: 0
- VignetteAmount: 0
- WhiteBalance: Custom
- Whites2012: -6
- XMP-dc
- XMP-xmp
- CreateDate: 2013:04:12 14:14:11.00
- ModifyDate: 2013:05:14 06:21:28+04:00
- XMP-xmpMM
- Просмотров: 1889
- Рейтинг: голосов еще нет
- Отзывов: отключены