- Раздел: Другое, разное
- Дата съёмки: 16.06.2013 07:09
- Дата загрузки фото: 16.06.2013 12:35
- Оригинальная фотография: 1416 x 2124 (1,6 Мб)
- Технические характеристики:
- Фотоаппарат: Canon EOS 500D
- Выдержка: 1/125
- Гиперфокальное расстояние: inf m
- Диафрагма: 5,6
- Светочувствительность: 100
- Фокусное расстояние: 250,0 mm (35 mm equivalent: 750,0 mm)
- Экспокоррекция: -2/3
- Полный EXIF
- Adobe
- ColorTransform: YCbCr
- Composite
- Aperture: 5,6
- CircleOfConfusion: 0,008 mm
- FOV: 2,0 deg
- FocalLength35efl: 250,0 mm (35 mm equivalent: 750,0 mm)
- HyperfocalDistance: inf m
- LensID: Canon EF-S 55-250mm f/4-5.6 IS
- ScaleFactor35efl: 3,6
- ShutterSpeed: 1/125
- ExifIFD
- ApertureValue: 5,6
- ColorSpace: Uncalibrated
- CreateDate: 2013:06:16 07:09:34
- CustomRendered: Normal
- DateTimeOriginal: 2013:06:16 07:09:34
- ExifImageHeight: 2124
- ExifImageWidth: 1416
- ExposureCompensation: -2/3
- ExposureMode: Auto
- ExposureProgram: Aperture-priority AE
- ExposureTime: 1/125
- FNumber: 5,6
- Flash: Off, Did not fire
- FocalLength: 250,0 mm
- ISO: 100
- LensInfo: 55-250mm f/?
- LensModel: EF-S55-250mm f/4-5.6 IS
- MaxApertureValue: 5,7
- MeteringMode: Multi-segment
- OwnerName: Vladimir Cherkashin
- SceneCaptureType: Standard
- SerialNumber: 580123018
- ShutterSpeedValue: 1/125
- WhiteBalance: Auto
- ICC-header
- IFD0
- Artist: Photographer: CherVA@
- Copyright: CherVA@
- Make: Canon
- Model: Canon EOS 500D
- ModifyDate: 2013:06:16 07:45:07
- Orientation: Horizontal (normal)
- IFD1
- IPTC
- By-line: Photographer: CherVA@
- CopyrightNotice: CherVA@
- DateCreated: 2013:06:16
- System
- XMP-aux
- ApproximateFocusDistance: 4294967295
- Firmware: 1.1.1
- FlashCompensation: 0
- ImageNumber: 0
- Lens: EF-S55-250mm f/4-5.6 IS
- LensID: 49
- XMP-crs
- AlreadyApplied: True
- AutoLateralCA: 0
- Blacks2012: -23
- BlueHue: 0
- BlueSaturation: 0
- Clarity2012: +25
- ColorNoiseReduction: 0
- ColorTemperature: 5600
- Contrast2012: +23
- ConvertToGrayscale: False
- CropAngle: 0.824343
- CropBottom: 0.74398
- CropConstrainToWarp: 0
- CropHeight: 3
- CropLeft: 0.403017
- CropRight: 0.694512
- CropTop: 0.06722
- CropUnit: Unknown (3)
- CropWidth: 2
- DefringeGreenAmount: 0
- DefringeGreenHueHi: 60
- DefringeGreenHueLo: 40
- DefringePurpleAmount: 0
- DefringePurpleHueHi: 70
- DefringePurpleHueLo: 30
- Exposure2012: +0.15
- GrainAmount: 0
- GreenHue: 0
- GreenSaturation: 0
- HasCrop: True
- HasSettings: True
- Highlights2012: -22
- HueAdjustmentAqua: 0
- HueAdjustmentBlue: 0
- HueAdjustmentGreen: 0
- HueAdjustmentMagenta: 0
- HueAdjustmentOrange: 0
- HueAdjustmentPurple: 0
- HueAdjustmentRed: 0
- HueAdjustmentYellow: 0
- LensManualDistortionAmount: 0
- LensProfileEnable: 0
- LensProfileSetup: LensDefaults
- LuminanceAdjustmentAqua: 0
- LuminanceAdjustmentBlue: 0
- LuminanceAdjustmentGreen: 0
- LuminanceAdjustmentMagenta: 0
- LuminanceAdjustmentOrange: 0
- LuminanceAdjustmentPurple: 0
- LuminanceAdjustmentRed: 0
- LuminanceAdjustmentYellow: 0
- LuminanceSmoothing: 0
- ParametricDarks: 0
- ParametricHighlightSplit: 75
- ParametricHighlights: 0
- ParametricLights: 0
- ParametricMidtoneSplit: 50
- ParametricShadowSplit: 25
- ParametricShadows: 0
- PerspectiveHorizontal: 0
- PerspectiveRotate: 0.0
- PerspectiveScale: 100
- PerspectiveVertical: 0
- PostCropVignetteAmount: 0
- ProcessVersion: 6.7
- RawFileName: IMG_3818.CR2
- RedHue: 0
- RedSaturation: 0
- Saturation: 0
- SaturationAdjustmentAqua: 0
- SaturationAdjustmentBlue: 0
- SaturationAdjustmentGreen: 0
- SaturationAdjustmentMagenta: 0
- SaturationAdjustmentOrange: 0
- SaturationAdjustmentPurple: 0
- SaturationAdjustmentRed: 0
- SaturationAdjustmentYellow: 0
- ShadowTint: 0
- Shadows2012: +15
- SharpenDetail: 18
- SharpenEdgeMasking: 0
- SharpenRadius: +0.5
- Sharpness: 25
- SplitToningBalance: 0
- SplitToningHighlightHue: 0
- SplitToningHighlightSaturation: 0
- SplitToningShadowHue: 0
- SplitToningShadowSaturation: 0
- Tint: +18
- ToneCurveName2012: Linear
- ToneCurvePV2012: 0, 0, 255, 255
- ToneCurvePV2012Blue: 0, 0, 255, 255
- ToneCurvePV2012Green: 0, 0, 255, 255
- ToneCurvePV2012Red: 0, 0, 255, 255
- Version: 7.2
- Vibrance: +9
- VignetteAmount: 0
- WhiteBalance: As Shot
- Whites2012: -22
- XMP-dc
- Creator: Photographer: CherVA@
- Format: image/jpeg
- Rights: CherVA@
- XMP-xmp
- ModifyDate: 2013:06:16 07:45:07Z
- Rating: 0
- XMP-xmpMM
- Просмотров: 305
- Рейтинг: голосов еще нет
- Отзывов: 0