- Раздел: Другое, разное
- Дата съёмки: 20.04.2011 11:50
- Дата загрузки фото: 03.07.2013 14:13
- Оригинальная фотография: 2999 x 1999 (831 Кб)
- Технические характеристики:
- Фотоаппарат: Canon EOS 50D
- Выдержка: 1/125
- Гиперфокальное расстояние: inf m
- Диафрагма: 22,0
- Светочувствительность: 100
- Фокусное расстояние: 131,0 mm (35 mm equivalent: 262,0 mm)
- Полный EXIF
- Adobe
- ColorTransform: YCbCr
- Composite
- Aperture: 22,0
- CircleOfConfusion: 0,012 mm
- FOV: 7,0 deg
- FocalLength35efl: 131,0 mm (35 mm equivalent: 262,0 mm)
- HyperfocalDistance: inf m
- LensID: Canon EF-S 55-250mm f/4-5.6 IS
- ScaleFactor35efl: 2,5
- ShutterSpeed: 1/125
- ExifIFD
- ApertureValue: 22,0
- CreateDate: 2011:04:20 11:50:21
- CustomRendered: Normal
- DateTimeOriginal: 2011:04:20 11:50:21
- ExposureCompensation: 0
- ExposureMode: Auto
- ExposureProgram: Shutter speed priority AE
- ExposureTime: 1/125
- FNumber: 22,0
- Flash: Off, Did not fire
- FocalLength: 131,0 mm
- ISO: 100
- LensInfo: 55-250mm f/?
- LensModel: EF-S55-250mm f/4-5.6 IS
- MaxApertureValue: 5,2
- MeteringMode: Center-weighted average
- SceneCaptureType: Standard
- SerialNumber: 2160700889
- ShutterSpeedValue: 1/125
- WhiteBalance: Auto
- ICC-header
- ICC-meas
- ICC-view
- IFD0
- Make: Canon
- Model: Canon EOS 50D
- ModifyDate: 2013:07:01 16:52:02
- IFD1
- IPTC
- DateCreated: 2011:04:20
- System
- XMP-aux
- ApproximateFocusDistance: 4294967295
- Firmware: 1.0.7
- FlashCompensation: 0
- ImageNumber: 0
- Lens: EF-S55-250mm f/4-5.6 IS
- LensID: 49
- XMP-crs
- AlreadyApplied: True
- AutoLateralCA: 0
- Blacks2012: -43
- BlueHue: 0
- BlueSaturation: 0
- Brightness: +50
- Clarity: 0
- Clarity2012: 0
- ColorNoiseReduction: 25
- ColorNoiseReductionDetail: 50
- ColorTemperature: 5500
- Contrast: +25
- Contrast2012: -22
- ConvertToGrayscale: False
- CropAngle: 0
- CropBottom: 1
- CropConstrainToWarp: 0
- CropHeight: 1999
- CropLeft: 0.099237
- CropRight: 0.954199
- CropTop: 0.145038
- CropUnit: pixels
- CropWidth: 2999
- Defringe: 0
- Exposure: 0.00
- Exposure2012: +0.58
- FillLight: 0
- GrainAmount: 0
- GreenHue: 0
- GreenSaturation: 0
- HasCrop: True
- HasSettings: True
- HighlightRecovery: 0
- Highlights2012: +5
- HueAdjustmentAqua: 0
- HueAdjustmentBlue: 0
- HueAdjustmentGreen: +26
- HueAdjustmentMagenta: 0
- HueAdjustmentOrange: 0
- HueAdjustmentPurple: 0
- HueAdjustmentRed: 0
- HueAdjustmentYellow: 0
- LensManualDistortionAmount: 0
- LensProfileEnable: 0
- LensProfileSetup: LensDefaults
- LuminanceAdjustmentAqua: 0
- LuminanceAdjustmentBlue: 0
- LuminanceAdjustmentGreen: 0
- LuminanceAdjustmentMagenta: 0
- LuminanceAdjustmentOrange: 0
- LuminanceAdjustmentPurple: 0
- LuminanceAdjustmentRed: 0
- LuminanceAdjustmentYellow: 0
- LuminanceSmoothing: 0
- ParametricDarks: 0
- ParametricHighlightSplit: 75
- ParametricHighlights: 0
- ParametricLights: 0
- ParametricMidtoneSplit: 50
- ParametricShadowSplit: 25
- ParametricShadows: 0
- PerspectiveHorizontal: 0
- PerspectiveRotate: 0.0
- PerspectiveScale: 100
- PerspectiveVertical: 0
- PostCropVignetteAmount: 0
- ProcessVersion: 6.7
- RedHue: 0
- RedSaturation: 0
- Saturation: 0
- SaturationAdjustmentAqua: 0
- SaturationAdjustmentBlue: 0
- SaturationAdjustmentGreen: 0
- SaturationAdjustmentMagenta: 0
- SaturationAdjustmentOrange: 0
- SaturationAdjustmentPurple: 0
- SaturationAdjustmentRed: 0
- SaturationAdjustmentYellow: 0
- ShadowTint: 0
- Shadows: 5
- Shadows2012: +72
- SharpenDetail: 25
- SharpenEdgeMasking: 0
- SharpenRadius: +1.0
- Sharpness: 25
- SplitToningBalance: 0
- SplitToningHighlightHue: 0
- SplitToningHighlightSaturation: 0
- SplitToningShadowHue: 0
- SplitToningShadowSaturation: 0
- Tint: +10
- ToneCurve: 0, 0, 255, 255
- ToneCurveBlue: 0, 0, 255, 255
- ToneCurveGreen: 0, 0, 255, 255
- ToneCurveName: Linear
- ToneCurveName2012: Linear
- ToneCurvePV2012: 0, 0, 255, 255
- ToneCurvePV2012Blue: 0, 0, 255, 255
- ToneCurvePV2012Green: 0, 0, 255, 255
- ToneCurvePV2012Red: 0, 0, 255, 255
- ToneCurveRed: 0, 0, 255, 255
- Version: 7.0
- Vibrance: 0
- VignetteAmount: 0
- WhiteBalance: Daylight
- Whites2012: +40
- XMP-dc
- XMP-xmp
- CreateDate: 2011:04:20 11:50:21.14
- ModifyDate: 2013:07:01 16:52:02+04:00
- XMP-xmpMM
- Просмотров: 364
- Рейтинг: голосов еще нет
- Отзывов: 0