- Раздел: Семья, личное
- Дата съёмки: 03.09.2011 15:07
- Дата загрузки фото: 13.07.2013 10:39
- Оригинальная фотография: 768 x 1152 (353 Кб)
- Технические характеристики:
- Фотоаппарат: Canon EOS 5D Mark II
- Выдержка: 1/200
- Гиперфокальное расстояние: inf m
- Диафрагма: 2,8
- Светочувствительность: 200
- Фокусное расстояние: 50,0 mm
- Экспокоррекция: +2/3
- Полный EXIF
- Composite
- Aperture: 2,8
- CircleOfConfusion: 0,030 mm
- FocalLength35efl: 50,0 mm
- HyperfocalDistance: inf m
- LensID: Canon EF 50mm f/1.4 USM
- ScaleFactor35efl: 1,0
- ShutterSpeed: 1/200
- ExifIFD
- ApertureValue: 2,8
- ColorSpace: sRGB
- CreateDate: 2011:09:03 15:07:31
- CustomRendered: Normal
- DateTimeOriginal: 2011:09:03 15:07:31
- ExifImageHeight: 5575
- ExifImageWidth: 3717
- ExposureCompensation: +2/3
- ExposureMode: Auto
- ExposureProgram: Aperture-priority AE
- ExposureTime: 1/200
- FNumber: 2,8
- Flash: Off, Did not fire
- FocalLength: 50,0 mm
- ISO: 200
- MaxApertureValue: 1,4
- MeteringMode: Multi-segment
- SceneCaptureType: Standard
- ShutterSpeedValue: 1/200
- WhiteBalance: Auto
- ICC-header
- ICC-meas
- ICC-view
- IFD0
- BitsPerSample: 8
- ImageHeight: 5575
- ImageWidth: 3717
- LensInfo: 50mm f/?
- LensModel: EF50mm f/1.4 USM
- Make: Canon
- Model: Canon EOS 5D Mark II
- ModifyDate: 2011:09:04 11:18:02
- Orientation: Horizontal (normal)
- PhotometricInterpretation: RGB
- PlanarConfiguration: Chunky
- SamplesPerPixel: 3
- SerialNumber: 2511501175
- IFD1
- System
- XMP-aux
- Firmware: 2.0.8
- FlashCompensation: 0
- ImageNumber: 0
- Lens: EF50mm f/1.4 USM
- LensID: 198
- XMP-crs
- AlreadyApplied: True
- BlueHue: 0
- BlueSaturation: 0
- Brightness: +50
- ChromaticAberrationB: 0
- ChromaticAberrationR: 0
- Clarity: 0
- ColorNoiseReduction: 25
- ColorNoiseReductionDetail: 50
- ColorTemperature: 4500
- Contrast: +25
- ConvertToGrayscale: False
- CropAngle: 0
- CropBottom: 0.904654
- CropConstrainToWarp: 0
- CropHeight: 3148
- CropLeft: 0.075075
- CropRight: 0.915916
- CropTop: 0.063814
- CropUnit: pixels
- CropWidth: 4722
- Defringe: 0
- Exposure: -0.51
- FillLight: 40
- GradientBasedCorrActive: true
- GradientBasedCorrAmount: 1.000000
- GradientBasedCorrBrightness: 0.000000
- GradientBasedCorrClarity: 0.000000
- GradientBasedCorrContrast: 0.000000
- GradientBasedCorrExposure: 0.125000
- GradientBasedCorrHue: 0.000000
- GradientBasedCorrMaskFullX: 0.623016
- GradientBasedCorrMaskFullY: 0.039790
- GradientBasedCorrMaskValue: 1.000000
- GradientBasedCorrMaskWhat: Mask/Gradient
- GradientBasedCorrMaskZeroX: 0.569193
- GradientBasedCorrMaskZeroY: 0.381905
- GradientBasedCorrSaturation: 0.000000
- GradientBasedCorrSharpness: 0.512000
- GradientBasedCorrWhat: Correction
- GrainAmount: 0
- GreenHue: 0
- GreenSaturation: 0
- HasCrop: True
- HasSettings: True
- HighlightRecovery: 0
- HueAdjustmentAqua: 0
- HueAdjustmentBlue: 0
- HueAdjustmentGreen: 0
- HueAdjustmentMagenta: 0
- HueAdjustmentOrange: 0
- HueAdjustmentPurple: 0
- HueAdjustmentRed: 0
- HueAdjustmentYellow: 0
- LensManualDistortionAmount: 0
- LensProfileChromaticAberrationScale: 100
- LensProfileDistortionScale: 100
- LensProfileEnable: 1
- LensProfileFilename: Canon EOS-1Ds Mark III (Canon EF 50mm f1.4 USM) - RAW.lcp
- LensProfileSetup: LensDefaults
- LensProfileVignettingScale: 100
- LuminanceAdjustmentAqua: 0
- LuminanceAdjustmentBlue: 0
- LuminanceAdjustmentGreen: 0
- LuminanceAdjustmentMagenta: 0
- LuminanceAdjustmentOrange: 0
- LuminanceAdjustmentPurple: 0
- LuminanceAdjustmentRed: 0
- LuminanceAdjustmentYellow: 0
- LuminanceNoiseReductionContrast: 0
- LuminanceNoiseReductionDetail: 50
- LuminanceSmoothing: 50
- ParametricDarks: 0
- ParametricHighlightSplit: 75
- ParametricHighlights: 0
- ParametricLights: 0
- ParametricMidtoneSplit: 50
- ParametricShadowSplit: 25
- ParametricShadows: 0
- PerspectiveHorizontal: 0
- PerspectiveRotate: 0.0
- PerspectiveScale: 100
- PerspectiveVertical: 0
- PostCropVignetteAmount: 0
- ProcessVersion: 5.7
- RedHue: 0
- RedSaturation: 0
- Saturation: 0
- SaturationAdjustmentAqua: 0
- SaturationAdjustmentBlue: 0
- SaturationAdjustmentGreen: 0
- SaturationAdjustmentMagenta: 0
- SaturationAdjustmentOrange: 0
- SaturationAdjustmentPurple: 0
- SaturationAdjustmentRed: 0
- SaturationAdjustmentYellow: 0
- ShadowTint: 0
- Shadows: 5
- SharpenDetail: 50
- SharpenEdgeMasking: 25
- SharpenRadius: +1.0
- Sharpness: 25
- SplitToningBalance: 0
- SplitToningHighlightHue: 0
- SplitToningHighlightSaturation: 0
- SplitToningShadowHue: 0
- SplitToningShadowSaturation: 0
- Tint: -4
- ToneCurve: 0, 0, 32, 22, 64, 56, 128, 128, 192, 196, 255, 255
- ToneCurveName: Medium Contrast
- Version: 6.4.1
- Vibrance: 0
- VignetteAmount: 0
- WhiteBalance: As Shot
- XMP-dc
- XMP-xmp
- CreateDate: 2011:09:03 15:07:31.11
- ModifyDate: 2011:09:04 11:18:02+04:00
- XMP-xmpMM
- Просмотров: 1411
- Рейтинг: голосов еще нет
- Отзывов: 0