- Раздел: Животные
- Дата съёмки: 14.07.2013 21:04
- Дата загрузки фото: 15.07.2013 01:22
- Оригинальная фотография: 1920 x 1280 (1,1 Мб)
- Технические характеристики:
- Фотоаппарат: Canon EOS-1D X
- Выдержка: 1/2000
- Гиперфокальное расстояние: inf m
- Диафрагма: 5,6
- Светочувствительность: 12800
- Фокусное расстояние: 560,0 mm (35 mm equivalent: 1120,0 mm)
- Полный EXIF
- Adobe
- ColorTransform: YCbCr
- Composite
- Aperture: 5,6
- CircleOfConfusion: 0,011 mm
- FOV: 1,0 deg
- FocalLength35efl: 560,0 mm (35 mm equivalent: 1120,0 mm)
- HyperfocalDistance: inf m
- LensID: Canon EF200-400mm f/4L IS USM EXT
- ScaleFactor35efl: 2,7
- ShutterSpeed: 1/2000
- ExifIFD
- ApertureValue: 5,6
- ColorSpace: sRGB
- CreateDate: 2013:07:14 21:04:44
- CustomRendered: Normal
- DateTimeOriginal: 2013:07:14 21:04:44
- ExifImageHeight: 1280
- ExifImageWidth: 1920
- ExposureCompensation: 0
- ExposureMode: Manual
- ExposureProgram: Manual
- ExposureTime: 1/2000
- FNumber: 5,6
- Flash: Off, Did not fire
- FocalLength: 560,0 mm
- ISO: 12800
- LensInfo: 280-560mm f/?
- LensModel: EF200-400mm f/4L IS USM EXT
- LensSerialNumber: 0400000060
- MaxApertureValue: 5,7
- MeteringMode: Center-weighted average
- RecommendedExposureIndex: 12800
- SceneCaptureType: Standard
- SensitivityType: Recommended Exposure Index
- SerialNumber: 053011002397
- ShutterSpeedValue: 1/2000
- WhiteBalance: Manual
- ICC-header
- ICC-meas
- ICC-view
- IFD0
- Artist: Pavel "Myth" YB
- Make: Canon
- Model: Canon EOS-1D X
- ModifyDate: 2013:07:14 22:37:05
- Orientation: Horizontal (normal)
- IFD1
- IPTC
- By-line: Pavel "Myth" YB
- DateCreated: 2013:07:14
- System
- XMP-aux
- ApproximateFocusDistance: 29,6
- Firmware: 1.2.4
- FlashCompensation: 0
- ImageNumber: 0
- Lens: EF200-400mm f/4L IS USM EXT
- LensID: 499
- XMP-crs
- AlreadyApplied: True
- AutoLateralCA: 0
- Blacks2012: -14
- BlueHue: 0
- BlueSaturation: 0
- CameraProfile: Camera Standard
- Clarity2012: +10
- ColorNoiseReduction: 25
- ColorNoiseReductionDetail: 50
- ColorTemperature: 5750
- Contrast2012: -30
- ConvertToGrayscale: False
- DefringeGreenAmount: 0
- DefringeGreenHueHi: 60
- DefringeGreenHueLo: 40
- DefringePurpleAmount: 0
- DefringePurpleHueHi: 70
- DefringePurpleHueLo: 30
- Exposure2012: -0.40
- GrainAmount: 0
- GreenHue: 0
- GreenSaturation: 0
- HasCrop: False
- HasSettings: True
- Highlights2012: +30
- HueAdjustmentAqua: 0
- HueAdjustmentBlue: 0
- HueAdjustmentGreen: 0
- HueAdjustmentMagenta: 0
- HueAdjustmentOrange: 0
- HueAdjustmentPurple: 0
- HueAdjustmentRed: 0
- HueAdjustmentYellow: 0
- LensManualDistortionAmount: 0
- LensProfileEnable: 0
- LensProfileSetup: LensDefaults
- LuminanceAdjustmentAqua: 0
- LuminanceAdjustmentBlue: 0
- LuminanceAdjustmentGreen: 0
- LuminanceAdjustmentMagenta: 0
- LuminanceAdjustmentOrange: 0
- LuminanceAdjustmentPurple: 0
- LuminanceAdjustmentRed: 0
- LuminanceAdjustmentYellow: 0
- LuminanceSmoothing: 0
- ParametricDarks: 0
- ParametricHighlightSplit: 75
- ParametricHighlights: 0
- ParametricLights: 0
- ParametricMidtoneSplit: 50
- ParametricShadowSplit: 25
- ParametricShadows: 0
- PerspectiveHorizontal: 0
- PerspectiveRotate: 0.0
- PerspectiveScale: 100
- PerspectiveVertical: 0
- PostCropVignetteAmount: 0
- ProcessVersion: 6.7
- RawFileName: BUK_4815.CR2
- RedHue: 0
- RedSaturation: 0
- Saturation: 0
- SaturationAdjustmentAqua: 0
- SaturationAdjustmentBlue: 0
- SaturationAdjustmentGreen: 0
- SaturationAdjustmentMagenta: 0
- SaturationAdjustmentOrange: 0
- SaturationAdjustmentPurple: 0
- SaturationAdjustmentRed: 0
- SaturationAdjustmentYellow: 0
- ShadowTint: 0
- Shadows2012: -53
- SharpenDetail: 25
- SharpenEdgeMasking: 0
- SharpenRadius: +1.0
- Sharpness: 25
- SplitToningBalance: 0
- SplitToningHighlightHue: 0
- SplitToningHighlightSaturation: 0
- SplitToningShadowHue: 0
- SplitToningShadowSaturation: 0
- Tint: +2
- ToneCurveName2012: Linear
- ToneCurvePV2012: 0, 0, 255, 255
- ToneCurvePV2012Blue: 0, 0, 255, 255
- ToneCurvePV2012Green: 0, 0, 255, 255
- ToneCurvePV2012Red: 0, 0, 255, 255
- Version: 7.4
- Vibrance: 0
- VignetteAmount: 0
- WhiteBalance: As Shot
- Whites2012: -47
- XMP-dc
- Creator: Pavel "Myth" YB
- Format: image/jpeg
- XMP-xmp
- ModifyDate: 2013:07:14 22:37:05+04:00
- Rating: 0
- XMP-xmpMM