- Раздел: Тесты фототехники
- Дата съёмки: 31.07.2013 10:07
- Дата загрузки фото: 06.08.2013 03:05
- Оригинальная фотография: 3872 x 2592 (1,7 Мб)
- Технические характеристики:
- Фотоаппарат: Nikon 1 V1
- Выдержка: 1/50
- Гиперфокальное расстояние: inf m
- Диафрагма: 1,2
- Светочувствительность: 100
- Фокусное расстояние: 32,0 mm (35 mm equivalent: 64,0 mm)
- Полный EXIF
- Adobe
- ColorTransform: YCbCr
- Composite
- Aperture: 1,2
- CircleOfConfusion: 0,011 mm
- DOF: inf (0,00 m - inf)
- FOV: 31,0 deg
- FocalLength35efl: 32,0 mm (35 mm equivalent: 64,0 mm)
- HyperfocalDistance: inf m
- ScaleFactor35efl: 2,7
- ShutterSpeed: 1/50
- ExifIFD
- ApertureValue: 1,2
- ColorSpace: sRGB
- Contrast: Normal
- CreateDate: 2013:07:31 10:07:48
- CustomRendered: Normal
- DateTimeOriginal: 2013:07:31 10:07:48
- DigitalZoomRatio: 1
- ExifImageHeight: 2592
- ExifImageWidth: 3872
- ExposureCompensation: 0
- ExposureMode: Auto
- ExposureProgram: Aperture-priority AE
- ExposureTime: 1/50
- FNumber: 1,2
- Flash: No Flash
- FocalLength: 32,0 mm
- FocalLengthIn35mmFormat: 86 mm
- GainControl: None
- ISO: 100
- LensInfo: 32mm f/1.2
- LensModel: 1 NIKKOR 32mm f/1.2
- LightSource: Unknown
- MaxApertureValue: 1,2
- MeteringMode: Multi-segment
- Saturation: Normal
- SceneCaptureType: Standard
- SceneType: Directly photographed
- SensingMethod: One-chip color area
- SensitivityType: Recommended Exposure Index
- SerialNumber: 61009386
- Sharpness: Normal
- ShutterSpeedValue: 1/50
- SubjectDistance: 1,06 m
- SubjectDistanceRange: Unknown
- WhiteBalance: Auto
- ICC-header
- ICC-meas
- ICC-view
- IFD0
- Make: NIKON CORPORATION
- Model: NIKON 1 V1
- ModifyDate: 2013:08:06 02:50:25
- Orientation: Horizontal (normal)
- IFD1
- IPTC
- DateCreated: 2013:07:31
- System
- XMP-aux
- ApproximateFocusDistance: 1,06
- ImageNumber: 2214
- Lens: 1 NIKKOR 32mm f/1.2
- XMP-crs
- AlreadyApplied: True
- AutoLateralCA: 0
- Blacks2012: 0
- BlueHue: 0
- BlueSaturation: 0
- Brightness: +33
- Clarity: 0
- Clarity2012: 0
- ColorNoiseReduction: 25
- ColorNoiseReductionDetail: 50
- ColorTemperature: 4750
- Contrast: +44
- Contrast2012: 0
- ConvertToGrayscale: False
- Defringe: 0
- Exposure: +0.05
- Exposure2012: 0.00
- FillLight: 0
- GrainAmount: 0
- GreenHue: 0
- GreenSaturation: 0
- HasCrop: False
- HasSettings: True
- HighlightRecovery: 19
- Highlights2012: 0
- HueAdjustmentAqua: 0
- HueAdjustmentBlue: 0
- HueAdjustmentGreen: 0
- HueAdjustmentMagenta: 0
- HueAdjustmentOrange: 0
- HueAdjustmentPurple: 0
- HueAdjustmentRed: 0
- HueAdjustmentYellow: 0
- LensManualDistortionAmount: 0
- LensProfileEnable: 0
- LensProfileSetup: LensDefaults
- LuminanceAdjustmentAqua: 0
- LuminanceAdjustmentBlue: 0
- LuminanceAdjustmentGreen: 0
- LuminanceAdjustmentMagenta: 0
- LuminanceAdjustmentOrange: 0
- LuminanceAdjustmentPurple: 0
- LuminanceAdjustmentRed: 0
- LuminanceAdjustmentYellow: 0
- LuminanceSmoothing: 0
- ParametricDarks: 0
- ParametricHighlightSplit: 75
- ParametricHighlights: 0
- ParametricLights: 0
- ParametricMidtoneSplit: 50
- ParametricShadowSplit: 25
- ParametricShadows: 0
- PerspectiveHorizontal: 0
- PerspectiveRotate: 0.0
- PerspectiveScale: 100
- PerspectiveVertical: 0
- PostCropVignetteAmount: 0
- ProcessVersion: 5.7
- RawFileName: _DSC2347.NEF
- RedHue: 0
- RedSaturation: 0
- Saturation: 0
- SaturationAdjustmentAqua: 0
- SaturationAdjustmentBlue: 0
- SaturationAdjustmentGreen: 0
- SaturationAdjustmentMagenta: 0
- SaturationAdjustmentOrange: 0
- SaturationAdjustmentPurple: 0
- SaturationAdjustmentRed: 0
- SaturationAdjustmentYellow: 0
- ShadowTint: 0
- Shadows: 4
- Shadows2012: 0
- SharpenDetail: 25
- SharpenEdgeMasking: 0
- SharpenRadius: +1.0
- Sharpness: 25
- SplitToningBalance: 0
- SplitToningHighlightHue: 0
- SplitToningHighlightSaturation: 0
- SplitToningShadowHue: 0
- SplitToningShadowSaturation: 0
- Tint: +12
- ToneCurve: 0, 0, 32, 22, 64, 56, 128, 128, 192, 196, 255, 255
- ToneCurveBlue: 0, 0, 255, 255
- ToneCurveGreen: 0, 0, 255, 255
- ToneCurveName: Medium Contrast
- ToneCurveName2012: Linear
- ToneCurvePV2012: 0, 0, 255, 255
- ToneCurvePV2012Blue: 0, 0, 255, 255
- ToneCurvePV2012Green: 0, 0, 255, 255
- ToneCurvePV2012Red: 0, 0, 255, 255
- ToneCurveRed: 0, 0, 255, 255
- Version: 6.7
- Vibrance: 0
- VignetteAmount: 0
- WhiteBalance: Custom
- Whites2012: 0
- XMP-dc
- XMP-xmp
- CreateDate: 2013:07:31 10:07:48.00
- CreatorTool: Ver.1.30
- ModifyDate: 2013:08:06 02:50:25+04:00
- Rating: 0
- XMP-xmpMM
- Просмотров: 449
- Рейтинг: голосов еще нет
- Отзывов: 0