- Раздел: Тесты фототехники
- Дата съёмки: 27.07.2013 13:05
- Дата загрузки фото: 09.08.2013 20:23
- Оригинальная фотография: 1280 x 853 (450 Кб)
- Технические характеристики:
- Фотоаппарат: Canon EOS 5D Mark II
- Выдержка: 1/320
- Гиперфокальное расстояние: inf m
- Диафрагма: 2,2
- Светочувствительность: 100
- Фокусное расстояние: 100,0 mm (35 mm equivalent: 400,0 mm)
- Экспокоррекция: +2/3
- Полный EXIF
- Adobe
- ColorTransform: YCbCr
- Composite
- Aperture: 2,2
- CircleOfConfusion: 0,007 mm
- FOV: 5,0 deg
- FocalLength35efl: 100,0 mm (35 mm equivalent: 400,0 mm)
- HyperfocalDistance: inf m
- LensID: Canon EF 100mm f/2 USM
- ScaleFactor35efl: 4,3
- ShutterSpeed: 1/320
- ExifIFD
- ApertureValue: 2,2
- ColorSpace: sRGB
- CreateDate: 2013:07:27 13:05:07
- CustomRendered: Normal
- DateTimeOriginal: 2013:07:27 13:05:07
- ExifImageHeight: 853
- ExifImageWidth: 1280
- ExposureCompensation: +2/3
- ExposureMode: Auto
- ExposureProgram: Aperture-priority AE
- ExposureTime: 1/320
- FNumber: 2,2
- Flash: Off, Did not fire
- FocalLength: 100,0 mm
- ISO: 100
- LensInfo: 100mm f/?
- LensModel: EF100mm f/2 USM
- MaxApertureValue: 2,0
- MeteringMode: Multi-segment
- OwnerName: Max Levin
- SceneCaptureType: Standard
- SerialNumber: 1130711884
- ShutterSpeedValue: 1/320
- WhiteBalance: Auto
- ICC-header
- ICC-meas
- ICC-view
- IFD0
- Artist: Max Levin
- BitsPerSample: 8 8 8
- ImageHeight: 3652
- ImageWidth: 5478
- Make: Canon
- Model: Canon EOS 5D Mark II
- ModifyDate: 2013:08:07 18:27:39
- Orientation: Horizontal (normal)
- PhotometricInterpretation: RGB
- SamplesPerPixel: 3
- IFD1
- IPTC
- By-line: Max Levin
- DateCreated: 2013:07:27
- System
- XMP-aux
- ApproximateFocusDistance: 7,64
- Firmware: 2.1.2
- FlashCompensation: 0
- ImageNumber: 0
- Lens: EF100mm f/2 USM
- LensID: 149
- XMP-crs
- AlreadyApplied: True
- AutoLateralCA: 0
- Blacks2012: +8
- BlueHue: 0
- BlueSaturation: 0
- CameraProfile: Camera Standard
- Clarity2012: +22
- ColorNoiseReduction: 25
- ColorNoiseReductionDetail: 50
- ColorTemperature: 4582
- Contrast2012: 0
- ConvertToGrayscale: False
- CropAngle: -0.965339
- CropBottom: 0.975348
- CropConstrainToWarp: 0
- CropLeft: 0.006839
- CropRight: 0.993143
- CropTop: 0.024652
- DefringeGreenAmount: 0
- DefringeGreenHueHi: 60
- DefringeGreenHueLo: 40
- DefringePurpleAmount: 1
- DefringePurpleHueHi: 100
- DefringePurpleHueLo: 52
- Exposure2012: +0.11
- GrainAmount: 0
- GreenHue: 0
- GreenSaturation: 0
- HasCrop: True
- HasSettings: True
- Highlights2012: -100
- HueAdjustmentAqua: 0
- HueAdjustmentBlue: 0
- HueAdjustmentGreen: +8
- HueAdjustmentMagenta: 0
- HueAdjustmentOrange: 0
- HueAdjustmentPurple: 0
- HueAdjustmentRed: 0
- HueAdjustmentYellow: 0
- LensManualDistortionAmount: 0
- LensProfileChromaticAberrationScale: 100
- LensProfileDistortionScale: 100
- LensProfileEnable: 1
- LensProfileFilename: Canon EOS 5D Mark II (Canon EF 100mm f2 USM) - RAW.lcp
- LensProfileSetup: Custom
- LensProfileVignettingScale: 51
- LuminanceAdjustmentAqua: 0
- LuminanceAdjustmentBlue: 0
- LuminanceAdjustmentGreen: 0
- LuminanceAdjustmentMagenta: 0
- LuminanceAdjustmentOrange: 0
- LuminanceAdjustmentPurple: 0
- LuminanceAdjustmentRed: 0
- LuminanceAdjustmentYellow: 0
- LuminanceSmoothing: 0
- PaintBasedCorrectionsLocalClarity2012: 0.000000
- PaintBasedCorrectionsLocalContrast2012: 0.000000
- PaintBasedCorrectionsLocalDefringe: 0.000000
- PaintBasedCorrectionsLocalExposure2012: 0.000000
- PaintBasedCorrectionsLocalHighlights2012: 0.000000
- PaintBasedCorrectionsLocalLuminanceNoise: 0.000000
- PaintBasedCorrectionsLocalMoire: 0.000000
- PaintBasedCorrectionsLocalShadows2012: 0.663720
- PaintBasedCorrectionsLocalTemperature: 0.000000
- PaintBasedCorrectionsLocalTint: 0.000000
- PaintCorrectionActive: true
- PaintCorrectionAmount: 1.000000
- PaintCorrectionBrightness: 0.000000
- PaintCorrectionHue: 240.000000
- PaintCorrectionMaskCenterWeight: 0.390203
- PaintCorrectionMaskFlow: 1.000000
- PaintCorrectionMaskRadius: 0.066205
- PaintCorrectionMaskValue: 1.000000
- PaintCorrectionMaskWhat: Mask/Paint
- PaintCorrectionSaturation: 0.000000
- PaintCorrectionSharpness: 0.000000
- PaintCorrectionWhat: Correction
- ParametricDarks: 0
- ParametricHighlightSplit: 75
- ParametricHighlights: 0
- ParametricLights: 0
- ParametricMidtoneSplit: 50
- ParametricShadowSplit: 25
- ParametricShadows: 0
- PerspectiveAspect: 0
- PerspectiveHorizontal: 0
- PerspectiveRotate: 0.0
- PerspectiveScale: 100
- PerspectiveUpright: 0
- PerspectiveVertical: 0
- PostCropVignetteAmount: 0
- ProcessVersion: 6.7
- RedHue: 0
- RedSaturation: -12
- Saturation: +15
- SaturationAdjustmentAqua: 0
- SaturationAdjustmentBlue: -26
- SaturationAdjustmentGreen: 0
- SaturationAdjustmentMagenta: -36
- SaturationAdjustmentOrange: 0
- SaturationAdjustmentPurple: -46
- SaturationAdjustmentRed: 0
- SaturationAdjustmentYellow: -4
- ShadowTint: 0
- Shadows2012: -17
- SharpenDetail: 38
- SharpenEdgeMasking: 30
- SharpenRadius: +0.9
- Sharpness: 41
- SplitToningBalance: 0
- SplitToningHighlightHue: 0
- SplitToningHighlightSaturation: 0
- SplitToningShadowHue: 0
- SplitToningShadowSaturation: 0
- Tint: -2
- ToneCurveName2012: Custom
- ToneCurvePV2012: 0, 0, 121, 129, 255, 255
- ToneCurvePV2012Blue: 0, 0, 255, 255
- ToneCurvePV2012Green: 0, 0, 255, 255
- ToneCurvePV2012Red: 0, 0, 255, 255
- Version: 8.1
- Vibrance: +31
- VignetteAmount: 0
- WhiteBalance: Custom
- Whites2012: -20
- XMP-dc
- Creator: Max Levin
- Format: image/jpeg
- XMP-xmp
- ModifyDate: 2013:08:07 18:27:39+04:00
- XMP-xmpMM
- Просмотров: 295
- Рейтинг: голосов еще нет
- Отзывов: 0