» Участники » SVAM » Leica M » L1000438.jpg |
L1000438.jpg |
![](img/title-line.gif) |
![](img/title-shadow.gif) | |
L1000438.jpg
- Раздел: Тесты фототехники
- Дата съёмки: 08.09.2013 07:00
- Дата загрузки фото: 08.09.2013 21:53
- Оригинальная фотография: 1200 x 802 (124 Кб)
- Технические характеристики:
- Фотоаппарат: Leica Camera AG LEICA M (Typ 240)
- Выдержка: 1/500
- Диафрагма: 1,2
- Светочувствительность: 200
- Фокусное расстояние: 50,0 mm
- Полный EXIF
- Adobe
- ColorTransform: YCbCr
- Composite
- Aperture: 1,2
- FocalLength35efl: 50,0 mm
- GPSAltitude: 0 m Above Sea Level
- GPSDateTime: 2000:00:00 00:00:00Z
- ShutterSpeed: 1/500
- ExifIFD
- ApertureValue: 1,2
- ColorSpace: Uncalibrated
- Contrast: Normal
- CreateDate: 2013:09:08 07:00:06
- CustomRendered: Normal
- DateTimeOriginal: 2013:09:08 07:00:06
- DigitalZoomRatio: 0
- ExifImageHeight: 802
- ExifImageWidth: 1200
- ExposureCompensation: 0
- ExposureMode: Auto
- ExposureProgram: Aperture-priority AE
- ExposureTime: 1/500
- FNumber: 1,2
- Flash: No Flash
- FocalLength: 50,0 mm
- ISO: 200
- LightSource: Unknown
- MaxApertureValue: 1,0
- MeteringMode: Center-weighted average
- Saturation: Normal
- SceneCaptureType: Standard
- SceneType: Directly photographed
- Sharpness: Normal
- ShutterSpeedValue: 1/500
- WhiteBalance: Auto
- GPS
- GPSAltitude: 0 m
- GPSAltitudeRef: Above Sea Level
- GPSDOP: 0
- GPSDateStamp: 2000:00:00
- GPSSpeed: 0
- GPSStatus: Measurement Void
- GPSTimeStamp: 00:00:00
- GPSTrack: 0
- GPSVersionID: 2.2.0.0
- ICC-header
- IFD0
- Make: Leica Camera AG
- Model: LEICA M (Typ 240)
- ModifyDate: 2013:09:08 21:48:34
- Orientation: Horizontal (normal)
- IFD1
- IPTC
- DateCreated: 2013:09:08
- System
- XMP-aux
- XMP-crs
- AlreadyApplied: True
- BlueHue: 0
- BlueSaturation: 0
- Brightness: +50
- CameraProfile: Embedded
- ChromaticAberrationB: 0
- ChromaticAberrationR: 0
- Clarity: 0
- ColorNoiseReduction: 25
- ColorNoiseReductionDetail: 50
- ColorTemperature: 5550
- Contrast: +25
- ConvertToGrayscale: False
- Defringe: 0
- Exposure: 0.00
- FillLight: 0
- GrainAmount: 0
- GreenHue: 0
- GreenSaturation: 0
- HasCrop: False
- HasSettings: True
- HighlightRecovery: 0
- HueAdjustmentAqua: 0
- HueAdjustmentBlue: 0
- HueAdjustmentGreen: 0
- HueAdjustmentMagenta: 0
- HueAdjustmentOrange: 0
- HueAdjustmentPurple: 0
- HueAdjustmentRed: 0
- HueAdjustmentYellow: 0
- LuminanceAdjustmentAqua: 0
- LuminanceAdjustmentBlue: 0
- LuminanceAdjustmentGreen: 0
- LuminanceAdjustmentMagenta: 0
- LuminanceAdjustmentOrange: 0
- LuminanceAdjustmentPurple: 0
- LuminanceAdjustmentRed: 0
- LuminanceAdjustmentYellow: 0
- LuminanceSmoothing: 0
- ParametricDarks: -22
- ParametricHighlightSplit: 75
- ParametricHighlights: 0
- ParametricLights: 0
- ParametricMidtoneSplit: 50
- ParametricShadowSplit: 25
- ParametricShadows: 0
- PostCropVignetteAmount: 0
- ProcessVersion: 5.7
- RawFileName: L1000438.DNG
- RedHue: 0
- RedSaturation: 0
- Saturation: 0
- SaturationAdjustmentAqua: 0
- SaturationAdjustmentBlue: 0
- SaturationAdjustmentGreen: 0
- SaturationAdjustmentMagenta: 0
- SaturationAdjustmentOrange: 0
- SaturationAdjustmentPurple: 0
- SaturationAdjustmentRed: 0
- SaturationAdjustmentYellow: 0
- ShadowTint: 0
- Shadows: 5
- SharpenDetail: 25
- SharpenEdgeMasking: 0
- SharpenRadius: +1.0
- Sharpness: 25
- SplitToningBalance: 0
- SplitToningHighlightHue: 0
- SplitToningHighlightSaturation: 0
- SplitToningShadowHue: 0
- SplitToningShadowSaturation: 0
- Tint: +31
- ToneCurve: 0, 0, 32, 22, 64, 56, 128, 128, 192, 196, 255, 255
- ToneCurveName: Medium Contrast
- Version: 6.0
- Vibrance: 0
- VignetteAmount: 0
- WhiteBalance: As Shot
- XMP-dc
- XMP-xmp
- CreateDate: 2013:09:08 07:00:06+04:00
- CreatorTool: 1.1.0.2
- ModifyDate: 2013:09:08 21:48:34+04:00
- Rating: 0
- XMP-xmpMM
- Просмотров: 313
- Рейтинг: голосов еще нет
- Отзывов: 0
Получить код для блога
Вставка фотографии в текущем разрешении |
Вставка миниатюры |
HTML (для вставки в блог):
BBCode (для вставки в форум):
Ссылка на фото:
Ссылка на миниатюру:
- Послать ссылку другу
Комментарии к фотографии |