- Раздел: Пейзаж
- Дата съёмки: 01.09.2013 13:18
- Дата загрузки фото: 29.09.2013 13:26
- Оригинальная фотография: 1230 x 887 (1,0 Мб)
- Технические характеристики:
- Фотоаппарат: Samsung GT-N7100
- Выдержка: 1/480
- Диафрагма: 2,6
- Светочувствительность: 80
- Фокусное расстояние: 3,0 mm
- Полный EXIF
- Adobe
- ColorTransform: YCbCr
- Composite
- Aperture: 2,6
- FocalLength35efl: 3,0 mm
- ShutterSpeed: 1/480
- ExifIFD
- ApertureValue: 2,6
- BrightnessValue: 7,05078125
- CreateDate: 2013:09:01 13:18:47
- DateTimeOriginal: 2013:09:01 13:18:47
- ExposureCompensation: 0
- ExposureMode: Auto
- ExposureProgram: Aperture-priority AE
- ExposureTime: 1/480
- FNumber: 2,6
- Flash: No Flash
- FocalLength: 3,7 mm
- ISO: 80
- MaxApertureValue: 2,6
- MeteringMode: Center-weighted average
- SceneCaptureType: Standard
- ShutterSpeedValue: 1/480
- UserComment: С€;
- WhiteBalance: Auto
- ICC-header
- ICC-meas
- ICC-view
- IFD0
- Make: SAMSUNG
- Model: GT-N7100
- ModifyDate: 2013:09:29 13:25:24
- IFD1
- IPTC
- DateCreated: 2013:09:01
- System
- XMP-crs
- AlreadyApplied: True
- AutoLateralCA: 0
- Blacks2012: +45
- BlueHue: 0
- BlueSaturation: 0
- CameraProfile: Embedded
- Clarity2012: +21
- ColorNoiseReduction: 0
- Contrast2012: +57
- ConvertToGrayscale: False
- CropAngle: 0
- CropBottom: 1
- CropConstrainToWarp: 0
- CropHeight: 887
- CropLeft: 0
- CropRight: 1
- CropTop: 0.038674
- CropUnit: pixels
- CropWidth: 1230
- DefringeGreenAmount: 0
- DefringeGreenHueHi: 60
- DefringeGreenHueLo: 40
- DefringePurpleAmount: 0
- DefringePurpleHueHi: 70
- DefringePurpleHueLo: 30
- Exposure2012: 0.00
- GrainAmount: 0
- GreenHue: 0
- GreenSaturation: 0
- HasCrop: True
- HasSettings: True
- Highlights2012: -36
- HueAdjustmentAqua: 0
- HueAdjustmentBlue: 0
- HueAdjustmentGreen: 0
- HueAdjustmentMagenta: 0
- HueAdjustmentOrange: 0
- HueAdjustmentPurple: 0
- HueAdjustmentRed: 0
- HueAdjustmentYellow: 0
- IncrementalTemperature: 0
- IncrementalTint: 0
- LensManualDistortionAmount: 0
- LensProfileEnable: 0
- LensProfileSetup: LensDefaults
- LuminanceAdjustmentAqua: 0
- LuminanceAdjustmentBlue: 0
- LuminanceAdjustmentGreen: 0
- LuminanceAdjustmentMagenta: 0
- LuminanceAdjustmentOrange: 0
- LuminanceAdjustmentPurple: 0
- LuminanceAdjustmentRed: 0
- LuminanceAdjustmentYellow: 0
- LuminanceSmoothing: 0
- ParametricDarks: 0
- ParametricHighlightSplit: 75
- ParametricHighlights: 0
- ParametricLights: 0
- ParametricMidtoneSplit: 50
- ParametricShadowSplit: 25
- ParametricShadows: 0
- PerspectiveHorizontal: 0
- PerspectiveRotate: 0.0
- PerspectiveScale: 100
- PerspectiveVertical: 0
- PostCropVignetteAmount: 0
- ProcessVersion: 6.7
- RedHue: 0
- RedSaturation: 0
- Saturation: 0
- SaturationAdjustmentAqua: 0
- SaturationAdjustmentBlue: 0
- SaturationAdjustmentGreen: 0
- SaturationAdjustmentMagenta: 0
- SaturationAdjustmentOrange: 0
- SaturationAdjustmentPurple: 0
- SaturationAdjustmentRed: 0
- SaturationAdjustmentYellow: 0
- ShadowTint: 0
- Shadows2012: +55
- SharpenDetail: 25
- SharpenEdgeMasking: 0
- SharpenRadius: +1.0
- Sharpness: 0
- SplitToningBalance: 0
- SplitToningHighlightHue: 0
- SplitToningHighlightSaturation: 0
- SplitToningShadowHue: 0
- SplitToningShadowSaturation: 0
- ToneCurveName2012: Linear
- ToneCurvePV2012: 0, 0, 255, 255
- ToneCurvePV2012Blue: 0, 0, 255, 255
- ToneCurvePV2012Green: 0, 0, 255, 255
- ToneCurvePV2012Red: 0, 0, 255, 255
- Version: 7.4
- Vibrance: +6
- VignetteAmount: 0
- WhiteBalance: As Shot
- Whites2012: -30
- XMP-dc
- XMP-xmp
- ModifyDate: 2013:09:29 13:25:24+04:00
- XMP-xmpMM
- Просмотров: 351
- Рейтинг: голосов еще нет
- Отзывов: 0