- Раздел: Активный отдых, туризм
- Дата съёмки: 29.09.2013 11:55
- Дата загрузки фото: 30.09.2013 14:07
- Оригинальная фотография: 4592 x 2576 (3,0 Мб)
- Технические характеристики:
- Фотоаппарат: Sony NEX-5
- Выдержка: 1/125
- Гиперфокальное расстояние: inf m
- Диафрагма: 7,1
- Светочувствительность: 200
- Фокусное расстояние: 55,0 mm (35 mm equivalent: 55,0 mm)
- Полный EXIF
- Adobe
- ColorTransform: YCbCr
- Composite
- Aperture: 7,1
- CircleOfConfusion: 0,020 mm
- FOV: 36,0 deg
- Flash: Off, Did not fire
- FocalLength35efl: 55,0 mm (35 mm equivalent: 55,0 mm)
- HyperfocalDistance: inf m
- ScaleFactor35efl: 1,5
- ShutterSpeed: 1/125
- ExifIFD
- ApertureValue: 7,1
- BrightnessValue: 6,87
- Contrast: Normal
- CreateDate: 2013:09:29 11:55:11
- CustomRendered: Normal
- DateTimeOriginal: 2013:09:29 11:55:11
- ExposureCompensation: 0
- ExposureMode: Auto
- ExposureProgram: Landscape
- ExposureTime: 1/125
- FNumber: 7,1
- FocalLength: 55,0 mm
- FocalLengthIn35mmFormat: 82 mm
- ISO: 200
- LensInfo: 18-55mm f/3.5-5.6
- LensModel: E 18-55mm F3.5-5.6 OSS
- LightSource: Unknown
- MaxApertureValue: 5,6
- MeteringMode: Multi-segment
- RecommendedExposureIndex: 200
- Saturation: Normal
- SceneCaptureType: Landscape
- SceneType: Directly photographed
- SensitivityType: Recommended Exposure Index
- Sharpness: Normal
- ShutterSpeedValue: 1/125
- WhiteBalance: Auto
- ICC-header
- IFD0
- ImageDescription: SONY DSC
- Make: SONY
- Model: NEX-5
- ModifyDate: 2013:09:30 10:27:50
- Software: NEX-5 Ver.04
- IFD1
- IPTC
- Caption-Abstract: SONY DSC
- System
- XMP-aux
- Lens: E 18-55mm F3.5-5.6 OSS
- XMP-crs
- AlreadyApplied: True
- BlueHue: 0
- BlueSaturation: 0
- Brightness: +50
- ChromaticAberrationB: 0
- ChromaticAberrationR: 0
- Clarity: +18
- ColorNoiseReduction: 25
- ColorNoiseReductionDetail: 50
- ColorTemperature: 5500
- Contrast: +61
- ConvertToGrayscale: False
- Defringe: 0
- Exposure: 0.00
- FillLight: 0
- GrainAmount: 0
- GreenHue: 0
- GreenSaturation: 0
- HasCrop: False
- HasSettings: True
- HighlightRecovery: 50
- HueAdjustmentAqua: 0
- HueAdjustmentBlue: 0
- HueAdjustmentGreen: 0
- HueAdjustmentMagenta: 0
- HueAdjustmentOrange: 0
- HueAdjustmentPurple: 0
- HueAdjustmentRed: 0
- HueAdjustmentYellow: 0
- LensManualDistortionAmount: 0
- LensProfileEnable: 0
- LensProfileSetup: LensDefaults
- LuminanceAdjustmentAqua: 0
- LuminanceAdjustmentBlue: 0
- LuminanceAdjustmentGreen: 0
- LuminanceAdjustmentMagenta: 0
- LuminanceAdjustmentOrange: 0
- LuminanceAdjustmentPurple: 0
- LuminanceAdjustmentRed: 0
- LuminanceAdjustmentYellow: 0
- LuminanceSmoothing: 0
- ParametricDarks: 0
- ParametricHighlightSplit: 75
- ParametricHighlights: 0
- ParametricLights: 0
- ParametricMidtoneSplit: 50
- ParametricShadowSplit: 25
- ParametricShadows: 0
- PerspectiveHorizontal: 0
- PerspectiveRotate: 0.0
- PerspectiveScale: 100
- PerspectiveVertical: 0
- PostCropVignetteAmount: 0
- ProcessVersion: 5.7
- RawFileName: DSC04475.ARW
- RedHue: 0
- RedSaturation: 0
- Saturation: +3
- SaturationAdjustmentAqua: 0
- SaturationAdjustmentBlue: 0
- SaturationAdjustmentGreen: 0
- SaturationAdjustmentMagenta: 0
- SaturationAdjustmentOrange: 0
- SaturationAdjustmentPurple: 0
- SaturationAdjustmentRed: 0
- SaturationAdjustmentYellow: 0
- ShadowTint: 0
- Shadows: 5
- SharpenDetail: 25
- SharpenEdgeMasking: 0
- SharpenRadius: +1.0
- Sharpness: 25
- SplitToningBalance: 0
- SplitToningHighlightHue: 0
- SplitToningHighlightSaturation: 0
- SplitToningShadowHue: 0
- SplitToningShadowSaturation: 0
- Tint: +10
- ToneCurve: 0, 0, 32, 22, 64, 56, 128, 128, 192, 196, 255, 255
- ToneCurveName: Medium Contrast
- Version: 6.2
- Vibrance: +6
- VignetteAmount: 0
- WhiteBalance: Daylight
- XMP-dc
- XMP-exif
- DateTimeDigitized: 2013:09:29 11:55:11+04:00
- DateTimeOriginal: 2013:09:29 11:55:11+04:00
- ExifImageHeight: 2576
- ExifImageWidth: 4592
- FlashFired: False
- FlashFunction: False
- FlashMode: Off
- FlashRedEyeMode: False
- FlashReturn: No return detection
- SensitivityType: 2
- XMP-tiff
- ImageHeight: 2576
- ImageWidth: 4592
- XMP-xmp
- CreateDate: 2013:09:29 11:55:11+04:00
- CreatorTool: NEX-5 Ver.04
- ModifyDate: 2013:09:30 10:27:50+04:00
- Rating: 0
- Просмотров: 165
- Рейтинг: голосов еще нет
- Отзывов: 0