- Раздел: Другое, разное
- Дата съёмки: 13.10.2013 11:14
- Дата загрузки фото: 14.10.2013 00:34
- Оригинальная фотография: 3898 x 2598 (5,3 Мб)
- Технические характеристики:
- Фотоаппарат: Nikon 1 V1
- Выдержка: 1/250
- Гиперфокальное расстояние: inf m
- Диафрагма: 4,0
- Светочувствительность: 100, 100, 100, 100
- Фокусное расстояние: 10,0 mm (35 mm equivalent: 20,0 mm)
- Экспокоррекция: -2/3
- Полный EXIF
- Composite
- Aperture: 4,0
- AutoFocus: On
- BlueBalance: 1
- CircleOfConfusion: 0,011 mm
- DOF: inf (0,00 m - inf)
- FOV: 83,0 deg
- Flash: No Flash
- FocalLength35efl: 10,0 mm (35 mm equivalent: 20,0 mm)
- HyperfocalDistance: inf m
- LensSpec: 10mm f/2.8 [4]
- RedBalance: 1
- ScaleFactor35efl: 2,7
- ShutterSpeed: 1/250
- ExifIFD
- ApertureValue: 4,0
- Contrast: Normal
- CreateDate: 2013:10:13 11:14:24
- CustomRendered: Custom
- DateTimeOriginal: 2013:10:13 11:14:24
- DigitalZoomRatio: 1
- ExifImageHeight: 2598
- ExifImageWidth: 3898
- ExposureCompensation: -2/3
- ExposureMode: Auto
- ExposureProgram: Aperture-priority AE
- ExposureTime: 1/250
- FNumber: 4,0
- FocalLength: 10,0 mm
- FocalLengthIn35mmFormat: 27 mm
- GainControl: None
- ISO: 100
- ImageNumber: 1794
- LensInfo: 10mm f/2.8
- LensModel: 1 NIKKOR 10mm f/2.8
- LightSource: Unknown
- MaxApertureValue: 2,8
- MeteringMode: Multi-segment
- Saturation: Normal
- SceneCaptureType: Standard
- SceneType: Directly photographed
- SensingMethod: One-chip color area
- SerialNumber: 61021326
- Sharpness: Normal
- ShutterSpeedValue: 1/250
- SubjectDistance: 4,73 m
- SubjectDistanceRange: Unknown
- WhiteBalance: Auto
- ICC-header
- ICC-meas
- IFD0
- Make: NIKON CORPORATION
- Model: NIKON 1 V1
- ModifyDate: 2013:10:13 11:14:24
- IPTC
- DateCreated: 2013:10:13
- Nikon
- AFAreaMode: Unknown (128)
- AFFineTune: Off
- AFFineTuneAdj: 0
- AFFineTuneIndex: n/a
- AFInfo2Version: 0200
- AFPointsUsed: Unknown (01 00 00 00 00 00 00)
- ActiveD-Lighting: Auto
- Brightness: User
- ColorBalanceUnknown: 0400Вю"цоУFфщ¬&Ќ‘BЊе°жJЁ"єqW2ColorSpace: sRGB
- Contrast: User
- ContrastDetectAF: Off
- ContrastDetectAFInFocus: No
- CropHiSpeed: Off (3904x2606 cropped to 3904x2606 at pixel 0,0)
- DateDisplayFormat: D/M/Y
- DaylightSavings: No
- ExposureDifference: 0
- ExternalFlashExposureComp: 0
- FilterEffect: n/a
- FlashExposureComp: 0
- FlashInfoVersion: 0200
- FlashMode: Did Not Fire
- FlashSetting:
- FlashType:
- FocusMode: AF-C
- HighISONoiseReduction: Off
- HueAdjustment: None
- ISO2: 100
- ISOExpansion: Off
- ISOExpansion2: Off
- Lens: 10mm f/2.8
- LensDataVersion: 0401
- LensFStops: 8,00
- LensType: [4]
- MakerNoteVersion: 2.10
- NEFCompression: Lossy (type 2)
- NoiseReduction: Off
- PhaseDetectAF: Unknown (4)
- PictureControlAdjust: Default Settings
- PictureControlBase: Neutral
- PictureControlName: Fuji Superia Reala
- PictureControlQuickAdjust: n/a
- PictureControlVersion: 0100
- PrimaryAFPoint: Center
- ProgramShift: 0
- Quality: RAW
- RawImageCenter: 1948 1302
- Sharpness: 2
- ShootingMode: Continuous
- ShotInfoVersion: 0400
- ShutterCount: 1794
- Timezone: +03:00
- ToningEffect: n/a
- ToningSaturation: n/a
- VRInfoVersion: 0101
- VariProgram:
- VibrationReduction: Unknown (0)
- WB_RBLevels: 1,7890625 1,82421875 1 1
- WhiteBalanceFineTune: 0 -1
- PreviewIFD
- System
- XMP-aux
- ApproximateFocusDistance: 4,73
- XMP-crs
- AlreadyApplied: False
- AutoLateralCA: 0
- Blacks2012: 0
- BlueHue: 0
- BlueSaturation: 0
- Brightness: +50
- Clarity: +42
- Clarity2012: 0
- ColorNoiseReduction: 25
- ColorNoiseReductionDetail: 50
- Contrast2012: 0
- ConvertToGrayscale: False
- Defringe: 0
- Exposure: -1.75
- Exposure2012: 0.00
- FillLight: 19
- GrainAmount: 0
- GreenHue: 0
- GreenSaturation: 0
- HasCrop: False
- HasSettings: True
- HighlightRecovery: 43
- Highlights2012: 0
- HueAdjustmentAqua: 0
- HueAdjustmentBlue: 0
- HueAdjustmentGreen: 0
- HueAdjustmentMagenta: 0
- HueAdjustmentOrange: 0
- HueAdjustmentPurple: 0
- HueAdjustmentRed: 0
- HueAdjustmentYellow: 0
- LensManualDistortionAmount: 0
- LensProfileEnable: 0
- LensProfileSetup: LensDefaults
- LuminanceAdjustmentAqua: 0
- LuminanceAdjustmentBlue: 0
- LuminanceAdjustmentGreen: 0
- LuminanceAdjustmentMagenta: 0
- LuminanceAdjustmentOrange: 0
- LuminanceAdjustmentPurple: 0
- LuminanceAdjustmentRed: 0
- LuminanceAdjustmentYellow: 0
- LuminanceSmoothing: 0
- ParametricDarks: 0
- ParametricHighlightSplit: 75
- ParametricHighlights: 0
- ParametricLights: 0
- ParametricMidtoneSplit: 50
- ParametricShadowSplit: 25
- ParametricShadows: 0
- PerspectiveHorizontal: 0
- PerspectiveRotate: 0.0
- PerspectiveScale: 100
- PerspectiveVertical: 0
- PostCropVignetteAmount: 0
- ProcessVersion: 5.7
- RawFileName: DSC_1780.NEF
- RedHue: 0
- RedSaturation: 0
- SaturationAdjustmentAqua: 0
- SaturationAdjustmentBlue: 0
- SaturationAdjustmentGreen: 0
- SaturationAdjustmentMagenta: 0
- SaturationAdjustmentOrange: 0
- SaturationAdjustmentPurple: 0
- SaturationAdjustmentRed: 0
- SaturationAdjustmentYellow: 0
- ShadowTint: 0
- Shadows: 0
- Shadows2012: 0
- SharpenDetail: 25
- SharpenEdgeMasking: 0
- SharpenRadius: +1.0
- SplitToningBalance: 0
- SplitToningHighlightHue: 0
- SplitToningHighlightSaturation: 0
- SplitToningShadowHue: 0
- SplitToningShadowSaturation: 0
- Tint: +25
- ToneCurve: 0, 0, 32, 22, 64, 56, 128, 128, 192, 196, 255, 255
- ToneCurveBlue: 0, 0, 255, 255
- ToneCurveGreen: 0, 0, 255, 255
- ToneCurveName: Medium Contrast
- ToneCurveName2012: Linear
- ToneCurvePV2012: 0, 0, 255, 255
- ToneCurvePV2012Blue: 0, 0, 255, 255
- ToneCurvePV2012Green: 0, 0, 255, 255
- ToneCurvePV2012Red: 0, 0, 255, 255
- ToneCurveRed: 0, 0, 255, 255
- Version: 6.7
- Vibrance: 0
- VignetteAmount: 0
- Whites2012: 0
- XMP-dc
- Format: image/x-nikon-nef
- XMP-exif
- ColorSpace: sRGB
- FlashFired: False
- FlashFunction: False
- FlashMode: Unknown
- FlashRedEyeMode: False
- FlashReturn: No return detection
- GPSVersionID: 2.3.0.0
- ISO: 100, 100, 100, 100
- XMP-x
- XMP-xmp
- CreatorTool: Ver.1.30
- Rating: 0
- XMP-xmpMM
- Просмотров: 271
- Рейтинг: голосов еще нет
- Отзывов: 0