- Раздел: Натюрморт
- Дата съёмки: 26.10.2013 17:55
- Дата загрузки фото: 27.10.2013 15:03
- Оригинальная фотография: 4628 x 4970 (4,6 Мб)
- Технические характеристики:
- Фотоаппарат: Panasonic DMC-G5
- Выдержка: 3,2
- Гиперфокальное расстояние: inf m
- Диафрагма: 14,0
- Светочувствительность: 160
- Фокусное расстояние: 18,0 mm (35 mm equivalent: 36,0 mm)
- Полный EXIF
- Adobe
- ColorTransform: YCbCr
- Composite
- Aperture: 14,0
- CircleOfConfusion: 0,015 mm
- FOV: 53,0 deg
- FocalLength35efl: 18,0 mm (35 mm equivalent: 36,0 mm)
- HyperfocalDistance: inf m
- LightValue: 5,4
- ScaleFactor35efl: 2,0
- ShutterSpeed: 3,2
- ExifIFD
- ApertureValue: 14,0
- ColorSpace: sRGB
- Contrast: Normal
- CreateDate: 2013:10:26 17:55:27
- CustomRendered: Normal
- DateTimeOriginal: 2013:10:26 17:55:27
- DigitalZoomRatio: 0
- ExifImageHeight: 4970
- ExifImageWidth: 4628
- ExposureCompensation: 0
- ExposureMode: Manual
- ExposureProgram: Manual
- ExposureTime: 3,2
- FNumber: 14,0
- Flash: Off, Did not fire
- FocalLength: 18,0 mm
- FocalLengthIn35mmFormat: 36 mm
- GainControl: Low gain up
- ISO: 160
- LensModel: LUMIX G VARIO PZ 14-42/F3.5-5.6
- LensSerialNumber: 02HI9291874N
- LightSource: Unknown
- MaxApertureValue: 4,3
- MeteringMode: Multi-segment
- Saturation: Normal
- SceneCaptureType: Standard
- SceneType: Directly photographed
- SensingMethod: One-chip color area
- Sharpness: Hard
- ShutterSpeedValue: 3,2
- WhiteBalance: Auto
- ICC-header
- ICC-meas
- ICC-view
- IFD0
- BitsPerSample: 8 8 8
- ImageHeight: 4970
- ImageWidth: 4628
- Make: Panasonic
- Model: DMC-G5
- ModifyDate: 2013:10:27 14:54:40
- Orientation: Horizontal (normal)
- PhotometricInterpretation: RGB
- SamplesPerPixel: 3
- IFD1
- IPTC
- DateCreated: 2013:10:26
- System
- XMP-aux
- Lens: LUMIX G VARIO PZ 14-42/F3.5-5.6
- XMP-crs
- AlreadyApplied: True
- AutoLateralCA: 0
- Blacks2012: 0
- BlueHue: 0
- BlueSaturation: 0
- Clarity2012: +11
- ColorNoiseReduction: 25
- ColorNoiseReductionDetail: 50
- ColorTemperature: 4273
- Contrast2012: +9
- ConvertToGrayscale: False
- CropAngle: -0.657365
- CropBottom: 0.97896
- CropConstrainToWarp: 0
- CropHeight: 4970
- CropLeft: 0.036719
- CropRight: 0.721899
- CropTop: 0.020122
- CropUnit: pixels
- CropWidth: 4628
- DefringeGreenAmount: 0
- DefringeGreenHueHi: 60
- DefringeGreenHueLo: 40
- DefringePurpleAmount: 0
- DefringePurpleHueHi: 70
- DefringePurpleHueLo: 30
- Exposure2012: 0.00
- GrainAmount: 0
- GreenHue: 0
- GreenSaturation: 0
- HasCrop: True
- HasSettings: True
- Highlights2012: +5
- HueAdjustmentAqua: 0
- HueAdjustmentBlue: 0
- HueAdjustmentGreen: 0
- HueAdjustmentMagenta: +100
- HueAdjustmentOrange: 0
- HueAdjustmentPurple: 0
- HueAdjustmentRed: 0
- HueAdjustmentYellow: 0
- LensManualDistortionAmount: 0
- LensProfileEnable: 0
- LensProfileSetup: LensDefaults
- LuminanceAdjustmentAqua: -70
- LuminanceAdjustmentBlue: -62
- LuminanceAdjustmentGreen: -53
- LuminanceAdjustmentMagenta: +9
- LuminanceAdjustmentOrange: -6
- LuminanceAdjustmentPurple: -28
- LuminanceAdjustmentRed: -2
- LuminanceAdjustmentYellow: -15
- LuminanceSmoothing: 0
- ParametricDarks: 0
- ParametricHighlightSplit: 75
- ParametricHighlights: 0
- ParametricLights: 0
- ParametricMidtoneSplit: 50
- ParametricShadowSplit: 25
- ParametricShadows: 0
- PerspectiveHorizontal: 0
- PerspectiveRotate: 0.0
- PerspectiveScale: 100
- PerspectiveVertical: 0
- PostCropVignetteAmount: 0
- ProcessVersion: 6.7
- RedHue: 0
- RedSaturation: 0
- Saturation: 0
- SaturationAdjustmentAqua: -36
- SaturationAdjustmentBlue: -57
- SaturationAdjustmentGreen: +28
- SaturationAdjustmentMagenta: -55
- SaturationAdjustmentOrange: +2
- SaturationAdjustmentPurple: -53
- SaturationAdjustmentRed: +13
- SaturationAdjustmentYellow: -17
- ShadowTint: -27
- Shadows2012: +20
- SharpenDetail: 25
- SharpenEdgeMasking: 0
- SharpenRadius: +1.0
- Sharpness: 25
- SplitToningBalance: 0
- SplitToningHighlightHue: 0
- SplitToningHighlightSaturation: 0
- SplitToningShadowHue: 0
- SplitToningShadowSaturation: 0
- Tint: +17
- ToneCurveName2012: Linear
- ToneCurvePV2012: 0, 0, 255, 255
- ToneCurvePV2012Blue: 0, 0, 255, 255
- ToneCurvePV2012Green: 0, 0, 255, 255
- ToneCurvePV2012Red: 0, 0, 255, 255
- Version: 7.2
- Vibrance: 0
- VignetteAmount: 0
- WhiteBalance: Custom
- Whites2012: -34
- XMP-dc
- XMP-xmp
- ModifyDate: 2013:10:27 14:54:40+04:00
- Rating: 1
- XMP-xmpMM