- Раздел: Путешествия
- Дата съёмки: 13.10.2013 13:23
- Дата загрузки фото: 17.11.2013 11:04
- Оригинальная фотография: 800 x 533 ( 78 Кб)
- Технические характеристики:
- Фотоаппарат: Canon EOS 650D
- Выдержка: 1/1000
- Гиперфокальное расстояние: inf m
- Диафрагма: 8,0
- Светочувствительность: 100
- Фокусное расстояние: 200,0 mm (35 mm equivalent: 2000,0 mm)
- Экспокоррекция: -1
- Полный EXIF
- Adobe
- ColorTransform: YCbCr
- Composite
- Aperture: 8,0
- CircleOfConfusion: 0,003 mm
- FOV: 1,0 deg
- FocalLength35efl: 200,0 mm (35 mm equivalent: 2000,0 mm)
- HyperfocalDistance: inf m
- LensID: Canon EF-S 18-200mm f/3.5-5.6 IS
- ScaleFactor35efl: 10,3
- ShutterSpeed: 1/1000
- ExifIFD
- ApertureValue: 8,0
- ColorSpace: Uncalibrated
- CreateDate: 2013:10:13 13:23:53
- CustomRendered: Normal
- DateTimeOriginal: 2013:10:13 13:23:53
- ExifImageHeight: 533
- ExifImageWidth: 800
- ExposureCompensation: -1
- ExposureMode: Auto
- ExposureProgram: Aperture-priority AE
- ExposureTime: 1/1000
- FNumber: 8,0
- Flash: Off, Did not fire
- FocalLength: 200,0 mm
- ISO: 100
- LensInfo: 18-200mm f/?
- LensModel: EF-S18-200mm f/3.5-5.6 IS
- LensSerialNumber: 000043ec8d
- MaxApertureValue: 5,7
- MeteringMode: Multi-segment
- RecommendedExposureIndex: 100
- SceneCaptureType: Standard
- SensitivityType: Recommended Exposure Index
- SerialNumber: 083033023315
- ShutterSpeedValue: 1/1000
- WhiteBalance: Auto
- ICC-header
- IFD0
- BitsPerSample: 8 8 8
- ImageHeight: 3456
- ImageWidth: 5184
- Make: Canon
- Model: Canon EOS 650D
- ModifyDate: 2013:11:17 01:22:42
- Orientation: Horizontal (normal)
- PhotometricInterpretation: RGB
- SamplesPerPixel: 3
- IFD1
- IPTC
- DateCreated: 2013:10:13
- System
- XMP-aux
- ApproximateFocusDistance: 0,62
- Firmware: 1.0.1
- FlashCompensation: 0
- ImageNumber: 0
- Lens: EF-S18-200mm f/3.5-5.6 IS
- LensID: 50
- XMP-crs
- AlreadyApplied: True
- AutoLateralCA: 0
- BlueHue: 0
- BlueSaturation: 0
- Brightness: +125
- Clarity: +91
- ColorNoiseReduction: 25
- ColorTemperature: 4850
- Contrast: +47
- ConvertToGrayscale: False
- CropAngle: 0
- CropBottom: 1
- CropConstrainToWarp: 1
- CropLeft: 0
- CropRight: 1
- CropTop: 0
- DefringeGreenAmount: 0
- DefringeGreenHueHi: 60
- DefringeGreenHueLo: 40
- DefringePurpleAmount: 0
- DefringePurpleHueHi: 70
- DefringePurpleHueLo: 30
- Exposure: -1.80
- FillLight: 0
- GrainAmount: 0
- GreenHue: 0
- GreenSaturation: 0
- HasCrop: True
- HasSettings: True
- HighlightRecovery: 4
- HueAdjustmentAqua: 0
- HueAdjustmentBlue: 0
- HueAdjustmentGreen: 0
- HueAdjustmentMagenta: 0
- HueAdjustmentOrange: 0
- HueAdjustmentPurple: 0
- HueAdjustmentRed: 0
- HueAdjustmentYellow: 0
- LensManualDistortionAmount: 0
- LensProfileEnable: 0
- LensProfileSetup: LensDefaults
- LuminanceAdjustmentAqua: 0
- LuminanceAdjustmentBlue: 0
- LuminanceAdjustmentGreen: 0
- LuminanceAdjustmentMagenta: 0
- LuminanceAdjustmentOrange: 0
- LuminanceAdjustmentPurple: 0
- LuminanceAdjustmentRed: 0
- LuminanceAdjustmentYellow: 0
- LuminanceSmoothing: 0
- ParametricDarks: 0
- ParametricHighlightSplit: 75
- ParametricHighlights: 0
- ParametricLights: 0
- ParametricMidtoneSplit: 50
- ParametricShadowSplit: 25
- ParametricShadows: 0
- PerspectiveAspect: 0
- PerspectiveHorizontal: 0
- PerspectiveRotate: 0.0
- PerspectiveScale: 100
- PerspectiveUpright: 0
- PerspectiveVertical: 0
- PostCropVignetteAmount: 0
- ProcessVersion: 5.0
- RawFileName: 2013.10.13.13.23.53.CR2
- RedHue: 0
- RedSaturation: 0
- Saturation: 0
- SaturationAdjustmentAqua: 0
- SaturationAdjustmentBlue: 0
- SaturationAdjustmentGreen: 0
- SaturationAdjustmentMagenta: 0
- SaturationAdjustmentOrange: 0
- SaturationAdjustmentPurple: 0
- SaturationAdjustmentRed: 0
- SaturationAdjustmentYellow: 0
- ShadowTint: 0
- Shadows: 7
- SharpenDetail: 25
- SharpenEdgeMasking: 0
- SharpenRadius: +1.0
- Sharpness: 25
- SplitToningBalance: 0
- SplitToningHighlightHue: 0
- SplitToningHighlightSaturation: 0
- SplitToningShadowHue: 0
- SplitToningShadowSaturation: 0
- Tint: +7
- ToneCurve: 0, 0, 32, 22, 64, 56, 128, 128, 192, 196, 255, 255
- ToneCurveBlue: 0, 0, 255, 255
- ToneCurveGreen: 0, 0, 255, 255
- ToneCurveName: Medium Contrast
- ToneCurveRed: 0, 0, 255, 255
- Version: 8.1
- Vibrance: 0
- VignetteAmount: 0
- WhiteBalance: As Shot
- XMP-dc
- XMP-xmp
- ModifyDate: 2013:11:17 01:22:42+04:00
- XMP-xmpMM
- Просмотров: 98
- Рейтинг: голосов еще нет
- Отзывов: 0