- Раздел: Другое, разное
- Дата съёмки: 31.12.2012 16:57
- Дата загрузки фото: 18.11.2013 20:25
- Оригинальная фотография: 718 x 479 (154 Кб)
- Технические характеристики:
- Фотоаппарат: Nikon D800
- Выдержка: 1/60
- Гиперфокальное расстояние: inf m
- Диафрагма: 2,8
- Светочувствительность: 500
- Фокусное расстояние: 135,0 mm (35 mm equivalent: 135,0 mm)
- Полный EXIF
- Adobe
- ColorTransform: YCbCr
- Composite
- Aperture: 2,8
- CircleOfConfusion: 0,030 mm
- FOV: 15,0 deg
- FocalLength35efl: 135,0 mm (35 mm equivalent: 135,0 mm)
- HyperfocalDistance: inf m
- ScaleFactor35efl: 1,0
- ShutterSpeed: 1/60
- ExifIFD
- ApertureValue: 2,8
- CFAPattern: [Red,Green][Green,Blue]
- Contrast: Normal
- CreateDate: 2012:12:31 16:57:37
- CustomRendered: Normal
- DateTimeOriginal: 2012:12:31 16:57:37
- DigitalZoomRatio: 1
- ExposureCompensation: 0
- ExposureMode: Auto
- ExposureProgram: Aperture-priority AE
- ExposureTime: 1/60
- FNumber: 2,8
- Flash: On, Return detected
- FocalLength: 135,0 mm
- FocalLengthIn35mmFormat: 135 mm
- GainControl: Low gain up
- ISO: 500
- LensInfo: 0mm f/0
- LensModel: 0.0 mm f/0.0
- LightSource: Unknown
- MaxApertureValue: 1,0
- MeteringMode: Center-weighted average
- Saturation: Normal
- SceneCaptureType: Standard
- SceneType: Directly photographed
- SensingMethod: One-chip color area
- SensitivityType: Recommended Exposure Index
- SerialNumber: 6060858
- Sharpness: Normal
- ShutterSpeedValue: 1/60
- SubjectDistanceRange: Unknown
- WhiteBalance: Auto
- ICC-header
- ICC-meas
- ICC-view
- IFD0
- Copyright: DMITRY PODKIDISEV
- Make: NIKON CORPORATION
- Model: NIKON D800
- ModifyDate: 2013:11:18 16:23:12
- IFD1
- IPTC
- CopyrightNotice: DMITRY PODKIDISEV
- DateCreated: 2012:12:31
- System
- XMP-aux
- ImageNumber: 1952
- Lens: 0.0 mm f/0.0
- XMP-crs
- AlreadyApplied: True
- AutoLateralCA: 0
- Blacks2012: 0
- BlueHue: 0
- BlueSaturation: 0
- Clarity2012: 0
- ColorNoiseReduction: 25
- ColorNoiseReductionDetail: 50
- ColorTemperature: 5000
- Contrast2012: +23
- ConvertToGrayscale: True
- CropAngle: 0
- CropBottom: 0.603905
- CropConstrainToWarp: 0
- CropLeft: 0.590316
- CropRight: 0.655493
- CropTop: 0.457462
- Exposure2012: 0.00
- GrainAmount: 0
- GrayMixerAqua: -20
- GrayMixerBlue: +4
- GrayMixerGreen: -22
- GrayMixerMagenta: +7
- GrayMixerOrange: -11
- GrayMixerPurple: +12
- GrayMixerRed: -2
- GrayMixerYellow: -15
- GreenHue: 0
- GreenSaturation: 0
- HasCrop: True
- HasSettings: True
- Highlights2012: 0
- LensManualDistortionAmount: 0
- LensProfileEnable: 0
- LensProfileSetup: LensDefaults
- LuminanceSmoothing: 0
- ParametricDarks: 0
- ParametricHighlightSplit: 75
- ParametricHighlights: 0
- ParametricLights: 0
- ParametricMidtoneSplit: 50
- ParametricShadowSplit: 25
- ParametricShadows: 0
- PerspectiveAspect: 0
- PerspectiveHorizontal: 0
- PerspectiveRotate: 0.0
- PerspectiveScale: 100
- PerspectiveUpright: 0
- PerspectiveVertical: 0
- PostCropVignetteAmount: 0
- ProcessVersion: 6.7
- RedHue: 0
- RedSaturation: 0
- ShadowTint: 0
- Shadows2012: 0
- SharpenDetail: 25
- SharpenEdgeMasking: 0
- SharpenRadius: +1.0
- Sharpness: 25
- SplitToningBalance: 0
- SplitToningHighlightHue: 0
- SplitToningHighlightSaturation: 0
- SplitToningShadowHue: 0
- SplitToningShadowSaturation: 0
- Tint: -5
- ToneCurveName2012: Linear
- ToneCurvePV2012: 0, 0, 255, 255
- ToneCurvePV2012Blue: 0, 0, 255, 255
- ToneCurvePV2012Green: 0, 0, 255, 255
- ToneCurvePV2012Red: 0, 0, 255, 255
- Version: 8.1
- VignetteAmount: 0
- WhiteBalance: As Shot
- Whites2012: 0
- XMP-dc
- Format: image/jpeg
- Rights: DMITRY PODKIDISEV
- XMP-xmp
- CreateDate: 2012:12:31 16:57:37.60
- ModifyDate: 2013:11:18 16:23:12Z
- XMP-xmpMM
- Просмотров: 413
- Рейтинг: голосов еще нет
- Отзывов: 0